BEGIN:VCALENDAR
VERSION:2.0
PRODID:-//SplitBunch Events - ECPv6.15.13//NONSGML v1.0//EN
CALSCALE:GREGORIAN
METHOD:PUBLISH
X-ORIGINAL-URL:https://events.splitbunch.com
X-WR-CALDESC:Events for SplitBunch Events
REFRESH-INTERVAL;VALUE=DURATION:PT1H
X-Robots-Tag:noindex
X-PUBLISHED-TTL:PT1H
BEGIN:VTIMEZONE
TZID:America/Los_Angeles
BEGIN:DAYLIGHT
TZOFFSETFROM:-0800
TZOFFSETTO:-0700
TZNAME:PDT
DTSTART:20240310T100000
END:DAYLIGHT
BEGIN:STANDARD
TZOFFSETFROM:-0700
TZOFFSETTO:-0800
TZNAME:PST
DTSTART:20241103T090000
END:STANDARD
BEGIN:DAYLIGHT
TZOFFSETFROM:-0800
TZOFFSETTO:-0700
TZNAME:PDT
DTSTART:20250309T100000
END:DAYLIGHT
BEGIN:STANDARD
TZOFFSETFROM:-0700
TZOFFSETTO:-0800
TZNAME:PST
DTSTART:20251102T090000
END:STANDARD
BEGIN:DAYLIGHT
TZOFFSETFROM:-0800
TZOFFSETTO:-0700
TZNAME:PDT
DTSTART:20260308T100000
END:DAYLIGHT
BEGIN:STANDARD
TZOFFSETFROM:-0700
TZOFFSETTO:-0800
TZNAME:PST
DTSTART:20261101T090000
END:STANDARD
END:VTIMEZONE
BEGIN:VEVENT
DTSTART;TZID=America/Los_Angeles:20250616T130000
DTEND;TZID=America/Los_Angeles:20250731T150000
DTSTAMP:20260422T220807
CREATED:20250728T022535Z
LAST-MODIFIED:20250728T022535Z
UID:1970-1750078800-1753974000@events.splitbunch.com
SUMMARY:Summer Reading with Bay Area Tutoring
DESCRIPTION:Get ready for an exciting summer of learning with Bay Area Tutoring! Dive into a fun and engaging environment where reading comes to life through interactive activities and games. \n\nWork in small groups to boost your reading skills!\nPrevent summer learning loss while exploring new stories and adventures!\nParticipate in San Jose Public Library’s Summer Learning program and visit the library to pick out exciting books and discover how to make the most of its amazing resources!\nFor readers entering grades 3-5.\n\nDon’t miss out on this fantastic opportunity to grow\, learn\, and have fun all summer long. Space is limited; register today! \nProgram runs Mondays through Thursdays\, June 16 – July 31. \nThis program is free. \nADA Accommodation Requests \n———————————————————————————————- \nLectura de Verano con Bay Area Tutoring \n¡Prepárate para un verano emocionante de aprendizaje con Bay Area Tutoring! Sumérgete en un ambiente divertido y participativo donde la lectura cobra vida a través de actividades y juegos interactivos. \n\n¡Trabaja en grupos pequeños para mejorar tus habilidades de lectura!\n¡Evita la pérdida de aprendizaje durante el verano mientras exploras nuevas historias y aventuras!\n¡Participa en el programa de Aprendizaje de Verano de la Biblioteca Pública de San José y visita la biblioteca para escoger libros emocionantes y descubrir cómo aprovechar al máximo sus increíbles recursos!\n\nPara lectores que ingresan a los grados 3.º a 5.º.No te pierdas esta oportunidad fantástica de crecer\, aprender y divertirte todo el verano. El espacio es limitado; ¡regístrate hoy mismo! \nEl programa se lleva a cabo de lunes a jueves\, del 16 de junio al 31 de julio. \nEste programa es gratuito.
URL:https://events.splitbunch.com/event/summer-reading-with-bay-area-tutoring/
CATEGORIES:San Jose King Library
END:VEVENT
BEGIN:VEVENT
DTSTART;TZID=America/Los_Angeles:20250701T000000
DTEND;TZID=America/Los_Angeles:20250731T000000
DTSTAMP:20260422T220807
CREATED:20250728T022535Z
LAST-MODIFIED:20250728T022535Z
UID:1971-1751328000-1753920000@events.splitbunch.com
SUMMARY:Sea Life Scavenger Hunt
DESCRIPTION:Go on a search under the waves! Nine sea creatures are hiding in the picture book area at Bascom Library. Find at least seven and come to the information desk for a prize. \nRecommended ages 3-10. \nADA Accommodation Requests
URL:https://events.splitbunch.com/event/sea-life-scavenger-hunt/
CATEGORIES:San Jose King Library
END:VEVENT
BEGIN:VEVENT
DTSTART;TZID=America/Los_Angeles:20250709T000000
DTEND;TZID=America/Los_Angeles:20250831T000000
DTSTAMP:20260422T220807
CREATED:20250728T022536Z
LAST-MODIFIED:20250728T022536Z
UID:1972-1752019200-1756598400@events.splitbunch.com
SUMMARY:Make a Wish for Tanabata/Star Festival!
DESCRIPTION:Write a wish on a wish paper (tanzaku) and add it to our bamboo grove for Tanabata\, the Japanese Star Festival!  Young children may be assisted by a parent/caregiver. \nFree.  For all ages. \nWish papers are available at the information desk any time during open hours. \nADA Accommodation Requests
URL:https://events.splitbunch.com/event/make-a-wish-for-tanabata-star-festival/
CATEGORIES:San Jose King Library
END:VEVENT
BEGIN:VEVENT
DTSTART;TZID=America/Los_Angeles:20250721T000000
DTEND;TZID=America/Los_Angeles:20250731T000000
DTSTAMP:20260422T220807
CREATED:20250728T022536Z
LAST-MODIFIED:20250728T022536Z
UID:1973-1753056000-1753920000@events.splitbunch.com
SUMMARY:Paper Butterfly Mosaic Grab and Go Kit
DESCRIPTION:Embrace Summer Learning with this Butterfly Mosaic Grab and Go Kit. The kit will have instructions\, a pattern\, and some colored paper with pre-printed squares. The only thing you need at home will be scissors and paste. \nJust like Summer Learning prize books\, if you see one of our Summer Learning Ambassadors at our table\, then you can get kits from them; otherwise\, they will be available at the Information Desk. While you’re with us\, please sign up for the Summer Learning if you have not already. \nThese kits are ideal for children 3rd grade and up. \nKits will be available until July 31st or while supplies last. \nNo registration required. \nADA Accommodation Requests
URL:https://events.splitbunch.com/event/paper-butterfly-mosaic-grab-and-go-kit/
CATEGORIES:San Jose King Library
END:VEVENT
BEGIN:VEVENT
DTSTART;TZID=America/Los_Angeles:20250728T093000
DTEND;TZID=America/Los_Angeles:20250729T163000
DTSTAMP:20260422T220807
CREATED:20250728T022539Z
LAST-MODIFIED:20250728T022539Z
UID:1982-1753695000-1753806600@events.splitbunch.com
SUMMARY:Digital Discovery Workshops for Ages 6-8
DESCRIPTION:Join us for a free\, 2-day Digital Discovery Workshop at the Biblioteca Latinoamericana Branch Library—designed for curious young minds ages 6-8. Through hands-on projects\, participants will explore exciting STEAM topics including artificial intelligence\, digital design\, and coding.  \nUsing iPads\, robots\, and other interactive tech tools\, participants will build digital creativity and tech skills in a welcoming\, supportive environment.  \n🕘 Daily Workshop Schedule \n\nDrop-off: 8:30–9:30 AM\nProgram Time: 9:30 AM–4:30 PM\nPick-up: 4:30–5:00 PM\n\nFood Information  \n\nParticipants should bring a lunch from home\, as lunch will not be provided.\nSnacks and water will be provided daily.\n\nOther Information \n\nPhoto Policy: The City of San José may take photos during the program for promotional use. Please speak with the instructor at check-in to complete a photo release form to grant or deny permission.\nParents and caregivers will be asked to complete a short post-program survey to help us improve future workshops.\n\nFree. Registration is required. Limited spots available.   \nADA Accommodation Requests
URL:https://events.splitbunch.com/event/digital-discovery-workshops-for-ages-6-8/
CATEGORIES:San Jose King Library
END:VEVENT
BEGIN:VEVENT
DTSTART;TZID=America/Los_Angeles:20250728T100000
DTEND;TZID=America/Los_Angeles:20250728T140000
DTSTAMP:20260422T220808
CREATED:20250728T022540Z
LAST-MODIFIED:20250728T022540Z
UID:1983-1753696800-1753711200@events.splitbunch.com
SUMMARY:Senior Nutrition and Enrichment Programs
DESCRIPTION:This is a Parks\, Recreation & Neighborhood Services program held at the Alviso Branch Library for adults 50+. \nActivities including fitness\, games\, and crafts are from 10:00 a.m. to 2:00 p.m. \nLunches are served Tuesdays and Fridays 11:30 a.m. to 12:00 p.m. for in person dining. \nTo Register for these programs\, please go to sjregistration.com.Any questions regarding registration\, please reach out to Kaylee Navarro at 408-829-9855 or kaylee.navarro@sanjoseca.gov \nADA Accommodation Requests
URL:https://events.splitbunch.com/event/senior-nutrition-and-enrichment-programs/
CATEGORIES:San Jose King Library
END:VEVENT
BEGIN:VEVENT
DTSTART;TZID=America/Los_Angeles:20250728T110000
DTEND;TZID=America/Los_Angeles:20250728T120000
DTSTAMP:20260422T220808
CREATED:20250728T022540Z
LAST-MODIFIED:20250728T022540Z
UID:1984-1753700400-1753704000@events.splitbunch.com
SUMMARY:Music and Movement
DESCRIPTION:Music and Movement is designed to accommodate a mix of ages and invites the entire family to participate in early literacy activities through songs\, rhymes\, finger plays\, and movement activities. Music and Movement is a fun and interactive experience for the whole family that promotes the joys of learning for all ages. This program is geared for children of all ages and their parents/caregivers!  \nFree \n\nThis program is developed to align with the Early Education Quality Standards. \nADA Accommodations Requests
URL:https://events.splitbunch.com/event/music-and-movement/
CATEGORIES:San Jose King Library
END:VEVENT
BEGIN:VEVENT
DTSTART;TZID=America/Los_Angeles:20250728T130000
DTEND;TZID=America/Los_Angeles:20250728T140000
DTSTAMP:20260422T220808
CREATED:20250728T022542Z
LAST-MODIFIED:20250728T022542Z
UID:1989-1753707600-1753711200@events.splitbunch.com
SUMMARY:Gardner Health Services Information Table
DESCRIPTION:Learn about comprehensive health care\, services for Medi-Cal recipients\, behavioral health support\, substance use prevention\, mental health services and more. \nFor more information: https://gardnerhealthservices.org/ \n\nADA Accommodation Requests
URL:https://events.splitbunch.com/event/gardner-health-services-information-table/
CATEGORIES:San Jose King Library
END:VEVENT
BEGIN:VEVENT
DTSTART;TZID=America/Los_Angeles:20250728T130000
DTEND;TZID=America/Los_Angeles:20250728T150000
DTSTAMP:20260422T220808
CREATED:20250728T022541Z
LAST-MODIFIED:20250728T022541Z
UID:1988-1753707600-1753714800@events.splitbunch.com
SUMMARY:Tech Mentor: One on One Computer Help
DESCRIPTION:Confused by your computer? Get personalized tech assistance from a Librarian at the Evergreen Branch Library! \nHelp is available for basic tasks such as connecting to WiFi\, using\nemail\, creating documents\, and accessing library resources such as\ne-books and virtual programs. We can also provide basic instructions for\n using devices such as laptops\, smartphones\, hotpots\, e-readers\, etc. \nWeekly Tech Mentor Schedule: \n\nMonday: 1:00 – 3:00pm\nTuesday: 1:00 – 3:00pm\nWednesday: 12:00 – 1:00pm\nThursday: 12:00 – 1:00pm\nFriday: 2:30 – 4:00pm\n\nFree. No registration or appointment required. Just drop by and ask for assistance. \nADA Accommodation Requests
URL:https://events.splitbunch.com/event/tech-mentor-one-on-one-computer-help-2/
CATEGORIES:San Jose King Library
END:VEVENT
BEGIN:VEVENT
DTSTART;TZID=America/Los_Angeles:20250728T130000
DTEND;TZID=America/Los_Angeles:20250728T153000
DTSTAMP:20260422T220808
CREATED:20250728T022541Z
LAST-MODIFIED:20250728T022541Z
UID:1987-1753707600-1753716600@events.splitbunch.com
SUMMARY:Summer Reading with Bay Area Tutoring
DESCRIPTION:Get ready for an exciting summer of learning with Bay Area Tutoring! Dive into a fun and engaging environment where reading comes to life through interactive activities and games. \n\n\nWork in small groups to boost your reading skills!\n\nPrevent summer learning loss while exploring new stories and adventures!\n\nParticipate in San Jose Public Library’s Summer Learning program and visit the library to pick out exciting books and discover how to make the most of its amazing resources!\n\nAt the Seven Trees Library location\, for readers entering grades 5-8.\n\nDon’t miss out on this fantastic opportunity to grow\, learn\, and have fun all summer long. Space is limited; register today! \nRegister Here \nThis program is free. \nADA Accommodation Requests
URL:https://events.splitbunch.com/event/summer-reading-with-bay-area-tutoring-2/
CATEGORIES:San Jose King Library
END:VEVENT
BEGIN:VEVENT
DTSTART;TZID=America/Los_Angeles:20250728T130000
DTEND;TZID=America/Los_Angeles:20250728T170000
DTSTAMP:20260422T220808
CREATED:20250728T022540Z
LAST-MODIFIED:20250728T022540Z
UID:1985-1753707600-1753722000@events.splitbunch.com
SUMMARY:Tech Mentor: One on One Computer Help
DESCRIPTION:Confused by your computer? Get personalized tech assistance. \nHelp is available for basic tasks such as: \n\nPrinting\nUsing email\nConnecting to WiFi\nCreating documents\nAccessing library resources such as e-books\n\nWe can also provide basic instructions for using devices such as laptops\, smartphones\, e-readers\, etc. \nFree. No registration or appointment required. Just drop by and ask for assistance. \nADA Accommodation Requests
URL:https://events.splitbunch.com/event/tech-mentor-one-on-one-computer-help/
CATEGORIES:San Jose King Library
END:VEVENT
BEGIN:VEVENT
DTSTART;TZID=America/Los_Angeles:20250728T130000
DTEND;TZID=America/Los_Angeles:20250728T183000
DTSTAMP:20260422T220808
CREATED:20250728T022541Z
LAST-MODIFIED:20250728T022541Z
UID:1986-1753707600-1753727400@events.splitbunch.com
SUMMARY:Coloring for Adults
DESCRIPTION:Coloring sheets and pencils are provided every Monday afternoon from 1:00-6:30 PM just inside the entrance of Bascom Library. Relax and explore your creativity with this great activity! All ages welcome to participate.                 \nADA Accommodation Requests
URL:https://events.splitbunch.com/event/coloring-for-adults/
CATEGORIES:San Jose King Library
END:VEVENT
BEGIN:VEVENT
DTSTART;TZID=America/Los_Angeles:20250728T130000
DTEND;TZID=America/Los_Angeles:20250801T170000
DTSTAMP:20260422T220808
CREATED:20250728T022542Z
LAST-MODIFIED:20250728T022542Z
UID:1990-1753707600-1754067600@events.splitbunch.com
SUMMARY:Summer Art Camp with Artify4Kids
DESCRIPTION:Join us for a week-long art summer camp presented by Artify4Kids! Dedicated high school volunteers will guide kids through projects that combine STEM topics with artistic flair. Topics for this camp include: \n\nChemistry Monday: From chromatography to pH\, paint the world with the colors found in the chemical structure of physical substances\nAstronomy Tuesday: Find the beauty in celestial mechanics by modeling planetary movement and lunar phases\nBiology Wednesday: Learn the ins and outs of plant growth through floral dissection and greenhouse bottles\nEcology Thursday: Turn natural phenomena into works of art\, from flowers and leaves to the flow of the water cycle\nPhysics Friday: Explore static forces\, friction\, and movement with robotics and roller coasters\n\nThis camp is recommended for students age 6-11. \nFree. Advance registration required. Call or visit the Rose Garden Branch Library for more details. \nADA Accommodation Requests
URL:https://events.splitbunch.com/event/summer-art-camp-with-artify4kids/
CATEGORIES:San Jose King Library
END:VEVENT
BEGIN:VEVENT
DTSTART;TZID=America/Los_Angeles:20250728T140000
DTEND;TZID=America/Los_Angeles:20250728T150000
DTSTAMP:20260422T220808
CREATED:20250728T022542Z
LAST-MODIFIED:20250728T022542Z
UID:1991-1753711200-1753714800@events.splitbunch.com
SUMMARY:Read to Succeed: Reading with a Police Officer
DESCRIPTION:Join a special guest from the San José Police Department (SJPD) at the Almaden Branch Library to share stories and the joys of reading to children as part of our Read to Succeed early education program. We’re excited to partner with the SJPD to bring this special program to the Almaden neighborhood.  \nWould you like your children to have fun listening to stories while building their vocabulary\, developing listening skills\, and enhancing their reading comprehension? Read to Succeed is a partnership between the San José Public Library and the SJPD to promote early literacy\, as well as build positive and inspiring interactions between police officers\, children and their caregivers through structured programming at SJPL locations.  \nFree. No registration is required. All ages welcome.  \nADA Accommodation Requests
URL:https://events.splitbunch.com/event/read-to-succeed-reading-with-a-police-officer/
CATEGORIES:San Jose King Library
END:VEVENT
BEGIN:VEVENT
DTSTART;TZID=America/Los_Angeles:20250728T140000
DTEND;TZID=America/Los_Angeles:20250728T150000
DTSTAMP:20260422T220808
CREATED:20250728T022543Z
LAST-MODIFIED:20250728T022543Z
UID:1992-1753711200-1753714800@events.splitbunch.com
SUMMARY:Reading Buddies Bilingual
DESCRIPTION:Students in grades K-5 will have the opportunity to improve their reading skills by working one-on-one with a teen reading coach. \nReading Buddies creates a positive reading experience for beginning and developing readers and helps children build confidence as readers. Our reading coach will listen to children read and provide support in phonics\, sight words\, and comprehension. Students can bring their favorite book or choose from the available selection at the Seven Trees Branch Library. \nFree. Reading sessions are available on a first come\, first served basis and the duration of reading sessions may be limited depending on the number of participating students. \nADA Accommodation Requests \n \nLos estudiantes de K-5 tendrán la oportunidad de mejorar sus habilidades de lectura trabajando individualmente con un tutor de lectura para adolescentes. \nCompañeros de Lectura crea una experiencia de lectura positiva para lectores principiantes y en desarrollo\, y ayuda a los niños a desarrollar confianza como lectores. Nuestro tutor de lectura escuchará a los niños leer y les brindará apoyo en fonética\, vocabulario visual y comprensión. Los estudiantes pueden traer su libro favorito o elegir entre la selección disponible en la Biblioteca Seven Trees. \nGratis. Las sesiones de lectura se asignan por orden de llegada y la duración puede ser limitada según el número de estudiantes participantes. \nSolicitudes de Acomodación ADA
URL:https://events.splitbunch.com/event/reading-buddies-bilingual/
CATEGORIES:San Jose King Library
END:VEVENT
BEGIN:VEVENT
DTSTART;TZID=America/Los_Angeles:20250728T143000
DTEND;TZID=America/Los_Angeles:20250728T153000
DTSTAMP:20260422T220808
CREATED:20250728T022543Z
LAST-MODIFIED:20250728T022543Z
UID:1994-1753713000-1753716600@events.splitbunch.com
SUMMARY:Virtual English Language Learner (ELL) Conversation Club
DESCRIPTION:This program is presented by the Calabazas Branch of the San Jose Public Library.Join our wonderful volunteer instructor to improve your English conversation skills with other adult learners in a welcoming and respectful environment. Enhance your speaking and listening skills\, expand your vocabulary\, discuss current events\, and much more!\nFree.  \nPlease remember to sign in weekly in order to receive the weekly reminder email and the lesson plan topic. \nPlease make sure to register by clicking on the Register button. By providing an email address\, we will be able to send you a link to the Zoom meeting before the program begins. Registrations close 8 hours before each session. \nPLEASE NOTE: This is a virtual program that will meet online using Zoom. Zoom is a web conferencing platform. In order to join the program using Zoom\, participants must have access to a computer\, tablet\, or smart phone with an internet connection. Find out more about Zoom here. \nPlease do NOT register unless you are sure you are able to attend. \nADA Accommodation Requests
URL:https://events.splitbunch.com/event/virtual-english-language-learner-ell-conversation-club/
CATEGORIES:San Jose King Library
END:VEVENT
BEGIN:VEVENT
DTSTART;TZID=America/Los_Angeles:20250728T143000
DTEND;TZID=America/Los_Angeles:20250728T163000
DTSTAMP:20260422T220808
CREATED:20250728T022543Z
LAST-MODIFIED:20250728T022543Z
UID:1993-1753713000-1753720200@events.splitbunch.com
SUMMARY:One-on-One Tech Help for Seniors
DESCRIPTION:Do you need assistance with basic technology needs?  Make a 30 minute appointment with us at East San Jose Carnegie Branch. \nSome examples of what we can help you with:  \n\ndownloading an app with your phone\ncreating another email account\nregistering your SJPL account\nsetting up Zoom for your laptop or tablet\nusing Google Maps\nand much\, much more!\n\nOne-on-One Tech Help for Seniors is available at East San Jose Carnegie Branch on: \nMondays (2:30 – 4:30pm)  \nTo make make an appointment\, you can click here or call us at 408-808-3075. \nFree and registration is required.  \nADA Accommodation Requests
URL:https://events.splitbunch.com/event/one-on-one-tech-help-for-seniors/
CATEGORIES:San Jose King Library
END:VEVENT
END:VCALENDAR