BEGIN:VCALENDAR
VERSION:2.0
PRODID:-//SplitBunch Events - ECPv6.15.13//NONSGML v1.0//EN
CALSCALE:GREGORIAN
METHOD:PUBLISH
X-WR-CALNAME:SplitBunch Events
X-ORIGINAL-URL:https://events.splitbunch.com
X-WR-CALDESC:Events for SplitBunch Events
REFRESH-INTERVAL;VALUE=DURATION:PT1H
X-Robots-Tag:noindex
X-PUBLISHED-TTL:PT1H
BEGIN:VTIMEZONE
TZID:America/Los_Angeles
BEGIN:DAYLIGHT
TZOFFSETFROM:-0800
TZOFFSETTO:-0700
TZNAME:PDT
DTSTART:20240310T100000
END:DAYLIGHT
BEGIN:STANDARD
TZOFFSETFROM:-0700
TZOFFSETTO:-0800
TZNAME:PST
DTSTART:20241103T090000
END:STANDARD
BEGIN:DAYLIGHT
TZOFFSETFROM:-0800
TZOFFSETTO:-0700
TZNAME:PDT
DTSTART:20250309T100000
END:DAYLIGHT
BEGIN:STANDARD
TZOFFSETFROM:-0700
TZOFFSETTO:-0800
TZNAME:PST
DTSTART:20251102T090000
END:STANDARD
BEGIN:DAYLIGHT
TZOFFSETFROM:-0800
TZOFFSETTO:-0700
TZNAME:PDT
DTSTART:20260308T100000
END:DAYLIGHT
BEGIN:STANDARD
TZOFFSETFROM:-0700
TZOFFSETTO:-0800
TZNAME:PST
DTSTART:20261101T090000
END:STANDARD
END:VTIMEZONE
BEGIN:VEVENT
DTSTART;TZID=America/Los_Angeles:20250813T000000
DTEND;TZID=America/Los_Angeles:20250913T000000
DTSTAMP:20260421T171415
CREATED:20250903T015629Z
LAST-MODIFIED:20250903T221436Z
UID:2935-1755043200-1757721600@events.splitbunch.com
SUMMARY:Friends of the Rose Garden Branch Library Book Sale
DESCRIPTION:Come support the Rose Garden Branch Library by attending the Friends of the Rose Garden Branch Library Book Sale!  \nThis sale will run for one month\, in the Rose Garden Friends Book Sale Area. Select books will be 3 for $1.  \nFunds from Friends of the Rose Garden Branch Library book sales go directly into supporting programs at the Rose Garden Branch Library.  \nFree. No registration required. \nADA Accommodation Requests
URL:https://events.splitbunch.com/event/friends-of-the-rose-garden-branch-library-book-sale/
CATEGORIES:San Jose King Library
END:VEVENT
BEGIN:VEVENT
DTSTART;TZID=America/Los_Angeles:20250901T000000
DTEND;TZID=America/Los_Angeles:20250930T000000
DTSTAMP:20260421T171415
CREATED:20250903T015630Z
LAST-MODIFIED:20250930T065250Z
UID:2936-1756684800-1759190400@events.splitbunch.com
SUMMARY:Library Card + Instax Photo
DESCRIPTION:September is National Library Card Sign-Up Month!Throughout this month\, if you sign-up for a card at the Alviso Branch Library\, you can commemorate the occasion with your own Instax instant photo inside the library and a mini tote bag (While Supplies Last). \nTo sign-up for a SJPL Card: \n\nVisit https://www.sjpl.org/membership to fill out an application.\nBring a current ID or proof of address to the Alviso Branch Library.\nChoose a card design.\nTake a photo and choose a sticker frame!\nIf you already have a card\, you can qualify for these giveaways by renewing your account with us or changing your card in-person!\n\nFree for All Ages. While Supplies Last.No Registration required.  \nADA Accommodation Requests
URL:https://events.splitbunch.com/event/national-library-card-sign-up-month-library-card-instax-photo/
CATEGORIES:San Jose King Library
END:VEVENT
BEGIN:VEVENT
DTSTART;TZID=America/Los_Angeles:20250901T000000
DTEND;TZID=America/Los_Angeles:20250930T000000
DTSTAMP:20260421T171415
CREATED:20250930T075240Z
LAST-MODIFIED:20250930T075240Z
UID:4328-1756684800-1759190400@events.splitbunch.com
SUMMARY:Library Card + Instax Photo
DESCRIPTION:September is National Library Card Sign-Up Month!Throughout this month\, if you sign-up for a card at the Alviso Branch Library\, you can commemorate the occasion with your own Instax instant photo inside the library and a mini tote bag (While Supplies Last). \nTo sign-up for a SJPL Card: \n\nVisit https://www.sjpl.org/membership to fill out an application.\nBring a current ID or proof of address to the Alviso Branch Library.\nChoose a card design.\nTake a photo and choose a sticker frame!\nIf you already have a card\, you can qualify for these giveaways by renewing your account with us or changing your card in-person!\n\nFree for All Ages. While Supplies Last.No Registration required.  \nADA Accommodation Requests
URL:https://events.splitbunch.com/event/library-card-instax-photo/
CATEGORIES:San Jose King Library
END:VEVENT
BEGIN:VEVENT
DTSTART;TZID=America/Los_Angeles:20250901T000000
DTEND;TZID=America/Los_Angeles:20250930T000000
DTSTAMP:20260421T171415
CREATED:20250930T085550Z
LAST-MODIFIED:20250930T085550Z
UID:4332-1756684800-1759190400@events.splitbunch.com
SUMMARY:Library Card + Instax Photo
DESCRIPTION:September is National Library Card Sign-Up Month!Throughout this month\, if you sign-up for a card at the Alviso Branch Library\, you can commemorate the occasion with your own Instax instant photo inside the library and a mini tote bag (While Supplies Last). \nTo sign-up for a SJPL Card: \n\nVisit https://www.sjpl.org/membership to fill out an application.\nBring a current ID or proof of address to the Alviso Branch Library.\nChoose a card design.\nTake a photo and choose a sticker frame!\nIf you already have a card\, you can qualify for these giveaways by renewing your account with us or changing your card in-person!\n\nFree for All Ages. While Supplies Last.No Registration required.  \nADA Accommodation Requests
URL:https://events.splitbunch.com/event/library-card-instax-photo-2/
CATEGORIES:San Jose King Library
END:VEVENT
BEGIN:VEVENT
DTSTART;TZID=America/Los_Angeles:20250901T000000
DTEND;TZID=America/Los_Angeles:20250930T000000
DTSTAMP:20260421T171415
CREATED:20250930T095111Z
LAST-MODIFIED:20250930T095111Z
UID:4337-1756684800-1759190400@events.splitbunch.com
SUMMARY:Library Card + Instax Photo
DESCRIPTION:September is National Library Card Sign-Up Month!Throughout this month\, if you sign-up for a card at the Alviso Branch Library\, you can commemorate the occasion with your own Instax instant photo inside the library and a mini tote bag (While Supplies Last). \nTo sign-up for a SJPL Card: \n\nVisit https://www.sjpl.org/membership to fill out an application.\nBring a current ID or proof of address to the Alviso Branch Library.\nChoose a card design.\nTake a photo and choose a sticker frame!\nIf you already have a card\, you can qualify for these giveaways by renewing your account with us or changing your card in-person!\n\nFree for All Ages. While Supplies Last.No Registration required.  \nADA Accommodation Requests
URL:https://events.splitbunch.com/event/library-card-instax-photo-3/
CATEGORIES:San Jose King Library
END:VEVENT
BEGIN:VEVENT
DTSTART;TZID=America/Los_Angeles:20250901T000000
DTEND;TZID=America/Los_Angeles:20250930T000000
DTSTAMP:20260421T171415
CREATED:20250930T105135Z
LAST-MODIFIED:20250930T105135Z
UID:4340-1756684800-1759190400@events.splitbunch.com
SUMMARY:Library Card + Instax Photo
DESCRIPTION:September is National Library Card Sign-Up Month!Throughout this month\, if you sign-up for a card at the Alviso Branch Library\, you can commemorate the occasion with your own Instax instant photo inside the library and a mini tote bag (While Supplies Last). \nTo sign-up for a SJPL Card: \n\nVisit https://www.sjpl.org/membership to fill out an application.\nBring a current ID or proof of address to the Alviso Branch Library.\nChoose a card design.\nTake a photo and choose a sticker frame!\nIf you already have a card\, you can qualify for these giveaways by renewing your account with us or changing your card in-person!\n\nFree for All Ages. While Supplies Last.No Registration required.  \nADA Accommodation Requests
URL:https://events.splitbunch.com/event/library-card-instax-photo-4/
CATEGORIES:San Jose King Library
END:VEVENT
BEGIN:VEVENT
DTSTART;TZID=America/Los_Angeles:20250901T000000
DTEND;TZID=America/Los_Angeles:20250930T000000
DTSTAMP:20260421T171415
CREATED:20250930T115134Z
LAST-MODIFIED:20250930T115134Z
UID:4343-1756684800-1759190400@events.splitbunch.com
SUMMARY:Library Card + Instax Photo
DESCRIPTION:September is National Library Card Sign-Up Month!Throughout this month\, if you sign-up for a card at the Alviso Branch Library\, you can commemorate the occasion with your own Instax instant photo inside the library and a mini tote bag (While Supplies Last). \nTo sign-up for a SJPL Card: \n\nVisit https://www.sjpl.org/membership to fill out an application.\nBring a current ID or proof of address to the Alviso Branch Library.\nChoose a card design.\nTake a photo and choose a sticker frame!\nIf you already have a card\, you can qualify for these giveaways by renewing your account with us or changing your card in-person!\n\nFree for All Ages. While Supplies Last.No Registration required.  \nADA Accommodation Requests
URL:https://events.splitbunch.com/event/library-card-instax-photo-5/
CATEGORIES:San Jose King Library
END:VEVENT
BEGIN:VEVENT
DTSTART;TZID=America/Los_Angeles:20250901T000000
DTEND;TZID=America/Los_Angeles:20250930T000000
DTSTAMP:20260421T171415
CREATED:20250930T125313Z
LAST-MODIFIED:20250930T125313Z
UID:4346-1756684800-1759190400@events.splitbunch.com
SUMMARY:Library Card + Instax Photo
DESCRIPTION:September is National Library Card Sign-Up Month!Throughout this month\, if you sign-up for a card at the Alviso Branch Library\, you can commemorate the occasion with your own Instax instant photo inside the library and a mini tote bag (While Supplies Last). \nTo sign-up for a SJPL Card: \n\nVisit https://www.sjpl.org/membership to fill out an application.\nBring a current ID or proof of address to the Alviso Branch Library.\nChoose a card design.\nTake a photo and choose a sticker frame!\nIf you already have a card\, you can qualify for these giveaways by renewing your account with us or changing your card in-person!\n\nFree for All Ages. While Supplies Last.No Registration required.  \nADA Accommodation Requests
URL:https://events.splitbunch.com/event/library-card-instax-photo-6/
CATEGORIES:San Jose King Library
END:VEVENT
BEGIN:VEVENT
DTSTART;TZID=America/Los_Angeles:20250901T000000
DTEND;TZID=America/Los_Angeles:20250930T000000
DTSTAMP:20260421T171415
CREATED:20250930T135120Z
LAST-MODIFIED:20250930T135120Z
UID:4349-1756684800-1759190400@events.splitbunch.com
SUMMARY:Library Card + Instax Photo
DESCRIPTION:September is National Library Card Sign-Up Month!Throughout this month\, if you sign-up for a card at the Alviso Branch Library\, you can commemorate the occasion with your own Instax instant photo inside the library and a mini tote bag (While Supplies Last). \nTo sign-up for a SJPL Card: \n\nVisit https://www.sjpl.org/membership to fill out an application.\nBring a current ID or proof of address to the Alviso Branch Library.\nChoose a card design.\nTake a photo and choose a sticker frame!\nIf you already have a card\, you can qualify for these giveaways by renewing your account with us or changing your card in-person!\n\nFree for All Ages. While Supplies Last.No Registration required.  \nADA Accommodation Requests
URL:https://events.splitbunch.com/event/library-card-instax-photo-7/
CATEGORIES:San Jose King Library
END:VEVENT
BEGIN:VEVENT
DTSTART;TZID=America/Los_Angeles:20250901T000000
DTEND;TZID=America/Los_Angeles:20250930T000000
DTSTAMP:20260421T171415
CREATED:20251001T005005Z
LAST-MODIFIED:20251001T005005Z
UID:4352-1756684800-1759190400@events.splitbunch.com
SUMMARY:Library Card + Instax Photo
DESCRIPTION:September is National Library Card Sign-Up Month!Throughout this month\, if you sign-up for a card at the Alviso Branch Library\, you can commemorate the occasion with your own Instax instant photo inside the library and a mini tote bag (While Supplies Last). \nTo sign-up for a SJPL Card: \n\nVisit https://www.sjpl.org/membership to fill out an application.\nBring a current ID or proof of address to the Alviso Branch Library.\nChoose a card design.\nTake a photo and choose a sticker frame!\nIf you already have a card\, you can qualify for these giveaways by renewing your account with us or changing your card in-person!\n\nFree for All Ages. While Supplies Last.No Registration required.  \nADA Accommodation Requests
URL:https://events.splitbunch.com/event/library-card-instax-photo-8/
CATEGORIES:San Jose King Library
END:VEVENT
BEGIN:VEVENT
DTSTART;TZID=America/Los_Angeles:20250901T000000
DTEND;TZID=America/Los_Angeles:20250930T000000
DTSTAMP:20260421T171415
CREATED:20251001T005005Z
LAST-MODIFIED:20251001T005005Z
UID:4353-1756684800-1759190400@events.splitbunch.com
SUMMARY:Library Card + Instax Photo
DESCRIPTION:September is National Library Card Sign-Up Month!Throughout this month\, if you sign-up for a card at the Alviso Branch Library\, you can commemorate the occasion with your own Instax instant photo inside the library and a mini tote bag (While Supplies Last). \nTo sign-up for a SJPL Card: \n\nVisit https://www.sjpl.org/membership to fill out an application.\nBring a current ID or proof of address to the Alviso Branch Library.\nChoose a card design.\nTake a photo and choose a sticker frame!\nIf you already have a card\, you can qualify for these giveaways by renewing your account with us or changing your card in-person!\n\nFree for All Ages. While Supplies Last.No Registration required.  \nADA Accommodation Requests
URL:https://events.splitbunch.com/event/library-card-instax-photo-8/
CATEGORIES:San Jose King Library
END:VEVENT
BEGIN:VEVENT
DTSTART;TZID=America/Los_Angeles:20250901T000000
DTEND;TZID=America/Los_Angeles:20250930T000000
DTSTAMP:20260421T171415
CREATED:20251001T005144Z
LAST-MODIFIED:20251001T005144Z
UID:4436-1756684800-1759190400@events.splitbunch.com
SUMMARY:Library Card + Instax Photo
DESCRIPTION:September is National Library Card Sign-Up Month!Throughout this month\, if you sign-up for a card at the Alviso Branch Library\, you can commemorate the occasion with your own Instax instant photo inside the library and a mini tote bag (While Supplies Last). \nTo sign-up for a SJPL Card: \n\nVisit https://www.sjpl.org/membership to fill out an application.\nBring a current ID or proof of address to the Alviso Branch Library.\nChoose a card design.\nTake a photo and choose a sticker frame!\nIf you already have a card\, you can qualify for these giveaways by renewing your account with us or changing your card in-person!\n\nFree for All Ages. While Supplies Last.No Registration required.  \nADA Accommodation Requests
URL:https://events.splitbunch.com/event/library-card-instax-photo-9/
CATEGORIES:San Jose King Library
END:VEVENT
BEGIN:VEVENT
DTSTART;TZID=America/Los_Angeles:20250901T000000
DTEND;TZID=America/Los_Angeles:20250930T000000
DTSTAMP:20260421T171415
CREATED:20251001T015129Z
LAST-MODIFIED:20251001T015129Z
UID:4477-1756684800-1759190400@events.splitbunch.com
SUMMARY:Library Card + Instax Photo
DESCRIPTION:September is National Library Card Sign-Up Month!Throughout this month\, if you sign-up for a card at the Alviso Branch Library\, you can commemorate the occasion with your own Instax instant photo inside the library and a mini tote bag (While Supplies Last). \nTo sign-up for a SJPL Card: \n\nVisit https://www.sjpl.org/membership to fill out an application.\nBring a current ID or proof of address to the Alviso Branch Library.\nChoose a card design.\nTake a photo and choose a sticker frame!\nIf you already have a card\, you can qualify for these giveaways by renewing your account with us or changing your card in-person!\n\nFree for All Ages. While Supplies Last.No Registration required.  \nADA Accommodation Requests
URL:https://events.splitbunch.com/event/library-card-instax-photo-10/
CATEGORIES:San Jose King Library
END:VEVENT
BEGIN:VEVENT
DTSTART;TZID=America/Los_Angeles:20250901T000000
DTEND;TZID=America/Los_Angeles:20250930T000000
DTSTAMP:20260421T171415
CREATED:20251001T025212Z
LAST-MODIFIED:20251001T025212Z
UID:4501-1756684800-1759190400@events.splitbunch.com
SUMMARY:Library Card + Instax Photo
DESCRIPTION:September is National Library Card Sign-Up Month!Throughout this month\, if you sign-up for a card at the Alviso Branch Library\, you can commemorate the occasion with your own Instax instant photo inside the library and a mini tote bag (While Supplies Last). \nTo sign-up for a SJPL Card: \n\nVisit https://www.sjpl.org/membership to fill out an application.\nBring a current ID or proof of address to the Alviso Branch Library.\nChoose a card design.\nTake a photo and choose a sticker frame!\nIf you already have a card\, you can qualify for these giveaways by renewing your account with us or changing your card in-person!\n\nFree for All Ages. While Supplies Last.No Registration required.  \nADA Accommodation Requests
URL:https://events.splitbunch.com/event/library-card-instax-photo-11/
CATEGORIES:San Jose King Library
END:VEVENT
BEGIN:VEVENT
DTSTART;TZID=America/Los_Angeles:20250901T000000
DTEND;TZID=America/Los_Angeles:20250930T000000
DTSTAMP:20260421T171415
CREATED:20251001T035203Z
LAST-MODIFIED:20251001T035203Z
UID:4531-1756684800-1759190400@events.splitbunch.com
SUMMARY:Library Card + Instax Photo
DESCRIPTION:September is National Library Card Sign-Up Month!Throughout this month\, if you sign-up for a card at the Alviso Branch Library\, you can commemorate the occasion with your own Instax instant photo inside the library and a mini tote bag (While Supplies Last). \nTo sign-up for a SJPL Card: \n\nVisit https://www.sjpl.org/membership to fill out an application.\nBring a current ID or proof of address to the Alviso Branch Library.\nChoose a card design.\nTake a photo and choose a sticker frame!\nIf you already have a card\, you can qualify for these giveaways by renewing your account with us or changing your card in-person!\n\nFree for All Ages. While Supplies Last.No Registration required.  \nADA Accommodation Requests
URL:https://events.splitbunch.com/event/library-card-instax-photo-12/
CATEGORIES:San Jose King Library
END:VEVENT
BEGIN:VEVENT
DTSTART;TZID=America/Los_Angeles:20250901T000000
DTEND;TZID=America/Los_Angeles:20250930T000000
DTSTAMP:20260421T171415
CREATED:20251001T045135Z
LAST-MODIFIED:20251001T045135Z
UID:4549-1756684800-1759190400@events.splitbunch.com
SUMMARY:Library Card + Instax Photo
DESCRIPTION:September is National Library Card Sign-Up Month!Throughout this month\, if you sign-up for a card at the Alviso Branch Library\, you can commemorate the occasion with your own Instax instant photo inside the library and a mini tote bag (While Supplies Last). \nTo sign-up for a SJPL Card: \n\nVisit https://www.sjpl.org/membership to fill out an application.\nBring a current ID or proof of address to the Alviso Branch Library.\nChoose a card design.\nTake a photo and choose a sticker frame!\nIf you already have a card\, you can qualify for these giveaways by renewing your account with us or changing your card in-person!\n\nFree for All Ages. While Supplies Last.No Registration required.  \nADA Accommodation Requests
URL:https://events.splitbunch.com/event/library-card-instax-photo-13/
CATEGORIES:San Jose King Library
END:VEVENT
BEGIN:VEVENT
DTSTART;TZID=America/Los_Angeles:20250901T000000
DTEND;TZID=America/Los_Angeles:20250930T000000
DTSTAMP:20260421T171415
CREATED:20251001T055304Z
LAST-MODIFIED:20251001T055304Z
UID:4552-1756684800-1759190400@events.splitbunch.com
SUMMARY:Library Card + Instax Photo
DESCRIPTION:September is National Library Card Sign-Up Month!Throughout this month\, if you sign-up for a card at the Alviso Branch Library\, you can commemorate the occasion with your own Instax instant photo inside the library and a mini tote bag (While Supplies Last). \nTo sign-up for a SJPL Card: \n\nVisit https://www.sjpl.org/membership to fill out an application.\nBring a current ID or proof of address to the Alviso Branch Library.\nChoose a card design.\nTake a photo and choose a sticker frame!\nIf you already have a card\, you can qualify for these giveaways by renewing your account with us or changing your card in-person!\n\nFree for All Ages. While Supplies Last.No Registration required.  \nADA Accommodation Requests
URL:https://events.splitbunch.com/event/library-card-instax-photo-14/
CATEGORIES:San Jose King Library
END:VEVENT
BEGIN:VEVENT
DTSTART;TZID=America/Los_Angeles:20250901T000000
DTEND;TZID=America/Los_Angeles:20250930T000000
DTSTAMP:20260421T171415
CREATED:20251001T065115Z
LAST-MODIFIED:20251001T065115Z
UID:4564-1756684800-1759190400@events.splitbunch.com
SUMMARY:Library Card + Instax Photo
DESCRIPTION:September is National Library Card Sign-Up Month!Throughout this month\, if you sign-up for a card at the Alviso Branch Library\, you can commemorate the occasion with your own Instax instant photo inside the library and a mini tote bag (While Supplies Last). \nTo sign-up for a SJPL Card: \n\nVisit https://www.sjpl.org/membership to fill out an application.\nBring a current ID or proof of address to the Alviso Branch Library.\nChoose a card design.\nTake a photo and choose a sticker frame!\nIf you already have a card\, you can qualify for these giveaways by renewing your account with us or changing your card in-person!\n\nFree for All Ages. While Supplies Last.No Registration required.  \nADA Accommodation Requests
URL:https://events.splitbunch.com/event/library-card-instax-photo-15/
CATEGORIES:San Jose King Library
END:VEVENT
END:VCALENDAR