BEGIN:VCALENDAR
VERSION:2.0
PRODID:-//SplitBunch Events - ECPv6.15.13//NONSGML v1.0//EN
CALSCALE:GREGORIAN
METHOD:PUBLISH
X-ORIGINAL-URL:https://events.splitbunch.com
X-WR-CALDESC:Events for SplitBunch Events
REFRESH-INTERVAL;VALUE=DURATION:PT1H
X-Robots-Tag:noindex
X-PUBLISHED-TTL:PT1H
BEGIN:VTIMEZONE
TZID:America/Los_Angeles
BEGIN:DAYLIGHT
TZOFFSETFROM:-0800
TZOFFSETTO:-0700
TZNAME:PDT
DTSTART:20240310T100000
END:DAYLIGHT
BEGIN:STANDARD
TZOFFSETFROM:-0700
TZOFFSETTO:-0800
TZNAME:PST
DTSTART:20241103T090000
END:STANDARD
BEGIN:DAYLIGHT
TZOFFSETFROM:-0800
TZOFFSETTO:-0700
TZNAME:PDT
DTSTART:20250309T100000
END:DAYLIGHT
BEGIN:STANDARD
TZOFFSETFROM:-0700
TZOFFSETTO:-0800
TZNAME:PST
DTSTART:20251102T090000
END:STANDARD
BEGIN:DAYLIGHT
TZOFFSETFROM:-0800
TZOFFSETTO:-0700
TZNAME:PDT
DTSTART:20260308T100000
END:DAYLIGHT
BEGIN:STANDARD
TZOFFSETFROM:-0700
TZOFFSETTO:-0800
TZNAME:PST
DTSTART:20261101T090000
END:STANDARD
END:VTIMEZONE
BEGIN:VEVENT
DTSTART;TZID=America/Los_Angeles:20251127T000000
DTEND;TZID=America/Los_Angeles:20251127T000000
DTSTAMP:20260422T093230
CREATED:20251127T215123Z
LAST-MODIFIED:20251127T215123Z
UID:21040-1764201600-1764201600@events.splitbunch.com
SUMMARY:1:1 Tech Mentor / Giáo Viên Máy Tính
DESCRIPTION:Free.  By appointment only. \nOffered in-person or virtually via Zoom\, in English\, Español\, or Tiếng Việt. \nWould you like to find out more about computers? Learn at your own pace! \nWhat We Do: \n\nIntro to computer basics\nAccount or device setup\nIntro to Microsoft Office\nJob search & resume help\nNavigating/organizing email\nAnd more!\n\nContact Tiffany Lam by phone (408) 808-3056 or email at tiffany.lam@sjlibrary.org to make an appointment. \nADA Accommodation Requests
URL:https://events.splitbunch.com/event/11-tech-mentor-giao-vien-may-tinh-1490/
CATEGORIES:San Jose King Library
END:VEVENT
BEGIN:VEVENT
DTSTART;TZID=America/Los_Angeles:20251127T000000
DTEND;TZID=America/Los_Angeles:20251127T000000
DTSTAMP:20260422T093230
CREATED:20251127T205213Z
LAST-MODIFIED:20251127T205213Z
UID:21034-1764201600-1764201600@events.splitbunch.com
SUMMARY:Afternoon Crafts - Grab & Go
DESCRIPTION:Take home our weekly Grab-&-Go craft project. These are simple projects that are easy but rewarding to make.  We include instructions and materials for you.  \nScissors\, glue\, tape\, and coloring supplies are not provided. \nFree. No registration required. While supplies last. \nADA Accommodation Requests
URL:https://events.splitbunch.com/event/afternoon-crafts-grab-go-214/
CATEGORIES:San Jose King Library
END:VEVENT
BEGIN:VEVENT
DTSTART;TZID=America/Los_Angeles:20251127T000000
DTEND;TZID=America/Los_Angeles:20251127T000000
DTSTAMP:20260422T093230
CREATED:20251127T205211Z
LAST-MODIFIED:20251127T205211Z
UID:21033-1764201600-1764201600@events.splitbunch.com
SUMMARY:1:1 Tech Mentor / Giáo Viên Máy Tính
DESCRIPTION:Free.  By appointment only. \nOffered in-person or virtually via Zoom\, in English\, Español\, or Tiếng Việt. \nWould you like to find out more about computers? Learn at your own pace! \nWhat We Do: \n\nIntro to computer basics\nAccount or device setup\nIntro to Microsoft Office\nJob search & resume help\nNavigating/organizing email\nAnd more!\n\nContact Tiffany Lam by phone (408) 808-3056 or email at tiffany.lam@sjlibrary.org to make an appointment. \nADA Accommodation Requests
URL:https://events.splitbunch.com/event/11-tech-mentor-giao-vien-may-tinh-1489/
CATEGORIES:San Jose King Library
END:VEVENT
BEGIN:VEVENT
DTSTART;TZID=America/Los_Angeles:20251127T000000
DTEND;TZID=America/Los_Angeles:20251127T000000
DTSTAMP:20260422T093230
CREATED:20251127T195148Z
LAST-MODIFIED:20251127T195148Z
UID:21028-1764201600-1764201600@events.splitbunch.com
SUMMARY:Afternoon Crafts - Grab & Go
DESCRIPTION:Take home our weekly Grab-&-Go craft project. These are simple projects that are easy but rewarding to make.  We include instructions and materials for you.  \nScissors\, glue\, tape\, and coloring supplies are not provided. \nFree. No registration required. While supplies last. \nADA Accommodation Requests
URL:https://events.splitbunch.com/event/afternoon-crafts-grab-go-213/
CATEGORIES:San Jose King Library
END:VEVENT
BEGIN:VEVENT
DTSTART;TZID=America/Los_Angeles:20251127T000000
DTEND;TZID=America/Los_Angeles:20251127T000000
DTSTAMP:20260422T093230
CREATED:20251127T195147Z
LAST-MODIFIED:20251127T195147Z
UID:21027-1764201600-1764201600@events.splitbunch.com
SUMMARY:1:1 Tech Mentor / Giáo Viên Máy Tính
DESCRIPTION:Free.  By appointment only. \nOffered in-person or virtually via Zoom\, in English\, Español\, or Tiếng Việt. \nWould you like to find out more about computers? Learn at your own pace! \nWhat We Do: \n\nIntro to computer basics\nAccount or device setup\nIntro to Microsoft Office\nJob search & resume help\nNavigating/organizing email\nAnd more!\n\nContact Tiffany Lam by phone (408) 808-3056 or email at tiffany.lam@sjlibrary.org to make an appointment. \nADA Accommodation Requests
URL:https://events.splitbunch.com/event/11-tech-mentor-giao-vien-may-tinh-1488/
CATEGORIES:San Jose King Library
END:VEVENT
BEGIN:VEVENT
DTSTART;TZID=America/Los_Angeles:20251127T000000
DTEND;TZID=America/Los_Angeles:20251127T000000
DTSTAMP:20260422T093230
CREATED:20251127T185141Z
LAST-MODIFIED:20251127T185141Z
UID:21022-1764201600-1764201600@events.splitbunch.com
SUMMARY:Afternoon Crafts - Grab & Go
DESCRIPTION:Take home our weekly Grab-&-Go craft project. These are simple projects that are easy but rewarding to make.  We include instructions and materials for you.  \nScissors\, glue\, tape\, and coloring supplies are not provided. \nFree. No registration required. While supplies last. \nADA Accommodation Requests
URL:https://events.splitbunch.com/event/afternoon-crafts-grab-go-212/
CATEGORIES:San Jose King Library
END:VEVENT
BEGIN:VEVENT
DTSTART;TZID=America/Los_Angeles:20251127T000000
DTEND;TZID=America/Los_Angeles:20251127T000000
DTSTAMP:20260422T093230
CREATED:20251127T185139Z
LAST-MODIFIED:20251127T185139Z
UID:21021-1764201600-1764201600@events.splitbunch.com
SUMMARY:1:1 Tech Mentor / Giáo Viên Máy Tính
DESCRIPTION:Free.  By appointment only. \nOffered in-person or virtually via Zoom\, in English\, Español\, or Tiếng Việt. \nWould you like to find out more about computers? Learn at your own pace! \nWhat We Do: \n\nIntro to computer basics\nAccount or device setup\nIntro to Microsoft Office\nJob search & resume help\nNavigating/organizing email\nAnd more!\n\nContact Tiffany Lam by phone (408) 808-3056 or email at tiffany.lam@sjlibrary.org to make an appointment. \nADA Accommodation Requests
URL:https://events.splitbunch.com/event/11-tech-mentor-giao-vien-may-tinh-1486/
CATEGORIES:San Jose King Library
END:VEVENT
BEGIN:VEVENT
DTSTART;TZID=America/Los_Angeles:20251127T000000
DTEND;TZID=America/Los_Angeles:20251127T000000
DTSTAMP:20260422T093230
CREATED:20251127T175112Z
LAST-MODIFIED:20251127T175112Z
UID:21017-1764201600-1764201600@events.splitbunch.com
SUMMARY:Afternoon Crafts - Grab & Go
DESCRIPTION:Take home our weekly Grab-&-Go craft project. These are simple projects that are easy but rewarding to make.  We include instructions and materials for you.  \nScissors\, glue\, tape\, and coloring supplies are not provided. \nFree. No registration required. While supplies last. \nADA Accommodation Requests
URL:https://events.splitbunch.com/event/afternoon-crafts-grab-go-211/
CATEGORIES:San Jose King Library
END:VEVENT
BEGIN:VEVENT
DTSTART;TZID=America/Los_Angeles:20251127T000000
DTEND;TZID=America/Los_Angeles:20251127T000000
DTSTAMP:20260422T093230
CREATED:20251127T175110Z
LAST-MODIFIED:20251127T175110Z
UID:21016-1764201600-1764201600@events.splitbunch.com
SUMMARY:1:1 Tech Mentor / Giáo Viên Máy Tính
DESCRIPTION:Free.  By appointment only. \nOffered in-person or virtually via Zoom\, in English\, Español\, or Tiếng Việt. \nWould you like to find out more about computers? Learn at your own pace! \nWhat We Do: \n\nIntro to computer basics\nAccount or device setup\nIntro to Microsoft Office\nJob search & resume help\nNavigating/organizing email\nAnd more!\n\nContact Tiffany Lam by phone (408) 808-3056 or email at tiffany.lam@sjlibrary.org to make an appointment. \nADA Accommodation Requests
URL:https://events.splitbunch.com/event/11-tech-mentor-giao-vien-may-tinh-1485/
CATEGORIES:San Jose King Library
END:VEVENT
BEGIN:VEVENT
DTSTART;TZID=America/Los_Angeles:20251127T000000
DTEND;TZID=America/Los_Angeles:20251127T000000
DTSTAMP:20260422T093230
CREATED:20251127T165151Z
LAST-MODIFIED:20251127T165151Z
UID:21014-1764201600-1764201600@events.splitbunch.com
SUMMARY:Afternoon Crafts - Grab & Go
DESCRIPTION:Take home our weekly Grab-&-Go craft project. These are simple projects that are easy but rewarding to make.  We include instructions and materials for you.  \nScissors\, glue\, tape\, and coloring supplies are not provided. \nFree. No registration required. While supplies last. \nADA Accommodation Requests
URL:https://events.splitbunch.com/event/afternoon-crafts-grab-go-210/
CATEGORIES:San Jose King Library
END:VEVENT
BEGIN:VEVENT
DTSTART;TZID=America/Los_Angeles:20251127T000000
DTEND;TZID=America/Los_Angeles:20251127T000000
DTSTAMP:20260422T093230
CREATED:20251127T165149Z
LAST-MODIFIED:20251127T165149Z
UID:21013-1764201600-1764201600@events.splitbunch.com
SUMMARY:1:1 Tech Mentor / Giáo Viên Máy Tính
DESCRIPTION:Free.  By appointment only. \nOffered in-person or virtually via Zoom\, in English\, Español\, or Tiếng Việt. \nWould you like to find out more about computers? Learn at your own pace! \nWhat We Do: \n\nIntro to computer basics\nAccount or device setup\nIntro to Microsoft Office\nJob search & resume help\nNavigating/organizing email\nAnd more!\n\nContact Tiffany Lam by phone (408) 808-3056 or email at tiffany.lam@sjlibrary.org to make an appointment. \nADA Accommodation Requests
URL:https://events.splitbunch.com/event/11-tech-mentor-giao-vien-may-tinh-1484/
CATEGORIES:San Jose King Library
END:VEVENT
BEGIN:VEVENT
DTSTART;TZID=America/Los_Angeles:20251127T000000
DTEND;TZID=America/Los_Angeles:20251127T000000
DTSTAMP:20260422T093230
CREATED:20251127T155210Z
LAST-MODIFIED:20251127T155210Z
UID:21011-1764201600-1764201600@events.splitbunch.com
SUMMARY:Afternoon Crafts - Grab & Go
DESCRIPTION:Take home our weekly Grab-&-Go craft project. These are simple projects that are easy but rewarding to make.  We include instructions and materials for you.  \nScissors\, glue\, tape\, and coloring supplies are not provided. \nFree. No registration required. While supplies last. \nADA Accommodation Requests
URL:https://events.splitbunch.com/event/afternoon-crafts-grab-go-209/
CATEGORIES:San Jose King Library
END:VEVENT
BEGIN:VEVENT
DTSTART;TZID=America/Los_Angeles:20251127T000000
DTEND;TZID=America/Los_Angeles:20251127T000000
DTSTAMP:20260422T093230
CREATED:20251127T155208Z
LAST-MODIFIED:20251127T155208Z
UID:21010-1764201600-1764201600@events.splitbunch.com
SUMMARY:1:1 Tech Mentor / Giáo Viên Máy Tính
DESCRIPTION:Free.  By appointment only. \nOffered in-person or virtually via Zoom\, in English\, Español\, or Tiếng Việt. \nWould you like to find out more about computers? Learn at your own pace! \nWhat We Do: \n\nIntro to computer basics\nAccount or device setup\nIntro to Microsoft Office\nJob search & resume help\nNavigating/organizing email\nAnd more!\n\nContact Tiffany Lam by phone (408) 808-3056 or email at tiffany.lam@sjlibrary.org to make an appointment. \nADA Accommodation Requests
URL:https://events.splitbunch.com/event/11-tech-mentor-giao-vien-may-tinh-1483/
CATEGORIES:San Jose King Library
END:VEVENT
BEGIN:VEVENT
DTSTART;TZID=America/Los_Angeles:20251127T000000
DTEND;TZID=America/Los_Angeles:20251127T000000
DTSTAMP:20260422T093230
CREATED:20251127T145155Z
LAST-MODIFIED:20251127T145155Z
UID:21006-1764201600-1764201600@events.splitbunch.com
SUMMARY:Afternoon Crafts - Grab & Go
DESCRIPTION:Take home our weekly Grab-&-Go craft project. These are simple projects that are easy but rewarding to make.  We include instructions and materials for you.  \nScissors\, glue\, tape\, and coloring supplies are not provided. \nFree. No registration required. While supplies last. \nADA Accommodation Requests
URL:https://events.splitbunch.com/event/afternoon-crafts-grab-go-208/
CATEGORIES:San Jose King Library
END:VEVENT
BEGIN:VEVENT
DTSTART;TZID=America/Los_Angeles:20251127T000000
DTEND;TZID=America/Los_Angeles:20251127T000000
DTSTAMP:20260422T093230
CREATED:20251127T145153Z
LAST-MODIFIED:20251127T145153Z
UID:21005-1764201600-1764201600@events.splitbunch.com
SUMMARY:1:1 Tech Mentor / Giáo Viên Máy Tính
DESCRIPTION:Free.  By appointment only. \nOffered in-person or virtually via Zoom\, in English\, Español\, or Tiếng Việt. \nWould you like to find out more about computers? Learn at your own pace! \nWhat We Do: \n\nIntro to computer basics\nAccount or device setup\nIntro to Microsoft Office\nJob search & resume help\nNavigating/organizing email\nAnd more!\n\nContact Tiffany Lam by phone (408) 808-3056 or email at tiffany.lam@sjlibrary.org to make an appointment. \nADA Accommodation Requests
URL:https://events.splitbunch.com/event/11-tech-mentor-giao-vien-may-tinh-1482/
CATEGORIES:San Jose King Library
END:VEVENT
BEGIN:VEVENT
DTSTART;TZID=America/Los_Angeles:20251127T000000
DTEND;TZID=America/Los_Angeles:20251127T000000
DTSTAMP:20260422T093230
CREATED:20251127T135119Z
LAST-MODIFIED:20251127T135119Z
UID:21002-1764201600-1764201600@events.splitbunch.com
SUMMARY:Afternoon Crafts - Grab & Go
DESCRIPTION:Take home our weekly Grab-&-Go craft project. These are simple projects that are easy but rewarding to make.  We include instructions and materials for you.  \nScissors\, glue\, tape\, and coloring supplies are not provided. \nFree. No registration required. While supplies last. \nADA Accommodation Requests
URL:https://events.splitbunch.com/event/afternoon-crafts-grab-go-207/
CATEGORIES:San Jose King Library
END:VEVENT
BEGIN:VEVENT
DTSTART;TZID=America/Los_Angeles:20251127T000000
DTEND;TZID=America/Los_Angeles:20251127T000000
DTSTAMP:20260422T093230
CREATED:20251127T135117Z
LAST-MODIFIED:20251127T135117Z
UID:21001-1764201600-1764201600@events.splitbunch.com
SUMMARY:1:1 Tech Mentor / Giáo Viên Máy Tính
DESCRIPTION:Free.  By appointment only. \nOffered in-person or virtually via Zoom\, in English\, Español\, or Tiếng Việt. \nWould you like to find out more about computers? Learn at your own pace! \nWhat We Do: \n\nIntro to computer basics\nAccount or device setup\nIntro to Microsoft Office\nJob search & resume help\nNavigating/organizing email\nAnd more!\n\nContact Tiffany Lam by phone (408) 808-3056 or email at tiffany.lam@sjlibrary.org to make an appointment. \nADA Accommodation Requests
URL:https://events.splitbunch.com/event/11-tech-mentor-giao-vien-may-tinh-1481/
CATEGORIES:San Jose King Library
END:VEVENT
BEGIN:VEVENT
DTSTART;TZID=America/Los_Angeles:20251127T000000
DTEND;TZID=America/Los_Angeles:20251127T000000
DTSTAMP:20260422T093230
CREATED:20251127T125132Z
LAST-MODIFIED:20251127T125132Z
UID:20998-1764201600-1764201600@events.splitbunch.com
SUMMARY:Afternoon Crafts - Grab & Go
DESCRIPTION:Take home our weekly Grab-&-Go craft project. These are simple projects that are easy but rewarding to make.  We include instructions and materials for you.  \nScissors\, glue\, tape\, and coloring supplies are not provided. \nFree. No registration required. While supplies last. \nADA Accommodation Requests
URL:https://events.splitbunch.com/event/afternoon-crafts-grab-go-206/
CATEGORIES:San Jose King Library
END:VEVENT
BEGIN:VEVENT
DTSTART;TZID=America/Los_Angeles:20251127T000000
DTEND;TZID=America/Los_Angeles:20251127T000000
DTSTAMP:20260422T093230
CREATED:20251127T125129Z
LAST-MODIFIED:20251127T125129Z
UID:20997-1764201600-1764201600@events.splitbunch.com
SUMMARY:1:1 Tech Mentor / Giáo Viên Máy Tính
DESCRIPTION:Free.  By appointment only. \nOffered in-person or virtually via Zoom\, in English\, Español\, or Tiếng Việt. \nWould you like to find out more about computers? Learn at your own pace! \nWhat We Do: \n\nIntro to computer basics\nAccount or device setup\nIntro to Microsoft Office\nJob search & resume help\nNavigating/organizing email\nAnd more!\n\nContact Tiffany Lam by phone (408) 808-3056 or email at tiffany.lam@sjlibrary.org to make an appointment. \nADA Accommodation Requests
URL:https://events.splitbunch.com/event/11-tech-mentor-giao-vien-may-tinh-1480/
CATEGORIES:San Jose King Library
END:VEVENT
BEGIN:VEVENT
DTSTART;TZID=America/Los_Angeles:20251127T000000
DTEND;TZID=America/Los_Angeles:20251127T000000
DTSTAMP:20260422T093230
CREATED:20251127T115157Z
LAST-MODIFIED:20251127T115157Z
UID:20994-1764201600-1764201600@events.splitbunch.com
SUMMARY:Afternoon Crafts - Grab & Go
DESCRIPTION:Take home our weekly Grab-&-Go craft project. These are simple projects that are easy but rewarding to make.  We include instructions and materials for you.  \nScissors\, glue\, tape\, and coloring supplies are not provided. \nFree. No registration required. While supplies last. \nADA Accommodation Requests
URL:https://events.splitbunch.com/event/afternoon-crafts-grab-go-205/
CATEGORIES:San Jose King Library
END:VEVENT
BEGIN:VEVENT
DTSTART;TZID=America/Los_Angeles:20251127T000000
DTEND;TZID=America/Los_Angeles:20251127T000000
DTSTAMP:20260422T093230
CREATED:20251127T115153Z
LAST-MODIFIED:20251127T115153Z
UID:20993-1764201600-1764201600@events.splitbunch.com
SUMMARY:1:1 Tech Mentor / Giáo Viên Máy Tính
DESCRIPTION:Free.  By appointment only. \nOffered in-person or virtually via Zoom\, in English\, Español\, or Tiếng Việt. \nWould you like to find out more about computers? Learn at your own pace! \nWhat We Do: \n\nIntro to computer basics\nAccount or device setup\nIntro to Microsoft Office\nJob search & resume help\nNavigating/organizing email\nAnd more!\n\nContact Tiffany Lam by phone (408) 808-3056 or email at tiffany.lam@sjlibrary.org to make an appointment. \nADA Accommodation Requests
URL:https://events.splitbunch.com/event/11-tech-mentor-giao-vien-may-tinh-1479/
CATEGORIES:San Jose King Library
END:VEVENT
BEGIN:VEVENT
DTSTART;TZID=America/Los_Angeles:20251127T000000
DTEND;TZID=America/Los_Angeles:20251127T000000
DTSTAMP:20260422T093230
CREATED:20251127T105117Z
LAST-MODIFIED:20251127T105117Z
UID:20989-1764201600-1764201600@events.splitbunch.com
SUMMARY:Afternoon Crafts - Grab & Go
DESCRIPTION:Take home our weekly Grab-&-Go craft project. These are simple projects that are easy but rewarding to make.  We include instructions and materials for you.  \nScissors\, glue\, tape\, and coloring supplies are not provided. \nFree. No registration required. While supplies last. \nADA Accommodation Requests
URL:https://events.splitbunch.com/event/afternoon-crafts-grab-go-204/
CATEGORIES:San Jose King Library
END:VEVENT
BEGIN:VEVENT
DTSTART;TZID=America/Los_Angeles:20251127T000000
DTEND;TZID=America/Los_Angeles:20251127T000000
DTSTAMP:20260422T093230
CREATED:20251127T105115Z
LAST-MODIFIED:20251127T105115Z
UID:20988-1764201600-1764201600@events.splitbunch.com
SUMMARY:1:1 Tech Mentor / Giáo Viên Máy Tính
DESCRIPTION:Free.  By appointment only. \nOffered in-person or virtually via Zoom\, in English\, Español\, or Tiếng Việt. \nWould you like to find out more about computers? Learn at your own pace! \nWhat We Do: \n\nIntro to computer basics\nAccount or device setup\nIntro to Microsoft Office\nJob search & resume help\nNavigating/organizing email\nAnd more!\n\nContact Tiffany Lam by phone (408) 808-3056 or email at tiffany.lam@sjlibrary.org to make an appointment. \nADA Accommodation Requests
URL:https://events.splitbunch.com/event/11-tech-mentor-giao-vien-may-tinh-1478/
CATEGORIES:San Jose King Library
END:VEVENT
BEGIN:VEVENT
DTSTART;TZID=America/Los_Angeles:20251127T000000
DTEND;TZID=America/Los_Angeles:20251127T000000
DTSTAMP:20260422T093230
CREATED:20251127T095152Z
LAST-MODIFIED:20251127T095152Z
UID:20985-1764201600-1764201600@events.splitbunch.com
SUMMARY:Afternoon Crafts - Grab & Go
DESCRIPTION:Take home our weekly Grab-&-Go craft project. These are simple projects that are easy but rewarding to make.  We include instructions and materials for you.  \nScissors\, glue\, tape\, and coloring supplies are not provided. \nFree. No registration required. While supplies last. \nADA Accommodation Requests
URL:https://events.splitbunch.com/event/afternoon-crafts-grab-go-203/
CATEGORIES:San Jose King Library
END:VEVENT
BEGIN:VEVENT
DTSTART;TZID=America/Los_Angeles:20251127T000000
DTEND;TZID=America/Los_Angeles:20251127T000000
DTSTAMP:20260422T093230
CREATED:20251127T095150Z
LAST-MODIFIED:20251127T095150Z
UID:20984-1764201600-1764201600@events.splitbunch.com
SUMMARY:1:1 Tech Mentor / Giáo Viên Máy Tính
DESCRIPTION:Free.  By appointment only. \nOffered in-person or virtually via Zoom\, in English\, Español\, or Tiếng Việt. \nWould you like to find out more about computers? Learn at your own pace! \nWhat We Do: \n\nIntro to computer basics\nAccount or device setup\nIntro to Microsoft Office\nJob search & resume help\nNavigating/organizing email\nAnd more!\n\nContact Tiffany Lam by phone (408) 808-3056 or email at tiffany.lam@sjlibrary.org to make an appointment. \nADA Accommodation Requests
URL:https://events.splitbunch.com/event/11-tech-mentor-giao-vien-may-tinh-1477/
CATEGORIES:San Jose King Library
END:VEVENT
BEGIN:VEVENT
DTSTART;TZID=America/Los_Angeles:20251127T000000
DTEND;TZID=America/Los_Angeles:20251127T000000
DTSTAMP:20260422T093230
CREATED:20251127T085224Z
LAST-MODIFIED:20251127T085224Z
UID:20979-1764201600-1764201600@events.splitbunch.com
SUMMARY:Afternoon Crafts - Grab & Go
DESCRIPTION:Take home our weekly Grab-&-Go craft project. These are simple projects that are easy but rewarding to make.  We include instructions and materials for you.  \nScissors\, glue\, tape\, and coloring supplies are not provided. \nFree. No registration required. While supplies last. \nADA Accommodation Requests
URL:https://events.splitbunch.com/event/afternoon-crafts-grab-go-202/
CATEGORIES:San Jose King Library
END:VEVENT
BEGIN:VEVENT
DTSTART;TZID=America/Los_Angeles:20251127T000000
DTEND;TZID=America/Los_Angeles:20251127T000000
DTSTAMP:20260422T093230
CREATED:20251127T085223Z
LAST-MODIFIED:20251127T085223Z
UID:20978-1764201600-1764201600@events.splitbunch.com
SUMMARY:1:1 Tech Mentor / Giáo Viên Máy Tính
DESCRIPTION:Free.  By appointment only. \nOffered in-person or virtually via Zoom\, in English\, Español\, or Tiếng Việt. \nWould you like to find out more about computers? Learn at your own pace! \nWhat We Do: \n\nIntro to computer basics\nAccount or device setup\nIntro to Microsoft Office\nJob search & resume help\nNavigating/organizing email\nAnd more!\n\nContact Tiffany Lam by phone (408) 808-3056 or email at tiffany.lam@sjlibrary.org to make an appointment. \nADA Accommodation Requests
URL:https://events.splitbunch.com/event/11-tech-mentor-giao-vien-may-tinh-1476/
CATEGORIES:San Jose King Library
END:VEVENT
BEGIN:VEVENT
DTSTART;TZID=America/Los_Angeles:20251127T000000
DTEND;TZID=America/Los_Angeles:20251127T000000
DTSTAMP:20260422T093230
CREATED:20251127T015127Z
LAST-MODIFIED:20251127T075209Z
UID:20866-1764201600-1764201600@events.splitbunch.com
SUMMARY:Afternoon Crafts - Grab & Go
DESCRIPTION:Take home our weekly Grab-&-Go craft project. These are simple projects that are easy but rewarding to make.  We include instructions and materials for you.  \nScissors\, glue\, tape\, and coloring supplies are not provided. \nFree. No registration required. While supplies last. \nADA Accommodation Requests
URL:https://events.splitbunch.com/event/afternoon-crafts-grab-go-201/
CATEGORIES:San Jose King Library
END:VEVENT
BEGIN:VEVENT
DTSTART;TZID=America/Los_Angeles:20251127T000000
DTEND;TZID=America/Los_Angeles:20251127T000000
DTSTAMP:20260422T093230
CREATED:20251127T015126Z
LAST-MODIFIED:20251127T075208Z
UID:20865-1764201600-1764201600@events.splitbunch.com
SUMMARY:1:1 Tech Mentor / Giáo Viên Máy Tính
DESCRIPTION:Free.  By appointment only. \nOffered in-person or virtually via Zoom\, in English\, Español\, or Tiếng Việt. \nWould you like to find out more about computers? Learn at your own pace! \nWhat We Do: \n\nIntro to computer basics\nAccount or device setup\nIntro to Microsoft Office\nJob search & resume help\nNavigating/organizing email\nAnd more!\n\nContact Tiffany Lam by phone (408) 808-3056 or email at tiffany.lam@sjlibrary.org to make an appointment. \nADA Accommodation Requests
URL:https://events.splitbunch.com/event/11-tech-mentor-giao-vien-may-tinh-1469/
CATEGORIES:San Jose King Library
END:VEVENT
BEGIN:VEVENT
DTSTART;TZID=America/Los_Angeles:20251126T173000
DTEND;TZID=America/Los_Angeles:20251126T183000
DTSTAMP:20260422T093230
CREATED:20251127T015125Z
LAST-MODIFIED:20251127T015125Z
UID:20864-1764178200-1764181800@events.splitbunch.com
SUMMARY:Public Speaking Practice
DESCRIPTION:Do you have a presentation or interview coming up? Want to gain confidence with your public speaking and conversation skills? Silicon Valley Speaking Club meetings are an excellent opportunity for practice!  \nA free program. Group is friendly and welcoming.  \nIf you have a presentation or other material prepared which you would like to practice\, please notify me with estimated time length through the contact email provided so I can add it to a future meeting agenda. Otherwise\, no preparation is needed for new guests. \nMeetings are in hybrid format. You may attend in-person in Group Study Room 2 or participate through Zoom. You may just observe\, or participate by answering a prompt question for 1-2 minutes during the “Impromptu Speech” section of the meeting.  \nRegistration is required to receive a Zoom link and password. Links and passwords will be provided by email 24 hours before the program\, and again an hour prior. Login information remains the same for each meeting\, but please register for each meeting you plan to attend if you wish to receive email reminders. \nADA Accommodation Requests
URL:https://events.splitbunch.com/event/public-speaking-practice-6/
CATEGORIES:San Jose King Library
END:VEVENT
END:VCALENDAR