BEGIN:VCALENDAR
VERSION:2.0
PRODID:-//SplitBunch Events - ECPv6.15.13//NONSGML v1.0//EN
CALSCALE:GREGORIAN
METHOD:PUBLISH
X-WR-CALNAME:SplitBunch Events
X-ORIGINAL-URL:https://events.splitbunch.com
X-WR-CALDESC:Events for SplitBunch Events
REFRESH-INTERVAL;VALUE=DURATION:PT1H
X-Robots-Tag:noindex
X-PUBLISHED-TTL:PT1H
BEGIN:VTIMEZONE
TZID:America/Los_Angeles
BEGIN:DAYLIGHT
TZOFFSETFROM:-0800
TZOFFSETTO:-0700
TZNAME:PDT
DTSTART:20240310T100000
END:DAYLIGHT
BEGIN:STANDARD
TZOFFSETFROM:-0700
TZOFFSETTO:-0800
TZNAME:PST
DTSTART:20241103T090000
END:STANDARD
BEGIN:DAYLIGHT
TZOFFSETFROM:-0800
TZOFFSETTO:-0700
TZNAME:PDT
DTSTART:20250309T100000
END:DAYLIGHT
BEGIN:STANDARD
TZOFFSETFROM:-0700
TZOFFSETTO:-0800
TZNAME:PST
DTSTART:20251102T090000
END:STANDARD
BEGIN:DAYLIGHT
TZOFFSETFROM:-0800
TZOFFSETTO:-0700
TZNAME:PDT
DTSTART:20260308T100000
END:DAYLIGHT
BEGIN:STANDARD
TZOFFSETFROM:-0700
TZOFFSETTO:-0800
TZNAME:PST
DTSTART:20261101T090000
END:STANDARD
END:VTIMEZONE
BEGIN:VEVENT
DTSTART;TZID=America/Los_Angeles:20251126T160000
DTEND;TZID=America/Los_Angeles:20251126T180000
DTSTAMP:20260422T195418
CREATED:20251126T225127Z
LAST-MODIFIED:20251127T015122Z
UID:20825-1764172800-1764180000@events.splitbunch.com
SUMMARY:Tech Mentor
DESCRIPTION:Need help printing or using Word and Excel? Want to set up an email account? Need ideas on tech security? Questions on accessing SJPL eResources? From the basics to somewhat beyond\, volunteer tech mentors are here to help with thoughtful advice and problem-solving. We will do our best to assist you with your tech dilemmas. \nFree. No registration or appointment required. Just drop by and ask for assistance. \n \nADA Accommodation Requests
URL:https://events.splitbunch.com/event/tech-mentor-145/
CATEGORIES:San Jose King Library
END:VEVENT
BEGIN:VEVENT
DTSTART;TZID=America/Los_Angeles:20251126T160000
DTEND;TZID=America/Los_Angeles:20251126T180000
DTSTAMP:20260422T195418
CREATED:20251126T215127Z
LAST-MODIFIED:20251127T015122Z
UID:20816-1764172800-1764180000@events.splitbunch.com
SUMMARY:One-On-One Tech Help
DESCRIPTION:Do you need help using a computer? Want to set up an email account? Stop by the Santa Teresa Branch Library for a session with our experienced volunteer! They can assist you with basic tech issues\, such as:  \n\nSetting up an email account\, composing & sending emails\, using email attachments \nWeb searches and basic data entry \nLearning the basics of Microsoft Word and Excel and web-based productivity software such as Google docs \nUsing the library’s pay-for-print and photocopy machines\nDownloading apps on your phone or tablet\nAnd much more! \n\nYou are welcome to bring your own device\, such as a laptop\, phone or tablet\, or you can use one of our computers.  \nFree\, No Registration Required \nADA Accommodation Requests
URL:https://events.splitbunch.com/event/one-on-one-tech-help-15/
CATEGORIES:San Jose King Library
END:VEVENT
BEGIN:VEVENT
DTSTART;TZID=America/Los_Angeles:20251126T160000
DTEND;TZID=America/Los_Angeles:20251126T173000
DTSTAMP:20260422T195418
CREATED:20251126T205136Z
LAST-MODIFIED:20251127T005135Z
UID:20789-1764172800-1764178200@events.splitbunch.com
SUMMARY:Comic Shop: Comic/Manga Buttons
DESCRIPTION:Repurpose comics\, graphic novels\, and manga to make the perfect button for your backpack\, lanyard\, or shirt. You can bring your own images\, cutouts\, and photos to turn into a button as long as the paper isn’t too thick. Paper\, pencils\, and markers available to make even more customizable wearable art. \nThis program is free. No pre-registration required. \nThis program is specifically for Middle and High Schoolers. Adult caregivers and younger siblings will be asked to sit in the Teen Reading Room while they wait. \nADA Accommodation Requests
URL:https://events.splitbunch.com/event/comic-shop-comic-manga-buttons-2/
CATEGORIES:San Jose King Library
END:VEVENT
BEGIN:VEVENT
DTSTART;TZID=America/Los_Angeles:20251126T160000
DTEND;TZID=America/Los_Angeles:20251126T170000
DTSTAMP:20260422T195418
CREATED:20251126T215126Z
LAST-MODIFIED:20251127T005136Z
UID:20815-1764172800-1764176400@events.splitbunch.com
SUMMARY:Wacky Wednesdays
DESCRIPTION:Join us on Wednesdays for arts or crafts  at the library!  Each week we focus on a different themed artwork or craft. All supplies will be provided! \nFree. No registration required. While supplies lasts. \n \nNovember 26 – Coffee Filter Turkey craft \nDecember 3 –  Hibernating Bear craft \nDecember 10 – Hot Chocolate craftDecember 17  – Cardboard Gingerbread HousesDecember 24 – Cancelled – Library closedDecember 31 – New Year’s Eve Party Hats \nADA Accommodation Requests
URL:https://events.splitbunch.com/event/wacky-wednesdays-16/
CATEGORIES:San Jose King Library
END:VEVENT
BEGIN:VEVENT
DTSTART;TZID=America/Los_Angeles:20251126T160000
DTEND;TZID=America/Los_Angeles:20251126T170000
DTSTAMP:20260422T195418
CREATED:20251126T205140Z
LAST-MODIFIED:20251127T005136Z
UID:20793-1764172800-1764176400@events.splitbunch.com
SUMMARY:Grab & Go: Math-Crame
DESCRIPTION:Math-Crame program is a 1-hour workshop for school-aged children to make macrame bracelets or keychains. They will be learning how to measure length when preparing their project’s cords and practice their counting to keep track of their knots as part of the activity. \nThis month’s session will be a Grab & Go kit to take home and complete! \nADA Accommodation Requests
URL:https://events.splitbunch.com/event/grab-go-math-crame/
CATEGORIES:San Jose King Library
END:VEVENT
BEGIN:VEVENT
DTSTART;TZID=America/Los_Angeles:20251126T160000
DTEND;TZID=America/Los_Angeles:20251126T170000
DTSTAMP:20260422T195418
CREATED:20251126T205139Z
LAST-MODIFIED:20251127T005135Z
UID:20792-1764172800-1764176400@events.splitbunch.com
SUMMARY:Illuminated Crafts: Fall Paper Lantern
DESCRIPTION:The fall season is upon us! Learn about the science that results in the fall colors from deep reds to bright yellows. And of course\, create a paper lantern that captures the season. \nThis STEAM program is recommended for ages 8 and above. \nRegistration is required. \nADA Accommodation Requests
URL:https://events.splitbunch.com/event/illuminated-crafts-fall-paper-lantern/
CATEGORIES:San Jose King Library
END:VEVENT
BEGIN:VEVENT
DTSTART;TZID=America/Los_Angeles:20251126T160000
DTEND;TZID=America/Los_Angeles:20251126T170000
DTSTAMP:20260422T195418
CREATED:20251126T205138Z
LAST-MODIFIED:20251127T005135Z
UID:20791-1764172800-1764176400@events.splitbunch.com
SUMMARY:Wednesday Craft-Stravaganza
DESCRIPTION:Come join us every 2nd and 4th Wednesday for a new craft activity! All supplies are provided. \n This will take place inside the Community Room.  \nThis program was generously sponsored by the Friends of the Cambrian Branch Library. \n \nADA Accommodation Requests
URL:https://events.splitbunch.com/event/wednesday-craft-stravaganza-3/
CATEGORIES:San Jose King Library
END:VEVENT
BEGIN:VEVENT
DTSTART;TZID=America/Los_Angeles:20251126T160000
DTEND;TZID=America/Los_Angeles:20251126T170000
DTSTAMP:20260422T195418
CREATED:20251126T205137Z
LAST-MODIFIED:20251127T005135Z
UID:20790-1764172800-1764176400@events.splitbunch.com
SUMMARY:Afternoon Crafts
DESCRIPTION:Visit the library to participate in arts and crafts for kids.  All tools and supplies are provided. \nFree. No registration required. \nADA Accommodation Requests
URL:https://events.splitbunch.com/event/afternoon-crafts-18/
CATEGORIES:San Jose King Library
END:VEVENT
BEGIN:VEVENT
DTSTART;TZID=America/Los_Angeles:20251126T153000
DTEND;TZID=America/Los_Angeles:20251126T163000
DTSTAMP:20260422T195418
CREATED:20251126T205135Z
LAST-MODIFIED:20251126T235227Z
UID:20788-1764171000-1764174600@events.splitbunch.com
SUMMARY:Lego Engineering
DESCRIPTION:Build\, learn and imagine with Lego! Construct buildings and structures with weekly builder challenges!  \n \nFree. In-Person. Ages 5 and Up. \nKits generously provided by Friends of Village Square Library \nADA Accommodation Requests
URL:https://events.splitbunch.com/event/lego-engineering-12/
CATEGORIES:San Jose King Library
END:VEVENT
BEGIN:VEVENT
DTSTART;TZID=America/Los_Angeles:20251126T150000
DTEND;TZID=America/Los_Angeles:20251126T163000
DTSTAMP:20260422T195418
CREATED:20251126T205134Z
LAST-MODIFIED:20251126T235227Z
UID:20786-1764169200-1764174600@events.splitbunch.com
SUMMARY:SAT Help
DESCRIPTION:The SAT Help program at Seven Trees Library offers one-on-one tutoring to help students prepare for the SAT exam. Strengthen your knowledge and test-taking skills to improve your college application. \nFree\, in-person tutoring sessions every Wednesday at the library! \nNo registration required. \nADA Accommodation Request
URL:https://events.splitbunch.com/event/sat-help-8/
CATEGORIES:San Jose King Library
END:VEVENT
BEGIN:VEVENT
DTSTART;TZID=America/Los_Angeles:20251126T150000
DTEND;TZID=America/Los_Angeles:20251126T160000
DTSTAMP:20260422T195418
CREATED:20251126T205134Z
LAST-MODIFIED:20251126T235227Z
UID:20787-1764169200-1764172800@events.splitbunch.com
SUMMARY:Reading to Children
DESCRIPTION:Our library volunteer Ms. Marion will be available in the children’s picture book area to read picture books to children. Children will have fun listening to stories while they develop a love for books and reading. Pre-registration is not required\, and children may drop in to hear a story any time during the program. This program is best suited for preschoolers and children in grades K-3. \nADA Accommodation Requests
URL:https://events.splitbunch.com/event/reading-to-children-52/
CATEGORIES:San Jose King Library
END:VEVENT
BEGIN:VEVENT
DTSTART;TZID=America/Los_Angeles:20251126T150000
DTEND;TZID=America/Los_Angeles:20251126T160000
DTSTAMP:20260422T195418
CREATED:20251126T205133Z
LAST-MODIFIED:20251126T235227Z
UID:20785-1764169200-1764172800@events.splitbunch.com
SUMMARY:Reading to Children with Sarah
DESCRIPTION:Participating in the Reading to Children program is a great way for children to develop their imagination and spark a love for books\, reading and learning. Children will enjoy one-on-one or small group interaction with our volunteer\,  Kids are also welcome to practice reading to our volunteer. \nReading to Children will take place in the Children’s Area.  \nADA Accommodation Requests
URL:https://events.splitbunch.com/event/reading-to-children-with-sarah-10/
CATEGORIES:San Jose King Library
END:VEVENT
BEGIN:VEVENT
DTSTART;TZID=America/Los_Angeles:20251126T150000
DTEND;TZID=America/Los_Angeles:20251126T160000
DTSTAMP:20260422T195418
CREATED:20251126T205132Z
LAST-MODIFIED:20251126T235227Z
UID:20784-1764169200-1764172800@events.splitbunch.com
SUMMARY:Reading To Children at the Willow Glen Library
DESCRIPTION:Participating in the Reading to Children program is a great way for children to develop their imagination and spark a love for books\, reading and learning. Children will enjoy one-on-one or small group interaction with our volunteers Mike & Sally. Kids are also welcome to practice reading to our volunteer. \nFree. No registration required. \nADA Accommodation Requests
URL:https://events.splitbunch.com/event/reading-to-children-at-the-willow-glen-library-17/
CATEGORIES:San Jose King Library
END:VEVENT
BEGIN:VEVENT
DTSTART;TZID=America/Los_Angeles:20251126T140000
DTEND;TZID=America/Los_Angeles:20251126T160000
DTSTAMP:20260422T195418
CREATED:20251126T205131Z
LAST-MODIFIED:20251126T235226Z
UID:20783-1764165600-1764172800@events.splitbunch.com
SUMMARY:Homework Club at Joyce Ellington Branch
DESCRIPTION:Need help with your homework or a subject in school? Students in Kindergarten through 6th grade can come to Joyce Ellington  Branch Library on Wednesdays from 2 to 4 pm to get free assistance . Students can get help with their homework/school enrichment or use our Study Room as a space to work on school projects independently.  \nFree. No registration required  \nADA Accommodation Requests
URL:https://events.splitbunch.com/event/homework-club-at-joyce-ellington-branch-10/
CATEGORIES:San Jose King Library
END:VEVENT
BEGIN:VEVENT
DTSTART;TZID=America/Los_Angeles:20251126T140000
DTEND;TZID=America/Los_Angeles:20251126T160000
DTSTAMP:20260422T195418
CREATED:20251126T205130Z
LAST-MODIFIED:20251126T235226Z
UID:20782-1764165600-1764172800@events.splitbunch.com
SUMMARY:Tech Mentor at Edenvale Branch
DESCRIPTION:Do you need help using a computer? Want to set up an email account? Stop by the Edenvale Branch Library for one-on-one computer help with our Tech Mentor! Our Tech Mentor will do their best to assist you with your tech dilemmas such as setting up an email account and sending an email\, web searches\, etc.  \nFree. No registration or appointment required. Just drop by and ask for assistance. \nADA Accommodation Requests
URL:https://events.splitbunch.com/event/tech-mentor-at-edenvale-branch-14/
CATEGORIES:San Jose King Library
END:VEVENT
BEGIN:VEVENT
DTSTART;TZID=America/Los_Angeles:20251126T140000
DTEND;TZID=America/Los_Angeles:20251126T160000
DTSTAMP:20260422T195418
CREATED:20251126T205129Z
LAST-MODIFIED:20251126T235226Z
UID:20781-1764165600-1764172800@events.splitbunch.com
SUMMARY:Tech Mentor
DESCRIPTION:Need help printing or using Word and Excel? Want to set up an email account? Need ideas on tech security? Questions on accessing SJPL eResources? From the basics to somewhat beyond\, volunteer tech mentors are here to help with thoughtful advice and problem-solving. We will do our best to assist you with your tech dilemmas. \nFree. No registration or appointment required. Just drop by and ask for assistance. \nADA Accommodation Requests
URL:https://events.splitbunch.com/event/tech-mentor-144/
CATEGORIES:San Jose King Library
END:VEVENT
BEGIN:VEVENT
DTSTART;TZID=America/Los_Angeles:20251126T130000
DTEND;TZID=America/Los_Angeles:20251126T170000
DTSTAMP:20260422T195418
CREATED:20251126T195128Z
LAST-MODIFIED:20251127T005134Z
UID:20769-1764162000-1764176400@events.splitbunch.com
SUMMARY:1-on-1 Tech Help / Ayuda con la Tecnología
DESCRIPTION:Do you have questions or need assistance with technology? At the Edenvale Branch we can assist you. \nStaff and trained volunteers will help you to: \n\nOpen an email account\nConnect to Wi-Fi/hotspots\nUse laptops/Chromebooks\nUse Microsoft Office\nFill out simple forms online\nFill out job applications\nNavigate the SJPL website\n\n \nFree.  BY APPOINTMENT ONLY \nFor more information or to make an appointment\, please contact: \nClaudia Hernández(408) 808-3036claudia.hernandez@sjlibrary.org \nADA Accommodation Requests \n———————————————————— \n¿Tiene preguntas o necesita ayuda técnica? ¡En la biblioteca Edenvale le podemos ayudar! \nPersonal y voluntarios de la biblioteca le ayudarán a: \n\nAbrir una cuenta de correo electrónico\nConectarse a Wi-Fi/hotspots\nUsar computadoras personales/Chromebooks\nUsar Microsoft Office\nLlenar formularios simples en línea\nLlenar aplicaciones de trabajo\nNavegar la página web de SJPL\n\nGratis. SE REQUIERE CITA. \nPara más información o para hacer una cita\, por favor contactar a: \nClaudia Hernández(408) 808-3036claudia.hernandez@sjlibrary.org \nADA Accommodation Requests
URL:https://events.splitbunch.com/event/1-on-1-tech-help-ayuda-con-la-tecnologia-25/
CATEGORIES:San Jose King Library
END:VEVENT
BEGIN:VEVENT
DTSTART;TZID=America/Los_Angeles:20251126T130000
DTEND;TZID=America/Los_Angeles:20251126T150000
DTSTAMP:20260422T195418
CREATED:20251126T195128Z
LAST-MODIFIED:20251126T225124Z
UID:20768-1764162000-1764169200@events.splitbunch.com
SUMMARY:Beginner English Class
DESCRIPTION:¨ Beginner English Class for students with little to no English \n¨ Improve basic speaking and listening skills  \n¨ No registration required.  \nADA Accommodation Requests
URL:https://events.splitbunch.com/event/beginner-english-class-10/
CATEGORIES:San Jose King Library
END:VEVENT
BEGIN:VEVENT
DTSTART;TZID=America/Los_Angeles:20251126T130000
DTEND;TZID=America/Los_Angeles:20251126T140000
DTSTAMP:20260422T195418
CREATED:20251126T195129Z
LAST-MODIFIED:20251126T215123Z
UID:20770-1764162000-1764165600@events.splitbunch.com
SUMMARY:In-Person English Language Learner (ELL) Conversation Club
DESCRIPTION:The West Valley Branch Library presents an in-person adult English Language Learner (ELL) Conversation Club. \nThis is a welcoming and respectful environment for adult learners who want to develop and improve their English Language and vocabulary skills. A volunteer facilitator will give participants a chance to practice speaking English by guiding conversation on a variety of topics. All skill levels are welcome to attend. Free. Registration not required. \n \nADA Accommodation Requests
URL:https://events.splitbunch.com/event/in-person-english-language-learner-ell-conversation-club-18/
CATEGORIES:San Jose King Library
END:VEVENT
BEGIN:VEVENT
DTSTART;TZID=America/Los_Angeles:20251126T120000
DTEND;TZID=America/Los_Angeles:20251126T130000
DTSTAMP:20260422T195418
CREATED:20251126T195127Z
LAST-MODIFIED:20251126T205127Z
UID:20766-1764158400-1764162000@events.splitbunch.com
SUMMARY:Tech Mentor: One on One Computer Help
DESCRIPTION:Confused by your computer? Get personalized tech assistance from a Librarian at the Evergreen Branch Library! \nHelp is available for basic tasks such as connecting to WiFi\, using\nemail\, creating documents\, and accessing library resources such as\ne-books and virtual programs. We can also provide basic instructions for\n using devices such as laptops\, smartphones\, hotpots\, e-readers\, etc. \nWeekly Tech Mentor Schedule: \n\nMonday: 1:00 – 3:00pm\nWednesday: 12:00 – 1:00pm\n\nFree. No registration or appointment required. Just drop by and ask for assistance. \nADA Accommodation Requests
URL:https://events.splitbunch.com/event/tech-mentor-one-on-one-computer-help-37/
CATEGORIES:San Jose King Library
END:VEVENT
BEGIN:VEVENT
DTSTART;TZID=America/Los_Angeles:20251126T120000
DTEND;TZID=America/Los_Angeles:20251126T130000
DTSTAMP:20260422T195418
CREATED:20251126T195127Z
LAST-MODIFIED:20251126T205127Z
UID:20767-1764158400-1764162000@events.splitbunch.com
SUMMARY:*Virtual* Resume Review
DESCRIPTION:*This is a FREE webinar \nHave your resume reviewed by a SJPL Works Business & Career Librarian. The resume review will be a 15 minute one-on-one meeting\, during which the Librarian will identify what needs to be improved and can help organize your information.  \nPlease have your resume and job description prepared to share over Zoom. \n \nRegistration is required. Please register here. \n \nZoom link and password will be sent 1 hour before the start of program.  \n*Services are provided one-on-one on a first-come\, first-served basis. We ask that participants please be patience as there will be a virtual waiting room while each participant is met* \n \neNewsletter Signup: \nGet the inside scoop on business and career resources at SJPL. Sign-up today for our monthly eNewsletter\, highlighting the latest programs\, eResources and services available at the San José Public Library. \nADA Accommodation Requests \n#sjplworkscovid19 #sjplworkscareer2
URL:https://events.splitbunch.com/event/virtual-resume-review-6/
CATEGORIES:San Jose King Library
END:VEVENT
BEGIN:VEVENT
DTSTART;TZID=America/Los_Angeles:20251126T113000
DTEND;TZID=America/Los_Angeles:20251126T123000
DTSTAMP:20260422T195418
CREATED:20251126T195126Z
LAST-MODIFIED:20251126T195126Z
UID:20764-1764156600-1764160200@events.splitbunch.com
SUMMARY:Crafting Club
DESCRIPTION:Love working with your hands? Join our Crafting Club! \nWhether you’re into drawing\, knitting\, origami\, beading\, or any other craft\, join fellow craft enthusiasts! \nBring your own projects to work on; share ideas\, discover new techniques\, or simply enjoy the company of others who love creating with their hands. \nWe meet every Wednesday from November 12th through December 3rd from 11:30 -12:30 pm in the Evergreen Branch Community Room. \nOpen to anyone 7 and up. Younger children are welcome when accompanied by family. \nBring your supplies\, and your curiosity—we can’t wait to see you there! \nADA Accommodation Requests
URL:https://events.splitbunch.com/event/crafting-club-3/
CATEGORIES:San Jose King Library
END:VEVENT
BEGIN:VEVENT
DTSTART;TZID=America/Los_Angeles:20251126T113000
DTEND;TZID=America/Los_Angeles:20251126T120000
DTSTAMP:20260422T195418
CREATED:20251126T195126Z
LAST-MODIFIED:20251126T195126Z
UID:20765-1764156600-1764158400@events.splitbunch.com
SUMMARY:Indoor Family Storytime
DESCRIPTION:Family Storytime is designed to accommodate a mix of ages and invites the entire family to participate in early literacy activities such as stories\, songs\, rhymes\, fingerplays\, and movement. \n Storytime is a fun and interactive experience for the whole family that promotes the joys of reading and learning for all ages. \nFree\, with limited capacity. \nSeating for Storytime is available on a first-come\, first-served basis.  \n\nThis program is developed to align with the Early Education Quality Standards. \nADA Accommodation Requests
URL:https://events.splitbunch.com/event/indoor-family-storytime-20/
CATEGORIES:San Jose King Library
END:VEVENT
BEGIN:VEVENT
DTSTART;TZID=America/Los_Angeles:20251126T110000
DTEND;TZID=America/Los_Angeles:20251126T160000
DTSTAMP:20260422T195418
CREATED:20251126T195125Z
LAST-MODIFIED:20251126T235226Z
UID:20762-1764154800-1764172800@events.splitbunch.com
SUMMARY:Digital Skills: One-On-One Tech Help for Seniors
DESCRIPTION:Do you have questions or need assistance with technology? At the Almaden Branch you can make a 30-minute appointment to assist you with: \n\nLearning to use Libby (formerly Overdrive) to read ebooks and listen to e-audiobooks\nAccessing non-Overdrive eBooks and audiobooks from Boundless\, CloudLibrary\, and Enki\nUsing Hoopla to read\, listen and watch\nAccessing the New York Times and/or the San Jose Mercury News online\nAccessing and searching Consumer Reports\nLearning a new language with Mango\nConnecting to Wi-Fi/hotspots\nUsing Discover & Go to reserve free or reduced tickets to local museums and attractions\nNavigating the SJPL website\nChecking out a 7-day pass to access Great Courses from Libby or Hoopla\nUsing the library’s pay-to-print system\nWalking you through a Digital Skills Building Pathways lesson\nAnd much more!\n\nBY APPOINTMENT ONLY\n\nOne appointment per week per person. For questions\, please call (408) 808-3040 or send an email to ab.sjpl@sjlibrary.org  \nADA Accommodation Requests
URL:https://events.splitbunch.com/event/digital-skills-one-on-one-tech-help-for-seniors-24/
CATEGORIES:San Jose King Library
END:VEVENT
BEGIN:VEVENT
DTSTART;TZID=America/Los_Angeles:20251126T110000
DTEND;TZID=America/Los_Angeles:20251126T123000
DTSTAMP:20260422T195418
CREATED:20251126T195125Z
LAST-MODIFIED:20251126T195125Z
UID:20763-1764154800-1764160200@events.splitbunch.com
SUMMARY:Indoor Family Storytime
DESCRIPTION:Storytime is designed to accommodate a mix of ages and invites the entire family to participate in early literacy activities such as stories\, songs\, rhymes\, fingerplays\, and movement activities. Storytime is a fun and interactive experience for the whole family that promotes the joys of reading and learning for all ages. This program is geared for children of all ages and their parents/caregivers! \nFree\, with limited capacity. \nSeating for Storytime is available on a first-come\, first-served basis in our 1st floor Community Room.  \nStorytime A begins at 11 a.m. For those who want a quieter experience\, Storytime B at 11:45 a.m. is recommended. Both are identical in content.  \n\nThis program is developed to align with the Early Education Quality Standards. \nADA Accommodation Requests
URL:https://events.splitbunch.com/event/indoor-family-storytime-19/
CATEGORIES:San Jose King Library
END:VEVENT
BEGIN:VEVENT
DTSTART;TZID=America/Los_Angeles:20251126T110000
DTEND;TZID=America/Los_Angeles:20251126T120000
DTSTAMP:20260422T195418
CREATED:20251126T195124Z
LAST-MODIFIED:20251126T195124Z
UID:20761-1764154800-1764158400@events.splitbunch.com
SUMMARY:Volunteer Away Your Fines as a Drop-in Do Gooder
DESCRIPTION:Drop-in every last Wednesday of each month to volunteer away your library fines at a rate of $20 per hour while helping the library maintain a clean and welcoming environment. \nDetails and Requirements: \n• Must be able to commit to the full session \n• Anyone under the age of 15 must volunteer alongside a parent/guardian \n• No experience or special skills necessary \nTo register\, please call 408-808-3088 or email trang.mai@sjlibrary.org
URL:https://events.splitbunch.com/event/volunteer-away-your-fines-as-a-drop-in-do-gooder-4/
CATEGORIES:San Jose King Library
END:VEVENT
BEGIN:VEVENT
DTSTART;TZID=America/Los_Angeles:20251126T110000
DTEND;TZID=America/Los_Angeles:20251126T120000
DTSTAMP:20260422T195418
CREATED:20251126T185122Z
LAST-MODIFIED:20251126T195124Z
UID:20755-1764154800-1764158400@events.splitbunch.com
SUMMARY:Indoor Family Storytime + Stay & Play
DESCRIPTION:Storytime is designed to accommodate a mix of ages and invites the entire family to participate in early literacy activities such as stories\, songs\, rhymes\, fingerplays\, and movement activities. Storytime is a fun and interactive experience for the whole family that promotes the joys of reading and learning for all ages. This program is geared for children of all ages and their parents/caregivers! \nPlease note that this will be an indoor program. \nFree\, with limited capacity. \nAs we navigate pandemic life\, here are a few modifications to our Storytime: \n\nSeating for Storytime is available on a first-come\, first-served basis. A limited number of tickets will be distributed at the Information Desk 30 minutes prior to the start of Storytime.\nIt is strongly recommended that everyone (ages 2+) wear a mask for indoor programming.\n\nAfter Storytime concludes\, we invite you to Stay & Play! Until 12pm the Storytime librarian and special toys will be on the Children’s\nRoom floor to keep the fun going. Meet new friends\, play with toys\,\nchat\, get book recommendations\, and maybe even create something! \n\nStorytime 11:00-11:30am\nStay & Play 11:30am-12:00pm\n\nThis program is developed to align with the Early Education Quality Standards. \nADA Accommodation Requests
URL:https://events.splitbunch.com/event/indoor-family-storytime-stay-play-16/
CATEGORIES:San Jose King Library
END:VEVENT
BEGIN:VEVENT
DTSTART;TZID=America/Los_Angeles:20251126T110000
DTEND;TZID=America/Los_Angeles:20251126T120000
DTSTAMP:20260422T195418
CREATED:20251126T085157Z
LAST-MODIFIED:20251126T195124Z
UID:20730-1764154800-1764158400@events.splitbunch.com
SUMMARY:Family Storytime
DESCRIPTION:Storytime is designed to accommodate a mix of ages and invites the entire family to participate in early literacy activities such as stories\, songs\, rhymes\, fingerplays\, and movement activities. Storytime is a fun and interactive experience for the whole family that promotes the joys of reading and learning for all ages. This program is geared for children of all ages and their parents/caregivers!  \nJoin us after for Stay & Play\, a playtime for children and their caregivers to socialize and explore. \nFree. No registration required \nThis program is developed to align with the Early Education Quality Standards. \nADA Accommodation Requests
URL:https://events.splitbunch.com/event/family-storytime-114/
CATEGORIES:San Jose King Library
END:VEVENT
BEGIN:VEVENT
DTSTART;TZID=America/Los_Angeles:20251126T110000
DTEND;TZID=America/Los_Angeles:20251126T120000
DTSTAMP:20260422T195418
CREATED:20251126T025147Z
LAST-MODIFIED:20251126T195124Z
UID:20676-1764154800-1764158400@events.splitbunch.com
SUMMARY:Baby Lap-Sit Story Time
DESCRIPTION:This program is geared for pre-walking children and their parents or caregivers. \nBaby Lap-Sit Storytime invites newborns\, infants\, and their caregivers to learn together by strengthening their relationship with each other through stories\, songs\, bounces\, tickles\, rhymes\, books\, and play. The program includes a half hour of stories and songs\, followed by a half hour of open play with age appropriate toys. \nAll attendees will be required to observe the library’s Safety Guidelines. \nThis program is developed to align with the Early Education Quality Standards. \nADA Accommodation Requests
URL:https://events.splitbunch.com/event/baby-lap-sit-story-time-10/
CATEGORIES:San Jose King Library
END:VEVENT
BEGIN:VEVENT
DTSTART;TZID=America/Los_Angeles:20251126T110000
DTEND;TZID=America/Los_Angeles:20251126T113000
DTSTAMP:20260422T195418
CREATED:20251126T185122Z
LAST-MODIFIED:20251126T185122Z
UID:20756-1764154800-1764156600@events.splitbunch.com
SUMMARY:Reading to Children
DESCRIPTION:Participating in the Reading to Children program is a great way for children to develop their imagination and spark a love for books\, reading and learning.  \nChildren will enjoy a small group interaction with our volunteer and will be held in the Reading to Children corner\, within the Children’s Area. \nFree. No registration required. \n ADA Accommodation Requests
URL:https://events.splitbunch.com/event/reading-to-children-51/
CATEGORIES:San Jose King Library
END:VEVENT
END:VCALENDAR