BEGIN:VCALENDAR
VERSION:2.0
PRODID:-//SplitBunch Events - ECPv6.15.13//NONSGML v1.0//EN
CALSCALE:GREGORIAN
METHOD:PUBLISH
X-WR-CALNAME:SplitBunch Events
X-ORIGINAL-URL:https://events.splitbunch.com
X-WR-CALDESC:Events for SplitBunch Events
REFRESH-INTERVAL;VALUE=DURATION:PT1H
X-Robots-Tag:noindex
X-PUBLISHED-TTL:PT1H
BEGIN:VTIMEZONE
TZID:America/Los_Angeles
BEGIN:DAYLIGHT
TZOFFSETFROM:-0800
TZOFFSETTO:-0700
TZNAME:PDT
DTSTART:20240310T100000
END:DAYLIGHT
BEGIN:STANDARD
TZOFFSETFROM:-0700
TZOFFSETTO:-0800
TZNAME:PST
DTSTART:20241103T090000
END:STANDARD
BEGIN:DAYLIGHT
TZOFFSETFROM:-0800
TZOFFSETTO:-0700
TZNAME:PDT
DTSTART:20250309T100000
END:DAYLIGHT
BEGIN:STANDARD
TZOFFSETFROM:-0700
TZOFFSETTO:-0800
TZNAME:PST
DTSTART:20251102T090000
END:STANDARD
BEGIN:DAYLIGHT
TZOFFSETFROM:-0800
TZOFFSETTO:-0700
TZNAME:PDT
DTSTART:20260308T100000
END:DAYLIGHT
BEGIN:STANDARD
TZOFFSETFROM:-0700
TZOFFSETTO:-0800
TZNAME:PST
DTSTART:20261101T090000
END:STANDARD
END:VTIMEZONE
BEGIN:VEVENT
DTSTART;TZID=America/Los_Angeles:20251117T183000
DTEND;TZID=America/Los_Angeles:20251117T203000
DTSTAMP:20260423T010209
CREATED:20251116T015115Z
LAST-MODIFIED:20251118T035203Z
UID:18129-1763404200-1763411400@events.splitbunch.com
SUMMARY:ESL Class Session / Clases de inglés
DESCRIPTION:Santa Clara County Library District residents are eligible to register for this in-person ESL class led by a professional ESL instructor. This class session is for beginners. Join us to learn and improve your English listening and speaking skills. Space is limited so registration is recommended.  \nClasses are Monday and Wednesday evenings 6:30pm – 8:30pm from August 25 through November 19. There will be no class on September 1 or October 13. You should plan to attend the entire class session. This class will take place in-person at the Gilroy Library and is for adults. \n————————– \nLos residentes del Distrito de Bibliotecas del Condado de Santa Clara pueden inscribirse en esta clase presencial de inglés como segundo idioma (ESL) impartida por un instructor profesional. Esta clase es para principiantes. Únase a nosotros para aprender y mejorar sus habilidades de comprensión auditiva y expresión oral en inglés. El cupo es limitado\, por lo que se recomienda inscribirse. \nLas clases se imparten los lunes y miércoles por la tarde\, de 6:30 pm a 8:30 pm\, del 25 de agosto al 19 de noviembre. No habrá clases el 1 de septiembre ni el 13 de octubre. Le recomendamos asistir a toda la clase. Esta clase se impartirá presencialmente en la Biblioteca de Gilroy y es para adultos.
URL:https://events.splitbunch.com/event/esl-class-session-clases-de-ingles-17/
CATEGORIES:Gilroy Library
END:VEVENT
BEGIN:VEVENT
DTSTART;TZID=America/Los_Angeles:20251117T183000
DTEND;TZID=America/Los_Angeles:20251117T190000
DTSTAMP:20260423T010209
CREATED:20251116T205211Z
LAST-MODIFIED:20251118T025158Z
UID:18265-1763404200-1763406000@events.splitbunch.com
SUMMARY:Pajama Storytime [Hora de Cuentos en Pijama]
DESCRIPTION:Please join us at Gilroy Library for the Pajama Storytime where we read stories\, sing songs\, play games\, and wear our pajamas for children of all ages with Librarian Samantha! Learning while having fun.Every Monday at 6:30pm\, in the Nest \n— \nAcompañenos en nuestra Hora de Cuentos en Pijama en la biblioteca de Gilroy\, donde leemos cuentos\, cantamos canciones\, y jugamos con la bibliotecaria Samantha. No olviden traer sus pijamas puestas. ¡Aprendan mientras se divierten!Cada Lunes a las 6:30pm en el nido
URL:https://events.splitbunch.com/event/pajama-storytime-hora-de-cuentos-en-pijama-7/
CATEGORIES:Gilroy Library
END:VEVENT
BEGIN:VEVENT
DTSTART;TZID=America/Los_Angeles:20251117T183000
DTEND;TZID=America/Los_Angeles:20251117T190000
DTSTAMP:20260423T010209
CREATED:20251017T075201Z
LAST-MODIFIED:20251108T064640Z
UID:9443-1763404200-1763406000@events.splitbunch.com
SUMMARY:Lullaby Storytime
DESCRIPTION:Date: Monday\, November 17\, 2025 Time: 6:30 pm – 7:00 pm  Location:  1st Floor Program Room   \nA musical storytime for infants and new toddlers with books\, baby bounces\, and nursery rhymes. Third Mondays of the month this fall!
URL:https://events.splitbunch.com/event/lullaby-storytime-3/
CATEGORIES:Mountain View Public Library
END:VEVENT
BEGIN:VEVENT
DTSTART;TZID=America/Los_Angeles:20251117T183000
DTEND;TZID=America/Los_Angeles:20251117T184500
DTSTAMP:20260423T010209
CREATED:20251116T205211Z
LAST-MODIFIED:20251118T015125Z
UID:18266-1763404200-1763405100@events.splitbunch.com
SUMMARY:Reading Buddies for Grades K-6
DESCRIPTION:Registration opens the 3rd Monday of the month for the following month. Readers may register for 1 session per month. \nPractice your reading skills by reading aloud one on one with a furry friend! Each 15-minute session is with a specially trained dog and their volunteer. Bring a book from home or borrow one from the library. For K-6th grade. \nPlease register with the child’s name and parent email information. \n \nFor accessibility accommodations (ex. ASL)\, please fill out the online form at sccld.org/accessibility 7+days prior to the event. If you need assistance with the form\, speak with a staff member at your local library\, call (408) 540-3945\, or email us at ask@sccl.org.
URL:https://events.splitbunch.com/event/reading-buddies-for-grades-k-6-15/
CATEGORIES:Morgan Hill Library
END:VEVENT
BEGIN:VEVENT
DTSTART;TZID=America/Los_Angeles:20251117T181500
DTEND;TZID=America/Los_Angeles:20251117T183000
DTSTAMP:20260423T010209
CREATED:20251116T005136Z
LAST-MODIFIED:20251118T015124Z
UID:18121-1763403300-1763404200@events.splitbunch.com
SUMMARY:Reading Buddies for Grades K-6
DESCRIPTION:Registration opens the 3rd Monday of the month for the following month. Readers may register for 1 session per month. \nPractice your reading skills by reading aloud one on one with a furry friend! Each 15-minute session is with a specially trained dog and their volunteer. Bring a book from home or borrow one from the library. For K-6th grade. \nPlease register with the child’s name and parent email information. \n \nFor accessibility accommodations (ex. ASL)\, please fill out the online form at sccld.org/accessibility 7+days prior to the event. If you need assistance with the form\, speak with a staff member at your local library\, call (408) 540-3945\, or email us at ask@sccl.org.
URL:https://events.splitbunch.com/event/reading-buddies-for-grades-k-6-14/
CATEGORIES:Morgan Hill Library
END:VEVENT
BEGIN:VEVENT
DTSTART;TZID=America/Los_Angeles:20251117T180000
DTEND;TZID=America/Los_Angeles:20251117T200000
DTSTAMP:20260423T010209
CREATED:20251116T005135Z
LAST-MODIFIED:20251118T035202Z
UID:18119-1763402400-1763409600@events.splitbunch.com
SUMMARY:Board Game Night for Adults
DESCRIPTION:Join us for a fun game night at the Saratoga Library! We will have a variety of board games to choose from.  Drop in anytime 6-8pm to play. \nSponsored by the Friends of Saratoga Libraries \nFor accessibility accommodations (ex. ASL)\, please fill out the online form at sccld.org/accessibility 7+days prior to the event. If you need assistance with the form\, speak with a staff member at your local library\, call (408) 540-3945\, or email us at ask@sccl.org.
URL:https://events.splitbunch.com/event/board-game-night-for-adults-2/
CATEGORIES:Saratoga Library
END:VEVENT
BEGIN:VEVENT
DTSTART;TZID=America/Los_Angeles:20251117T180000
DTEND;TZID=America/Los_Angeles:20251117T181500
DTSTAMP:20260423T010209
CREATED:20251116T005136Z
LAST-MODIFIED:20251118T015124Z
UID:18120-1763402400-1763403300@events.splitbunch.com
SUMMARY:Reading Buddies for Grades K-6
DESCRIPTION:Registration opens the 3rd Monday of the month for the following month. Readers may register for 1 session per month. \nPractice your reading skills by reading aloud one on one with a furry friend! Each 15-minute session is with a specially trained dog and their volunteer. Bring a book from home or borrow one from the library. For K-6th grade. \nPlease register with the child’s name and parent email information. \n \nFor accessibility accommodations (ex. ASL)\, please fill out the online form at sccld.org/accessibility 7+days prior to the event. If you need assistance with the form\, speak with a staff member at your local library\, call (408) 540-3945\, or email us at ask@sccl.org.
URL:https://events.splitbunch.com/event/reading-buddies-for-grades-k-6-13/
CATEGORIES:Morgan Hill Library
END:VEVENT
BEGIN:VEVENT
DTSTART;TZID=America/Los_Angeles:20251117T173000
DTEND;TZID=America/Los_Angeles:20251117T183000
DTSTAMP:20260423T010209
CREATED:20251118T015150Z
LAST-MODIFIED:20251118T015150Z
UID:18527-1763400600-1763404200@events.splitbunch.com
SUMMARY:Family Storytime + Stay & Play
DESCRIPTION:Storytime is designed to accommodate a mix of ages and invites the entire family to participate in early literacy activities such as stories\, songs\, rhymes\, fingerplays\, and movement activities. Storytime is a fun and interactive experience for the whole family that promotes the joys of reading and learning for all ages. This program is geared for children of all ages and their parents/caregivers!  \nAfter Storytime concludes\, we invite you to Stay & Play! Until 6:30 pm the Storytime librarian and special toys will be on the Children’s Room floor to keep the fun going. Meet new friends\, play with toys\, chat\, get book recommendations\, and maybe even create something! \n\nStorytime 5:30-6:00 PM\nStay & Play 6:00-6:30 PM\n\nFree\, with limited capacity. \nThis program is developed to align with the Early Education Quality Standards. \nADA Accommodation Requests
URL:https://events.splitbunch.com/event/family-storytime-stay-play-22/
CATEGORIES:San Jose King Library
END:VEVENT
BEGIN:VEVENT
DTSTART;TZID=America/Los_Angeles:20251117T173000
DTEND;TZID=America/Los_Angeles:20251117T183000
DTSTAMP:20260423T010209
CREATED:20251115T235135Z
LAST-MODIFIED:20251118T015123Z
UID:18070-1763400600-1763404200@events.splitbunch.com
SUMMARY:Indian Health Center of Santa Clara Valley
DESCRIPTION:Join the Morgan Hill Library for a special presentation in honor of Native American Heritage Month in collaboration with the Indian Health Center of Santa Clara Valley. Learn about the center’s mission to support the health and well-being of American Indians\, Alaska Natives\, and the wider community through culturally responsive\, high-quality medical and wellness services. Discover how the IHC continues to uphold its commitment to healing and care for people of all backgrounds. \nNo registration required. Light snacks will be provided. \n\n\nFor accessibility accommodations (ex. ASL)\, please fill out the online form at sccld.org/accessibility 7+days prior to the event. If you need assistance with the form\, speak with a staff member at your local library\, call (408) 540-3945\, or email us at ask@sccl.org.
URL:https://events.splitbunch.com/event/indian-health-center-of-santa-clara-valley-2/
CATEGORIES:Morgan Hill Library
END:VEVENT
BEGIN:VEVENT
DTSTART;TZID=America/Los_Angeles:20251117T173000
DTEND;TZID=America/Los_Angeles:20251117T183000
DTSTAMP:20260423T010209
CREATED:20251115T235135Z
LAST-MODIFIED:20251118T015123Z
UID:18071-1763400600-1763404200@events.splitbunch.com
SUMMARY:Create-N-Play [Crear-Y-Jugar]
DESCRIPTION:Join us on Monday nights in the Children’s area for a crafty exploration of Science\, Technology\, Engineering\, Art\, and Math with Librarian Samantha! \nFor kids 12 and under\, no registration needed. \n\n¡Acompañenos los lunes en el area infantil para exlorar todo lo relacionado con Ciencia\, Tecnología\, Ingeniería\, Arte y Matemáticas con Bibliotecaria Samantha!  \nPara niños de 12 años o menos\, inscripción no es necesaria.
URL:https://events.splitbunch.com/event/create-n-play-crear-y-jugar-6/
CATEGORIES:Gilroy Library
END:VEVENT
BEGIN:VEVENT
DTSTART;TZID=America/Los_Angeles:20251117T170000
DTEND;TZID=America/Los_Angeles:20251117T183000
DTSTAMP:20260423T010209
CREATED:20251118T015149Z
LAST-MODIFIED:20251118T015149Z
UID:18526-1763398800-1763404200@events.splitbunch.com
SUMMARY:Clases de inglés para Hispanos - Nivel Cero
DESCRIPTION:¿Quieres mejorar tu vocabulario en Inglés\, aprender gramática y hacer amigos? Te invitamos a participar en esta clase de Inglés nivel cero dirigida por el voluntario Mike. \n Esta clase es solamente para personas cuyo primer idioma es el Español. \nClase inició el 21 de Julio\, último día de clases es el 26 de Noviembre \nPara inscripción\, comunícate con marcela.guevara@sjlibrary.org Gratis. Se proporcionará el material educativo. \nSolicitudes de Acomodación ADA
URL:https://events.splitbunch.com/event/clases-de-ingles-para-hispanos-nivel-cero-23/
CATEGORIES:San Jose King Library
END:VEVENT
BEGIN:VEVENT
DTSTART;TZID=America/Los_Angeles:20251117T170000
DTEND;TZID=America/Los_Angeles:20251117T183000
DTSTAMP:20260423T010209
CREATED:20251118T015148Z
LAST-MODIFIED:20251118T015148Z
UID:18523-1763398800-1763404200@events.splitbunch.com
SUMMARY:Tully Branch Citizenship Classes (In-Person)
DESCRIPTION:Are you ready to begin your path towards citizenship? \nAre you interested in attending a series of classes that prepare you for the citizenship test? \nJoin us for informational sessions that will review: \n\nthe citizenship application process\nquestions from the citizenship test\nstrategies in practicing for the test\n\nClasses will meet once a week.  \nThe purpose of this class is for you to feel comfortable with the process of citizenship and for you to practice the skills necessary for the citizenship test.  \nADA Accommodation Requests
URL:https://events.splitbunch.com/event/tully-branch-citizenship-classes-in-person-13/
CATEGORIES:San Jose King Library
END:VEVENT
BEGIN:VEVENT
DTSTART;TZID=America/Los_Angeles:20251117T170000
DTEND;TZID=America/Los_Angeles:20251117T180000
DTSTAMP:20260423T010209
CREATED:20251118T075138Z
LAST-MODIFIED:20251118T075138Z
UID:18648-1763398800-1763402400@events.splitbunch.com
SUMMARY:Paws For Tales @ Hillsdale Branch
DESCRIPTION:Date: Monday\, November 17\, 2025 Time: 5:00pm – 6:00pm  Location:  Hillsdale Library- Programming Space   \nPaws for Tales is now at Hillsdale Library! For kids ages 5 and up. Practice reading with a therapy dog. Drop-in registration at the library. 
URL:https://events.splitbunch.com/event/paws-for-tales-hillsdale-branch-17/
CATEGORIES:San Mateo Public Library
END:VEVENT
BEGIN:VEVENT
DTSTART;TZID=America/Los_Angeles:20251117T170000
DTEND;TZID=America/Los_Angeles:20251117T180000
DTSTAMP:20260423T010209
CREATED:20251118T065218Z
LAST-MODIFIED:20251118T065218Z
UID:18642-1763398800-1763402400@events.splitbunch.com
SUMMARY:Paws For Tales @ Hillsdale Branch
DESCRIPTION:Date: Monday\, November 17\, 2025 Time: 5:00pm – 6:00pm  Location:  Hillsdale Library- Programming Space   \nPaws for Tales is now at Hillsdale Library! For kids ages 5 and up. Practice reading with a therapy dog. Drop-in registration at the library. 
URL:https://events.splitbunch.com/event/paws-for-tales-hillsdale-branch-16/
CATEGORIES:San Mateo Public Library
END:VEVENT
BEGIN:VEVENT
DTSTART;TZID=America/Los_Angeles:20251117T170000
DTEND;TZID=America/Los_Angeles:20251117T180000
DTSTAMP:20260423T010209
CREATED:20251118T055235Z
LAST-MODIFIED:20251118T055235Z
UID:18628-1763398800-1763402400@events.splitbunch.com
SUMMARY:Paws For Tales @ Hillsdale Branch
DESCRIPTION:Date: Monday\, November 17\, 2025 Time: 5:00pm – 6:00pm  Location:  Hillsdale Library- Programming Space   \nPaws for Tales is now at Hillsdale Library! For kids ages 5 and up. Practice reading with a therapy dog. Drop-in registration at the library. 
URL:https://events.splitbunch.com/event/paws-for-tales-hillsdale-branch-15/
CATEGORIES:San Mateo Public Library
END:VEVENT
BEGIN:VEVENT
DTSTART;TZID=America/Los_Angeles:20251117T170000
DTEND;TZID=America/Los_Angeles:20251117T180000
DTSTAMP:20260423T010209
CREATED:20251118T045153Z
LAST-MODIFIED:20251118T045153Z
UID:18620-1763398800-1763402400@events.splitbunch.com
SUMMARY:Paws For Tales @ Hillsdale Branch
DESCRIPTION:Date: Monday\, November 17\, 2025 Time: 5:00pm – 6:00pm  Location:  Hillsdale Library- Programming Space   \nPaws for Tales is now at Hillsdale Library! For kids ages 5 and up. Practice reading with a therapy dog. Drop-in registration at the library. 
URL:https://events.splitbunch.com/event/paws-for-tales-hillsdale-branch-14/
CATEGORIES:San Mateo Public Library
END:VEVENT
BEGIN:VEVENT
DTSTART;TZID=America/Los_Angeles:20251117T170000
DTEND;TZID=America/Los_Angeles:20251117T180000
DTSTAMP:20260423T010209
CREATED:20251118T035121Z
LAST-MODIFIED:20251118T035121Z
UID:18595-1763398800-1763402400@events.splitbunch.com
SUMMARY:Paws For Tales @ Hillsdale Branch
DESCRIPTION:Date: Monday\, November 17\, 2025 Time: 5:00pm – 6:00pm  Location:  Hillsdale Library- Programming Space   \nPaws for Tales is now at Hillsdale Library! For kids ages 5 and up. Practice reading with a therapy dog. Drop-in registration at the library. 
URL:https://events.splitbunch.com/event/paws-for-tales-hillsdale-branch-13/
CATEGORIES:San Mateo Public Library
END:VEVENT
BEGIN:VEVENT
DTSTART;TZID=America/Los_Angeles:20251117T170000
DTEND;TZID=America/Los_Angeles:20251117T180000
DTSTAMP:20260423T010209
CREATED:20251118T025144Z
LAST-MODIFIED:20251118T025144Z
UID:18568-1763398800-1763402400@events.splitbunch.com
SUMMARY:Paws For Tales @ Hillsdale Branch
DESCRIPTION:Date: Monday\, November 17\, 2025 Time: 5:00pm – 6:00pm  Location:  Hillsdale Library- Programming Space   \nPaws for Tales is now at Hillsdale Library! For kids ages 5 and up. Practice reading with a therapy dog. Drop-in registration at the library. 
URL:https://events.splitbunch.com/event/paws-for-tales-hillsdale-branch-12/
CATEGORIES:San Mateo Public Library
END:VEVENT
BEGIN:VEVENT
DTSTART;TZID=America/Los_Angeles:20251117T170000
DTEND;TZID=America/Los_Angeles:20251117T180000
DTSTAMP:20260423T010209
CREATED:20251118T015149Z
LAST-MODIFIED:20251118T015149Z
UID:18525-1763398800-1763402400@events.splitbunch.com
SUMMARY:Cambrian Pokemon Club
DESCRIPTION:Join us to have fun playing Pokemon\, trading cards\, and learning strategies for improving your game! \nADA Accommodation Requests
URL:https://events.splitbunch.com/event/cambrian-pokemon-club-7/
CATEGORIES:San Jose King Library
END:VEVENT
BEGIN:VEVENT
DTSTART;TZID=America/Los_Angeles:20251117T170000
DTEND;TZID=America/Los_Angeles:20251117T180000
DTSTAMP:20260423T010209
CREATED:20251118T015148Z
LAST-MODIFIED:20251118T015148Z
UID:18524-1763398800-1763402400@events.splitbunch.com
SUMMARY:Reading Buddies with Jhanavi
DESCRIPTION:Children in grades K-5 will discover the joy of reading while improving their reading skills through practice with Jhanavi on Mondays..  \nOur Reading Buddy will listen to children and help them build confidence in their ability to read. They will ask questions about the books being read to encourage reading comprehension.  \nChildren will enjoy one-on-one interaction with Jhanavul who has been trained to create a positive reading experience for beginning and developing readers.  \nAvailability of Reading Buddies is on a first come\, first served basis.  \n \nADA Accommodation Requests
URL:https://events.splitbunch.com/event/reading-buddies-with-jhanavi-3/
CATEGORIES:San Jose King Library
END:VEVENT
BEGIN:VEVENT
DTSTART;TZID=America/Los_Angeles:20251117T170000
DTEND;TZID=America/Los_Angeles:20251117T180000
DTSTAMP:20260423T010209
CREATED:20251118T015147Z
LAST-MODIFIED:20251118T015147Z
UID:18522-1763398800-1763402400@events.splitbunch.com
SUMMARY:Speech & Debate
DESCRIPTION:Join us for a series focused on speaking and debate skills for students in grades 4-8. \nHere is a schedule of the classes: \n\n9/8: Introduce Pranya\, go over basics of Speech & Debate\, learn to slate\n9/15: Debate structures\, parts of an argument\, hand gestures\, choose resolution\n9/22: Speech structure\, magic #3\, pauses\, discuss resolution\n9/29: Greek rhetorical devices\, practice speeches\, aff/neg discussion\, start evidence research on iPads\n10/6: Cross-examinations\, speech clarity exercise\, tongue twisters\, continue evidence research\n10/13: Break\, Indigenous Peoples’ Day\n10/20: Blocks/counterarguments\, rebuttal\, tone/inflection game\, writing/research time\n10/27: Taking debate notes\, formatting evidence\, finish drafting\n\n@Tech Center\n\n\n11/3: Debates on chosen resolution\, speech games\n\n@Tech Center\n\n\n11/10: Debates\n11/17: Debates + fun debates to wrap up class\n\n\n\n\n\n\nClasses will not meet on 10/13. \nClasses will meet in the Tech Center on 10/27 & 11/3. \nWhat to bring: \n\nA notebook\nA writing utensil\nA positive attitude & an open mind!\n\nFree. No registration required. \nADA Accommodation Requests
URL:https://events.splitbunch.com/event/speech-debate-7/
CATEGORIES:San Jose King Library
END:VEVENT
BEGIN:VEVENT
DTSTART;TZID=America/Los_Angeles:20251117T170000
DTEND;TZID=America/Los_Angeles:20251117T180000
DTSTAMP:20260423T010209
CREATED:20251017T075226Z
LAST-MODIFIED:20251118T015131Z
UID:9456-1763398800-1763402400@events.splitbunch.com
SUMMARY:Paws For Tales @ Hillsdale Branch
DESCRIPTION:Date: Monday\, November 17\, 2025 Time: 5:00pm – 6:00pm  Location:  Hillsdale Library- Programming Space   \nPaws for Tales is now at Hillsdale Library! For kids ages 5 and up. Practice reading with a therapy dog. Drop-in registration at the library. 
URL:https://events.splitbunch.com/event/paws-for-tales-hillsdale-branch-4/
CATEGORIES:San Mateo Public Library
END:VEVENT
BEGIN:VEVENT
DTSTART;TZID=America/Los_Angeles:20251117T163000
DTEND;TZID=America/Los_Angeles:20251117T180000
DTSTAMP:20260423T010209
CREATED:20251118T075150Z
LAST-MODIFIED:20251118T075150Z
UID:18652-1763397000-1763402400@events.splitbunch.com
SUMMARY:Social Stitching
DESCRIPTION:Date: Monday\, November 17\, 2025 Time: 4:30pm – 6:00pm  Location:  Group Study Room   \nCome join fellow needlework and textile arts enthusiasts at the library! Crafters of all levels are welcome to bring their projects and chat\, teach\, learn\, and make new friends at this casual weekly get together. This group is entirely self-directed and you are encouraged to bring your own tools and materials. If you are looking for some inspiration or don’t know where to start\, check out Creativebug– it's free with your library card and offers hundreds of project ideas and instructions.
URL:https://events.splitbunch.com/event/social-stitching-62/
CATEGORIES:Los Gatos Public Library
END:VEVENT
BEGIN:VEVENT
DTSTART;TZID=America/Los_Angeles:20251117T163000
DTEND;TZID=America/Los_Angeles:20251117T180000
DTSTAMP:20260423T010209
CREATED:20251118T065138Z
LAST-MODIFIED:20251118T065138Z
UID:18637-1763397000-1763402400@events.splitbunch.com
SUMMARY:Social Stitching
DESCRIPTION:Date: Monday\, November 17\, 2025 Time: 4:30pm – 6:00pm  Location:  Group Study Room   \nCome join fellow needlework and textile arts enthusiasts at the library! Crafters of all levels are welcome to bring their projects and chat\, teach\, learn\, and make new friends at this casual weekly get together. This group is entirely self-directed and you are encouraged to bring your own tools and materials. If you are looking for some inspiration or don’t know where to start\, check out Creativebug– it's free with your library card and offers hundreds of project ideas and instructions.
URL:https://events.splitbunch.com/event/social-stitching-61/
CATEGORIES:Los Gatos Public Library
END:VEVENT
BEGIN:VEVENT
DTSTART;TZID=America/Los_Angeles:20251117T163000
DTEND;TZID=America/Los_Angeles:20251117T180000
DTSTAMP:20260423T010209
CREATED:20251118T055251Z
LAST-MODIFIED:20251118T055251Z
UID:18632-1763397000-1763402400@events.splitbunch.com
SUMMARY:Social Stitching
DESCRIPTION:Date: Monday\, November 17\, 2025 Time: 4:30pm – 6:00pm  Location:  Group Study Room   \nCome join fellow needlework and textile arts enthusiasts at the library! Crafters of all levels are welcome to bring their projects and chat\, teach\, learn\, and make new friends at this casual weekly get together. This group is entirely self-directed and you are encouraged to bring your own tools and materials. If you are looking for some inspiration or don’t know where to start\, check out Creativebug– it's free with your library card and offers hundreds of project ideas and instructions.
URL:https://events.splitbunch.com/event/social-stitching-60/
CATEGORIES:Los Gatos Public Library
END:VEVENT
BEGIN:VEVENT
DTSTART;TZID=America/Los_Angeles:20251117T163000
DTEND;TZID=America/Los_Angeles:20251117T180000
DTSTAMP:20260423T010209
CREATED:20251118T045117Z
LAST-MODIFIED:20251118T045117Z
UID:18614-1763397000-1763402400@events.splitbunch.com
SUMMARY:Social Stitching
DESCRIPTION:Date: Monday\, November 17\, 2025 Time: 4:30pm – 6:00pm  Location:  Group Study Room   \nCome join fellow needlework and textile arts enthusiasts at the library! Crafters of all levels are welcome to bring their projects and chat\, teach\, learn\, and make new friends at this casual weekly get together. This group is entirely self-directed and you are encouraged to bring your own tools and materials. If you are looking for some inspiration or don’t know where to start\, check out Creativebug– it's free with your library card and offers hundreds of project ideas and instructions.
URL:https://events.splitbunch.com/event/social-stitching-59/
CATEGORIES:Los Gatos Public Library
END:VEVENT
BEGIN:VEVENT
DTSTART;TZID=America/Los_Angeles:20251117T163000
DTEND;TZID=America/Los_Angeles:20251117T180000
DTSTAMP:20260423T010209
CREATED:20251118T035136Z
LAST-MODIFIED:20251118T035136Z
UID:18599-1763397000-1763402400@events.splitbunch.com
SUMMARY:Social Stitching
DESCRIPTION:Date: Monday\, November 17\, 2025 Time: 4:30pm – 6:00pm  Location:  Group Study Room   \nCome join fellow needlework and textile arts enthusiasts at the library! Crafters of all levels are welcome to bring their projects and chat\, teach\, learn\, and make new friends at this casual weekly get together. This group is entirely self-directed and you are encouraged to bring your own tools and materials. If you are looking for some inspiration or don’t know where to start\, check out Creativebug– it's free with your library card and offers hundreds of project ideas and instructions.
URL:https://events.splitbunch.com/event/social-stitching-58/
CATEGORIES:Los Gatos Public Library
END:VEVENT
BEGIN:VEVENT
DTSTART;TZID=America/Los_Angeles:20251117T163000
DTEND;TZID=America/Los_Angeles:20251117T180000
DTSTAMP:20260423T010209
CREATED:20251118T025122Z
LAST-MODIFIED:20251118T025122Z
UID:18562-1763397000-1763402400@events.splitbunch.com
SUMMARY:Social Stitching
DESCRIPTION:Date: Monday\, November 17\, 2025 Time: 4:30pm – 6:00pm  Location:  Group Study Room   \nCome join fellow needlework and textile arts enthusiasts at the library! Crafters of all levels are welcome to bring their projects and chat\, teach\, learn\, and make new friends at this casual weekly get together. This group is entirely self-directed and you are encouraged to bring your own tools and materials. If you are looking for some inspiration or don’t know where to start\, check out Creativebug– it's free with your library card and offers hundreds of project ideas and instructions.
URL:https://events.splitbunch.com/event/social-stitching-57/
CATEGORIES:Los Gatos Public Library
END:VEVENT
BEGIN:VEVENT
DTSTART;TZID=America/Los_Angeles:20251117T163000
DTEND;TZID=America/Los_Angeles:20251117T180000
DTSTAMP:20260423T010209
CREATED:20251118T005206Z
LAST-MODIFIED:20251118T015147Z
UID:18496-1763397000-1763402400@events.splitbunch.com
SUMMARY:Crochet Club
DESCRIPTION:All are welcome—from beginners to experienced enthusiasts. Bring your own project or start a new one as we refine our skills and discuss all things crochet. A volunteer is available to provide instructions\, and offer advice to beginners. Tools and supplies are provided. The minimum age is six years old. \nADA Accommodation Requests
URL:https://events.splitbunch.com/event/crochet-club-7/
CATEGORIES:San Jose King Library
END:VEVENT
BEGIN:VEVENT
DTSTART;TZID=America/Los_Angeles:20251117T163000
DTEND;TZID=America/Los_Angeles:20251117T180000
DTSTAMP:20260423T010209
CREATED:20251017T075238Z
LAST-MODIFIED:20251118T015109Z
UID:9458-1763397000-1763402400@events.splitbunch.com
SUMMARY:Social Stitching
DESCRIPTION:Date: Monday\, November 17\, 2025 Time: 4:30pm – 6:00pm  Location:  Group Study Room   \nCome join fellow needlework and textile arts enthusiasts at the library! Crafters of all levels are welcome to bring their projects and chat\, teach\, learn\, and make new friends at this casual weekly get together. This group is entirely self-directed and you are encouraged to bring your own tools and materials. If you are looking for some inspiration or don’t know where to start\, check out Creativebug– it's free with your library card and offers hundreds of project ideas and instructions.
URL:https://events.splitbunch.com/event/social-stitching-28/
CATEGORIES:Los Gatos Public Library
END:VEVENT
END:VCALENDAR