BEGIN:VCALENDAR
VERSION:2.0
PRODID:-//SplitBunch Events - ECPv6.15.13//NONSGML v1.0//EN
CALSCALE:GREGORIAN
METHOD:PUBLISH
X-WR-CALNAME:SplitBunch Events
X-ORIGINAL-URL:https://events.splitbunch.com
X-WR-CALDESC:Events for SplitBunch Events
REFRESH-INTERVAL;VALUE=DURATION:PT1H
X-Robots-Tag:noindex
X-PUBLISHED-TTL:PT1H
BEGIN:VTIMEZONE
TZID:America/Los_Angeles
BEGIN:DAYLIGHT
TZOFFSETFROM:-0800
TZOFFSETTO:-0700
TZNAME:PDT
DTSTART:20240310T100000
END:DAYLIGHT
BEGIN:STANDARD
TZOFFSETFROM:-0700
TZOFFSETTO:-0800
TZNAME:PST
DTSTART:20241103T090000
END:STANDARD
BEGIN:DAYLIGHT
TZOFFSETFROM:-0800
TZOFFSETTO:-0700
TZNAME:PDT
DTSTART:20250309T100000
END:DAYLIGHT
BEGIN:STANDARD
TZOFFSETFROM:-0700
TZOFFSETTO:-0800
TZNAME:PST
DTSTART:20251102T090000
END:STANDARD
BEGIN:DAYLIGHT
TZOFFSETFROM:-0800
TZOFFSETTO:-0700
TZNAME:PDT
DTSTART:20260308T100000
END:DAYLIGHT
BEGIN:STANDARD
TZOFFSETFROM:-0700
TZOFFSETTO:-0800
TZNAME:PST
DTSTART:20261101T090000
END:STANDARD
END:VTIMEZONE
BEGIN:VEVENT
DTSTART;TZID=America/Los_Angeles:20251117T000000
DTEND;TZID=America/Los_Angeles:20251117T000000
DTSTAMP:20260424T132339
CREATED:20251118T005155Z
LAST-MODIFIED:20251118T005155Z
UID:18490-1763337600-1763337600@events.splitbunch.com
SUMMARY:1:1 Tech Mentor / Giáo Viên Máy Tính
DESCRIPTION:Free.  By appointment only. \nOffered in-person or virtually via Zoom\, in English\, Español\, or Tiếng Việt. \nWould you like to find out more about computers? Learn at your own pace! \nWhat We Do: \n\nIntro to computer basics\nAccount or device setup\nIntro to Microsoft Office\nJob search & resume help\nNavigating/organizing email\nAnd more!\n\nContact Tiffany Lam by phone (408) 808-3056 or email at tiffany.lam@sjlibrary.org to make an appointment. \nADA Accommodation Requests
URL:https://events.splitbunch.com/event/11-tech-mentor-giao-vien-may-tinh-1240/
CATEGORIES:San Jose King Library
END:VEVENT
BEGIN:VEVENT
DTSTART;TZID=America/Los_Angeles:20251117T000000
DTEND;TZID=America/Los_Angeles:20251117T000000
DTSTAMP:20260424T132339
CREATED:20251117T235234Z
LAST-MODIFIED:20251117T235234Z
UID:18481-1763337600-1763337600@events.splitbunch.com
SUMMARY:1:1 Tech Mentor / Giáo Viên Máy Tính
DESCRIPTION:Free.  By appointment only. \nOffered in-person or virtually via Zoom\, in English\, Español\, or Tiếng Việt. \nWould you like to find out more about computers? Learn at your own pace! \nWhat We Do: \n\nIntro to computer basics\nAccount or device setup\nIntro to Microsoft Office\nJob search & resume help\nNavigating/organizing email\nAnd more!\n\nContact Tiffany Lam by phone (408) 808-3056 or email at tiffany.lam@sjlibrary.org to make an appointment. \nADA Accommodation Requests
URL:https://events.splitbunch.com/event/11-tech-mentor-giao-vien-may-tinh-1239/
CATEGORIES:San Jose King Library
END:VEVENT
BEGIN:VEVENT
DTSTART;TZID=America/Los_Angeles:20251117T000000
DTEND;TZID=America/Los_Angeles:20251117T000000
DTSTAMP:20260424T132339
CREATED:20251117T225120Z
LAST-MODIFIED:20251117T225120Z
UID:18460-1763337600-1763337600@events.splitbunch.com
SUMMARY:1:1 Tech Mentor / Giáo Viên Máy Tính
DESCRIPTION:Free.  By appointment only. \nOffered in-person or virtually via Zoom\, in English\, Español\, or Tiếng Việt. \nWould you like to find out more about computers? Learn at your own pace! \nWhat We Do: \n\nIntro to computer basics\nAccount or device setup\nIntro to Microsoft Office\nJob search & resume help\nNavigating/organizing email\nAnd more!\n\nContact Tiffany Lam by phone (408) 808-3056 or email at tiffany.lam@sjlibrary.org to make an appointment. \nADA Accommodation Requests
URL:https://events.splitbunch.com/event/11-tech-mentor-giao-vien-may-tinh-1238/
CATEGORIES:San Jose King Library
END:VEVENT
BEGIN:VEVENT
DTSTART;TZID=America/Los_Angeles:20251117T000000
DTEND;TZID=America/Los_Angeles:20251117T000000
DTSTAMP:20260424T132339
CREATED:20251117T215222Z
LAST-MODIFIED:20251117T215222Z
UID:18455-1763337600-1763337600@events.splitbunch.com
SUMMARY:1:1 Tech Mentor / Giáo Viên Máy Tính
DESCRIPTION:Free.  By appointment only. \nOffered in-person or virtually via Zoom\, in English\, Español\, or Tiếng Việt. \nWould you like to find out more about computers? Learn at your own pace! \nWhat We Do: \n\nIntro to computer basics\nAccount or device setup\nIntro to Microsoft Office\nJob search & resume help\nNavigating/organizing email\nAnd more!\n\nContact Tiffany Lam by phone (408) 808-3056 or email at tiffany.lam@sjlibrary.org to make an appointment. \nADA Accommodation Requests
URL:https://events.splitbunch.com/event/11-tech-mentor-giao-vien-may-tinh-1237/
CATEGORIES:San Jose King Library
END:VEVENT
BEGIN:VEVENT
DTSTART;TZID=America/Los_Angeles:20251117T000000
DTEND;TZID=America/Los_Angeles:20251117T000000
DTSTAMP:20260424T132339
CREATED:20251117T205121Z
LAST-MODIFIED:20251117T205121Z
UID:18441-1763337600-1763337600@events.splitbunch.com
SUMMARY:1:1 Tech Mentor / Giáo Viên Máy Tính
DESCRIPTION:Free.  By appointment only. \nOffered in-person or virtually via Zoom\, in English\, Español\, or Tiếng Việt. \nWould you like to find out more about computers? Learn at your own pace! \nWhat We Do: \n\nIntro to computer basics\nAccount or device setup\nIntro to Microsoft Office\nJob search & resume help\nNavigating/organizing email\nAnd more!\n\nContact Tiffany Lam by phone (408) 808-3056 or email at tiffany.lam@sjlibrary.org to make an appointment. \nADA Accommodation Requests
URL:https://events.splitbunch.com/event/11-tech-mentor-giao-vien-may-tinh-1236/
CATEGORIES:San Jose King Library
END:VEVENT
BEGIN:VEVENT
DTSTART;TZID=America/Los_Angeles:20251117T000000
DTEND;TZID=America/Los_Angeles:20251117T000000
DTSTAMP:20260424T132339
CREATED:20251117T195124Z
LAST-MODIFIED:20251117T195124Z
UID:18435-1763337600-1763337600@events.splitbunch.com
SUMMARY:1:1 Tech Mentor / Giáo Viên Máy Tính
DESCRIPTION:Free.  By appointment only. \nOffered in-person or virtually via Zoom\, in English\, Español\, or Tiếng Việt. \nWould you like to find out more about computers? Learn at your own pace! \nWhat We Do: \n\nIntro to computer basics\nAccount or device setup\nIntro to Microsoft Office\nJob search & resume help\nNavigating/organizing email\nAnd more!\n\nContact Tiffany Lam by phone (408) 808-3056 or email at tiffany.lam@sjlibrary.org to make an appointment. \nADA Accommodation Requests
URL:https://events.splitbunch.com/event/11-tech-mentor-giao-vien-may-tinh-1235/
CATEGORIES:San Jose King Library
END:VEVENT
BEGIN:VEVENT
DTSTART;TZID=America/Los_Angeles:20251117T000000
DTEND;TZID=America/Los_Angeles:20251117T000000
DTSTAMP:20260424T132339
CREATED:20251117T185150Z
LAST-MODIFIED:20251117T185150Z
UID:18434-1763337600-1763337600@events.splitbunch.com
SUMMARY:1:1 Tech Mentor / Giáo Viên Máy Tính
DESCRIPTION:Free.  By appointment only. \nOffered in-person or virtually via Zoom\, in English\, Español\, or Tiếng Việt. \nWould you like to find out more about computers? Learn at your own pace! \nWhat We Do: \n\nIntro to computer basics\nAccount or device setup\nIntro to Microsoft Office\nJob search & resume help\nNavigating/organizing email\nAnd more!\n\nContact Tiffany Lam by phone (408) 808-3056 or email at tiffany.lam@sjlibrary.org to make an appointment. \nADA Accommodation Requests
URL:https://events.splitbunch.com/event/11-tech-mentor-giao-vien-may-tinh-1234/
CATEGORIES:San Jose King Library
END:VEVENT
BEGIN:VEVENT
DTSTART;TZID=America/Los_Angeles:20251117T000000
DTEND;TZID=America/Los_Angeles:20251117T000000
DTSTAMP:20260424T132339
CREATED:20251117T175133Z
LAST-MODIFIED:20251117T175133Z
UID:18433-1763337600-1763337600@events.splitbunch.com
SUMMARY:1:1 Tech Mentor / Giáo Viên Máy Tính
DESCRIPTION:Free.  By appointment only. \nOffered in-person or virtually via Zoom\, in English\, Español\, or Tiếng Việt. \nWould you like to find out more about computers? Learn at your own pace! \nWhat We Do: \n\nIntro to computer basics\nAccount or device setup\nIntro to Microsoft Office\nJob search & resume help\nNavigating/organizing email\nAnd more!\n\nContact Tiffany Lam by phone (408) 808-3056 or email at tiffany.lam@sjlibrary.org to make an appointment. \nADA Accommodation Requests
URL:https://events.splitbunch.com/event/11-tech-mentor-giao-vien-may-tinh-1233/
CATEGORIES:San Jose King Library
END:VEVENT
BEGIN:VEVENT
DTSTART;TZID=America/Los_Angeles:20251117T000000
DTEND;TZID=America/Los_Angeles:20251117T000000
DTSTAMP:20260424T132339
CREATED:20251117T165148Z
LAST-MODIFIED:20251117T165148Z
UID:18432-1763337600-1763337600@events.splitbunch.com
SUMMARY:1:1 Tech Mentor / Giáo Viên Máy Tính
DESCRIPTION:Free.  By appointment only. \nOffered in-person or virtually via Zoom\, in English\, Español\, or Tiếng Việt. \nWould you like to find out more about computers? Learn at your own pace! \nWhat We Do: \n\nIntro to computer basics\nAccount or device setup\nIntro to Microsoft Office\nJob search & resume help\nNavigating/organizing email\nAnd more!\n\nContact Tiffany Lam by phone (408) 808-3056 or email at tiffany.lam@sjlibrary.org to make an appointment. \nADA Accommodation Requests
URL:https://events.splitbunch.com/event/11-tech-mentor-giao-vien-may-tinh-1232/
CATEGORIES:San Jose King Library
END:VEVENT
BEGIN:VEVENT
DTSTART;TZID=America/Los_Angeles:20251117T000000
DTEND;TZID=America/Los_Angeles:20251117T000000
DTSTAMP:20260424T132339
CREATED:20251117T155209Z
LAST-MODIFIED:20251117T155209Z
UID:18431-1763337600-1763337600@events.splitbunch.com
SUMMARY:1:1 Tech Mentor / Giáo Viên Máy Tính
DESCRIPTION:Free.  By appointment only. \nOffered in-person or virtually via Zoom\, in English\, Español\, or Tiếng Việt. \nWould you like to find out more about computers? Learn at your own pace! \nWhat We Do: \n\nIntro to computer basics\nAccount or device setup\nIntro to Microsoft Office\nJob search & resume help\nNavigating/organizing email\nAnd more!\n\nContact Tiffany Lam by phone (408) 808-3056 or email at tiffany.lam@sjlibrary.org to make an appointment. \nADA Accommodation Requests
URL:https://events.splitbunch.com/event/11-tech-mentor-giao-vien-may-tinh-1231/
CATEGORIES:San Jose King Library
END:VEVENT
BEGIN:VEVENT
DTSTART;TZID=America/Los_Angeles:20251117T000000
DTEND;TZID=America/Los_Angeles:20251117T000000
DTSTAMP:20260424T132339
CREATED:20251117T145153Z
LAST-MODIFIED:20251117T145153Z
UID:18430-1763337600-1763337600@events.splitbunch.com
SUMMARY:1:1 Tech Mentor / Giáo Viên Máy Tính
DESCRIPTION:Free.  By appointment only. \nOffered in-person or virtually via Zoom\, in English\, Español\, or Tiếng Việt. \nWould you like to find out more about computers? Learn at your own pace! \nWhat We Do: \n\nIntro to computer basics\nAccount or device setup\nIntro to Microsoft Office\nJob search & resume help\nNavigating/organizing email\nAnd more!\n\nContact Tiffany Lam by phone (408) 808-3056 or email at tiffany.lam@sjlibrary.org to make an appointment. \nADA Accommodation Requests
URL:https://events.splitbunch.com/event/11-tech-mentor-giao-vien-may-tinh-1230/
CATEGORIES:San Jose King Library
END:VEVENT
BEGIN:VEVENT
DTSTART;TZID=America/Los_Angeles:20251117T000000
DTEND;TZID=America/Los_Angeles:20251117T000000
DTSTAMP:20260424T132339
CREATED:20251117T135110Z
LAST-MODIFIED:20251117T135110Z
UID:18429-1763337600-1763337600@events.splitbunch.com
SUMMARY:1:1 Tech Mentor / Giáo Viên Máy Tính
DESCRIPTION:Free.  By appointment only. \nOffered in-person or virtually via Zoom\, in English\, Español\, or Tiếng Việt. \nWould you like to find out more about computers? Learn at your own pace! \nWhat We Do: \n\nIntro to computer basics\nAccount or device setup\nIntro to Microsoft Office\nJob search & resume help\nNavigating/organizing email\nAnd more!\n\nContact Tiffany Lam by phone (408) 808-3056 or email at tiffany.lam@sjlibrary.org to make an appointment. \nADA Accommodation Requests
URL:https://events.splitbunch.com/event/11-tech-mentor-giao-vien-may-tinh-1229/
CATEGORIES:San Jose King Library
END:VEVENT
BEGIN:VEVENT
DTSTART;TZID=America/Los_Angeles:20251117T000000
DTEND;TZID=America/Los_Angeles:20251117T000000
DTSTAMP:20260424T132339
CREATED:20251117T125116Z
LAST-MODIFIED:20251117T125116Z
UID:18428-1763337600-1763337600@events.splitbunch.com
SUMMARY:1:1 Tech Mentor / Giáo Viên Máy Tính
DESCRIPTION:Free.  By appointment only. \nOffered in-person or virtually via Zoom\, in English\, Español\, or Tiếng Việt. \nWould you like to find out more about computers? Learn at your own pace! \nWhat We Do: \n\nIntro to computer basics\nAccount or device setup\nIntro to Microsoft Office\nJob search & resume help\nNavigating/organizing email\nAnd more!\n\nContact Tiffany Lam by phone (408) 808-3056 or email at tiffany.lam@sjlibrary.org to make an appointment. \nADA Accommodation Requests
URL:https://events.splitbunch.com/event/11-tech-mentor-giao-vien-may-tinh-1228/
CATEGORIES:San Jose King Library
END:VEVENT
BEGIN:VEVENT
DTSTART;TZID=America/Los_Angeles:20251117T000000
DTEND;TZID=America/Los_Angeles:20251117T000000
DTSTAMP:20260424T132339
CREATED:20251117T115203Z
LAST-MODIFIED:20251117T115203Z
UID:18427-1763337600-1763337600@events.splitbunch.com
SUMMARY:1:1 Tech Mentor / Giáo Viên Máy Tính
DESCRIPTION:Free.  By appointment only. \nOffered in-person or virtually via Zoom\, in English\, Español\, or Tiếng Việt. \nWould you like to find out more about computers? Learn at your own pace! \nWhat We Do: \n\nIntro to computer basics\nAccount or device setup\nIntro to Microsoft Office\nJob search & resume help\nNavigating/organizing email\nAnd more!\n\nContact Tiffany Lam by phone (408) 808-3056 or email at tiffany.lam@sjlibrary.org to make an appointment. \nADA Accommodation Requests
URL:https://events.splitbunch.com/event/11-tech-mentor-giao-vien-may-tinh-1227/
CATEGORIES:San Jose King Library
END:VEVENT
BEGIN:VEVENT
DTSTART;TZID=America/Los_Angeles:20251117T000000
DTEND;TZID=America/Los_Angeles:20251117T000000
DTSTAMP:20260424T132339
CREATED:20251117T105121Z
LAST-MODIFIED:20251117T105121Z
UID:18426-1763337600-1763337600@events.splitbunch.com
SUMMARY:1:1 Tech Mentor / Giáo Viên Máy Tính
DESCRIPTION:Free.  By appointment only. \nOffered in-person or virtually via Zoom\, in English\, Español\, or Tiếng Việt. \nWould you like to find out more about computers? Learn at your own pace! \nWhat We Do: \n\nIntro to computer basics\nAccount or device setup\nIntro to Microsoft Office\nJob search & resume help\nNavigating/organizing email\nAnd more!\n\nContact Tiffany Lam by phone (408) 808-3056 or email at tiffany.lam@sjlibrary.org to make an appointment. \nADA Accommodation Requests
URL:https://events.splitbunch.com/event/11-tech-mentor-giao-vien-may-tinh-1226/
CATEGORIES:San Jose King Library
END:VEVENT
BEGIN:VEVENT
DTSTART;TZID=America/Los_Angeles:20251117T000000
DTEND;TZID=America/Los_Angeles:20251117T000000
DTSTAMP:20260424T132339
CREATED:20251117T095136Z
LAST-MODIFIED:20251117T095136Z
UID:18421-1763337600-1763337600@events.splitbunch.com
SUMMARY:1:1 Tech Mentor / Giáo Viên Máy Tính
DESCRIPTION:Free.  By appointment only. \nOffered in-person or virtually via Zoom\, in English\, Español\, or Tiếng Việt. \nWould you like to find out more about computers? Learn at your own pace! \nWhat We Do: \n\nIntro to computer basics\nAccount or device setup\nIntro to Microsoft Office\nJob search & resume help\nNavigating/organizing email\nAnd more!\n\nContact Tiffany Lam by phone (408) 808-3056 or email at tiffany.lam@sjlibrary.org to make an appointment. \nADA Accommodation Requests
URL:https://events.splitbunch.com/event/11-tech-mentor-giao-vien-may-tinh-1225/
CATEGORIES:San Jose King Library
END:VEVENT
BEGIN:VEVENT
DTSTART;TZID=America/Los_Angeles:20251117T000000
DTEND;TZID=America/Los_Angeles:20251117T000000
DTSTAMP:20260424T132339
CREATED:20251117T085117Z
LAST-MODIFIED:20251117T085117Z
UID:18410-1763337600-1763337600@events.splitbunch.com
SUMMARY:1:1 Tech Mentor / Giáo Viên Máy Tính
DESCRIPTION:Free.  By appointment only. \nOffered in-person or virtually via Zoom\, in English\, Español\, or Tiếng Việt. \nWould you like to find out more about computers? Learn at your own pace! \nWhat We Do: \n\nIntro to computer basics\nAccount or device setup\nIntro to Microsoft Office\nJob search & resume help\nNavigating/organizing email\nAnd more!\n\nContact Tiffany Lam by phone (408) 808-3056 or email at tiffany.lam@sjlibrary.org to make an appointment. \nADA Accommodation Requests
URL:https://events.splitbunch.com/event/11-tech-mentor-giao-vien-may-tinh-1224/
CATEGORIES:San Jose King Library
END:VEVENT
BEGIN:VEVENT
DTSTART;TZID=America/Los_Angeles:20251117T000000
DTEND;TZID=America/Los_Angeles:20251117T000000
DTSTAMP:20260424T132339
CREATED:20251116T235116Z
LAST-MODIFIED:20251117T075120Z
UID:18307-1763337600-1763337600@events.splitbunch.com
SUMMARY:1:1 Tech Mentor / Giáo Viên Máy Tính
DESCRIPTION:Free.  By appointment only. \nOffered in-person or virtually via Zoom\, in English\, Español\, or Tiếng Việt. \nWould you like to find out more about computers? Learn at your own pace! \nWhat We Do: \n\nIntro to computer basics\nAccount or device setup\nIntro to Microsoft Office\nJob search & resume help\nNavigating/organizing email\nAnd more!\n\nContact Tiffany Lam by phone (408) 808-3056 or email at tiffany.lam@sjlibrary.org to make an appointment. \nADA Accommodation Requests
URL:https://events.splitbunch.com/event/11-tech-mentor-giao-vien-may-tinh-1215/
CATEGORIES:San Jose King Library
END:VEVENT
BEGIN:VEVENT
DTSTART;TZID=America/Los_Angeles:20251116T160000
DTEND;TZID=America/Los_Angeles:20251116T170000
DTSTAMP:20260424T132339
CREATED:20251116T235116Z
LAST-MODIFIED:20251117T005117Z
UID:18306-1763308800-1763312400@events.splitbunch.com
SUMMARY:Indoor Family Storytime + Stay & Play
DESCRIPTION:Best for children ages 0-8 with their caregivers; all families welcome! \nStorytime is designed to accommodate a mix of ages and invites the entire family to participate in early literacy activities such as stories\, songs\, rhymes\, fingerplays\, and movement activities. Storytime is a fun and interactive experience for the whole family that promotes the joys of reading and learning for all ages. This program is geared for children of all ages and their parents/caregivers! \nAfter Storytime concludes\, we invite you to Stay & Play! Until 5pm the Storytime librarian and special toys will be on the Children’s Room floor to keep the fun going. Meet new friends\, play with toys\, chat\, get book recommendations\, and maybe even create something! \n\nStorytime 4:00-4:30pm\nStay & Play 4:30pm-5:00pm\n\nPlease note that this will be an indoor program. \nFree\, with limited capacity. \nThis program is developed to align with the Early Education Quality Standards. \n \nADA Accommodation Requests
URL:https://events.splitbunch.com/event/indoor-family-storytime-stay-play-13/
CATEGORIES:San Jose King Library
END:VEVENT
BEGIN:VEVENT
DTSTART;TZID=America/Los_Angeles:20251116T160000
DTEND;TZID=America/Los_Angeles:20251116T170000
DTSTAMP:20260424T132339
CREATED:20251109T205130Z
LAST-MODIFIED:20251117T005109Z
UID:16531-1763308800-1763312400@events.splitbunch.com
SUMMARY:The Tortured Poets Workshop: The Poetry of Pop Music (Ages 10-18) Part 2
DESCRIPTION:Calling all Swifties and creative writers!!! \nJoin Burlingame Hillsborough 2024-2025 Youth Poet Laureate Sierra Elman as we explore the poetics of pop songs in this one-time workshop! Analyze the lyrics of your favorite song\, write your own poetry\, and share it with us! \n \nNo registration required. Program is intended for Ages 10-18.
URL:https://events.splitbunch.com/event/the-tortured-poets-workshop-the-poetry-of-pop-music-ages-10-18-part-2/
CATEGORIES:Palo Alto City Library
END:VEVENT
BEGIN:VEVENT
DTSTART;TZID=America/Los_Angeles:20251116T151500
DTEND;TZID=America/Los_Angeles:20251116T161500
DTSTAMP:20260424T132339
CREATED:20251116T235115Z
LAST-MODIFIED:20251116T235115Z
UID:18305-1763306100-1763309700@events.splitbunch.com
SUMMARY:LEGO® Engineering
DESCRIPTION:Join us for a 4-week course centered around building LEGOs with an engineering focus. Each day\, there will be a construct you will learn about and build towards as a goal. If you attend all 4 weeks\, you will be rewarded with a gift! \n\nWeek 1: Skyscrapers\nWeek 2: Bridges\nWeek 3: Aircrafts\nWeek 4: Pyramids\n\nFree. Registration required. Each class must be registered for individually. Registering for one class does not register you for the entire course. Ages 5-10 only. \nADA Accommodation Requests
URL:https://events.splitbunch.com/event/lego-engineering-9/
CATEGORIES:San Jose King Library
END:VEVENT
BEGIN:VEVENT
DTSTART;TZID=America/Los_Angeles:20251116T150000
DTEND;TZID=America/Los_Angeles:20251116T170000
DTSTAMP:20260424T132339
CREATED:20251116T225126Z
LAST-MODIFIED:20251117T005117Z
UID:18289-1763305200-1763312400@events.splitbunch.com
SUMMARY:Tech Mentor
DESCRIPTION:Need help printing or using Word and Excel? Want to set up an email account? Need ideas on tech security? Questions on accessing SJPL eResources? From the basics to somewhat beyond\, volunteer tech mentors are here to help with thoughtful advice and problem-solving. We will do our best to assist you with your tech dilemmas. \nFree. No registration or appointment required. Just drop by and ask for assistance. \n \nADA Accommodation Requests
URL:https://events.splitbunch.com/event/tech-mentor-119/
CATEGORIES:San Jose King Library
END:VEVENT
BEGIN:VEVENT
DTSTART;TZID=America/Los_Angeles:20251116T150000
DTEND;TZID=America/Los_Angeles:20251116T160000
DTSTAMP:20260424T132339
CREATED:20251116T235115Z
LAST-MODIFIED:20251116T235115Z
UID:18304-1763305200-1763308800@events.splitbunch.com
SUMMARY:STEM Sundays @ Alviso
DESCRIPTION:STEM Sundays: Premiering on September 7th\, the Alviso Branch Library will host STEM themed programs on the 1st & 3rd Sundays of each month. For each STEM Sunday\, we will feature a fun\, hands-on activity to help learners develop their Science\, Tech\, Engineering\, or Math skills and experience. Some of the activities will be done in groups at Alviso branch while others may be kits you can work on at the library or take home! \nHere is what we have currently planned for the upcoming STEM Sundays: \n\nNovember 16: 3D Printing Design with TinkerCad\nDecember 7: Tech Interactive!\n\nAdditionally\, as part of our STEM Sundays\, we host Math Festivals on the following dates:November 23. For more information: STEM Sundays: Math Festival | Events | San José Public Library \nRecommended for Ages 5-10 and Up \nFree. No Registration Required.  \nADA Accommodation Requests
URL:https://events.splitbunch.com/event/stem-sundays-alviso-4/
CATEGORIES:San Jose King Library
END:VEVENT
BEGIN:VEVENT
DTSTART;TZID=America/Los_Angeles:20251116T150000
DTEND;TZID=America/Los_Angeles:20251116T160000
DTSTAMP:20260424T132339
CREATED:20251116T235114Z
LAST-MODIFIED:20251116T235114Z
UID:18303-1763305200-1763308800@events.splitbunch.com
SUMMARY:Math Tutor
DESCRIPTION:Our Math Tutor is available in the Study Room  to assist students in Grades 2-8 with their homework as well as to practice a particular skill or problem solving strategies.  \nNo registration is required. Participants will be assisted on a first-come\, first-served basis.  \nADA Accommodation Request
URL:https://events.splitbunch.com/event/math-tutor-7/
CATEGORIES:San Jose King Library
END:VEVENT
BEGIN:VEVENT
DTSTART;TZID=America/Los_Angeles:20251116T150000
DTEND;TZID=America/Los_Angeles:20251116T160000
DTSTAMP:20260424T132339
CREATED:20251116T225126Z
LAST-MODIFIED:20251116T235114Z
UID:18288-1763305200-1763308800@events.splitbunch.com
SUMMARY:Pre-Teen/Teens Life Skills Group
DESCRIPTION:Join us for 4 weeks in our Pre-Teens/Early Teens Life Skills Group – a program led by teens! We’ll be learning about different valuable life skills such as social skills\, health and nutrition\, public speaking\, and leadership skills. \n\nNovember 2\, 2025: Social Skills \nNovember 9\, 2025: Health and Nutrition\nNovember 16\, 2025: Public Speaking \nNovember 23\, 2025: Leadership Skills\n\nWe meet in the Edenvale Branch Teen Room every Sunday from 11/2/25 to 11/23/25 from 3pm-4pm. Sessions are independent of each other – we welcome individuals to join anytime! \nFree. No registration required.  \nADA Accommodation Requests
URL:https://events.splitbunch.com/event/pre-teen-teens-life-skills-group-3/
CATEGORIES:San Jose King Library
END:VEVENT
BEGIN:VEVENT
DTSTART;TZID=America/Los_Angeles:20251116T150000
DTEND;TZID=America/Los_Angeles:20251116T160000
DTSTAMP:20260424T132339
CREATED:20251116T225125Z
LAST-MODIFIED:20251116T235113Z
UID:18286-1763305200-1763308800@events.splitbunch.com
SUMMARY:LEGO® Club
DESCRIPTION:Come join us at Cambrian Branch Library for our LEGO® Club! We’ll supply both big and small LEGO® pieces\, so come and bring your creativity! \nImportant: Children under 5 must be accompanied by their parents as small LEGO® pieces can be choking hazards. \nNo registration required. \nADA Accommodation Requests
URL:https://events.splitbunch.com/event/lego-club-26/
CATEGORIES:San Jose King Library
END:VEVENT
BEGIN:VEVENT
DTSTART;TZID=America/Los_Angeles:20251116T150000
DTEND;TZID=America/Los_Angeles:20251116T160000
DTSTAMP:20260424T132339
CREATED:20251116T225125Z
LAST-MODIFIED:20251116T235113Z
UID:18287-1763305200-1763308800@events.splitbunch.com
SUMMARY:Basic English Level 0
DESCRIPTION:Learn the basics of English in an inclusive and welcoming environment!  \nYou will:• Learn basic vocabulary• Understand simple grammar• Read simple texts and write basic sentences \nLớp này sẽ được giảng dạy bởi một giáo viên có khả năng song ngữAnh-Việt.Free. Registration requested\, but not required. \nADA Accommodation Requests
URL:https://events.splitbunch.com/event/basic-english-level-0-7/
CATEGORIES:San Jose King Library
END:VEVENT
BEGIN:VEVENT
DTSTART;TZID=America/Los_Angeles:20251116T150000
DTEND;TZID=America/Los_Angeles:20251116T160000
DTSTAMP:20260424T132339
CREATED:20251116T225124Z
LAST-MODIFIED:20251116T235113Z
UID:18285-1763305200-1763308800@events.splitbunch.com
SUMMARY:One-on-One Computer Help with our Tech Mentor
DESCRIPTION:Stop by the West Valley Branch Library for one-on-one computer help with our experienced\, friendly Tech Mentor! Our Tech Mentor volunteer can help you with basic computer issues like: \n\nLearning the basics of Microsoft Word and Excel;\nSetting up an email account;\nUsing social networking services like Facebook;\nSubmitting an online job application:\nDownloading an e-book from the library’s web site;\nAnd much more!\n\nNo appointment necessary. Patrons will be helped on a first-come\, first-served basis. Appointment times may be limited depending on patron demand. \nADA Accommodation Requests
URL:https://events.splitbunch.com/event/one-on-one-computer-help-with-our-tech-mentor-7/
CATEGORIES:San Jose King Library
END:VEVENT
BEGIN:VEVENT
DTSTART;TZID=America/Los_Angeles:20251116T150000
DTEND;TZID=America/Los_Angeles:20251116T160000
DTSTAMP:20260424T132339
CREATED:20251116T225123Z
LAST-MODIFIED:20251116T235112Z
UID:18284-1763305200-1763308800@events.splitbunch.com
SUMMARY:English Language Learners (ELL) Conversation Club
DESCRIPTION:This program is in-person at Educational Park Branch Library. \nAre you looking for a place to practice your English conversation skills in a fun\, welcoming and safe environment? Look no further! Our English Language Learners (ELL) Conversation Club offers a respectful environment for adult learners of English to practice their English speaking & conversation skills used in everyday settings. All levels of English speaking skills are welcome!  \nADA Accommodation Requests
URL:https://events.splitbunch.com/event/english-language-learners-ell-conversation-club-7/
CATEGORIES:San Jose King Library
END:VEVENT
BEGIN:VEVENT
DTSTART;TZID=America/Los_Angeles:20251116T150000
DTEND;TZID=America/Los_Angeles:20251116T160000
DTSTAMP:20260424T132339
CREATED:20251115T185140Z
LAST-MODIFIED:20251116T235131Z
UID:17968-1763305200-1763308800@events.splitbunch.com
SUMMARY:Mindfulness Workshop
DESCRIPTION:Join us for a free community workshop for teens and adults. Led by a licensed therapist and yoga instructor\, explore mindfulness strategies to overcome anxiety. The program will include an anxiety reducing meditation\, a gentle chair yoga sequence\, and more! No prior experience is needed\, just bring yourself and a mind ready to take a break from everyday chatter and overwhelm. Connect with your community and learn skills to cope with anxiety in a welcoming and supportive space.  \nFor teens and adults age 13+. No registration needed and walk-ins are welcome! \nFor accessibility accommodations (ex. ASL)\, please fill out the online form at sccld.org/accessibility 7+days prior to the event. If you need assistance with the form\, speak with a staff member at your local library\, call (408) 540-3945\, or email us at ask@lib.sccgov.org . 
URL:https://events.splitbunch.com/event/mindfulness-workshop/
CATEGORIES:Milpitas Library
END:VEVENT
END:VCALENDAR