BEGIN:VCALENDAR
VERSION:2.0
PRODID:-//SplitBunch Events - ECPv6.15.13//NONSGML v1.0//EN
CALSCALE:GREGORIAN
METHOD:PUBLISH
X-WR-CALNAME:SplitBunch Events
X-ORIGINAL-URL:https://events.splitbunch.com
X-WR-CALDESC:Events for SplitBunch Events
REFRESH-INTERVAL;VALUE=DURATION:PT1H
X-Robots-Tag:noindex
X-PUBLISHED-TTL:PT1H
BEGIN:VTIMEZONE
TZID:America/Los_Angeles
BEGIN:DAYLIGHT
TZOFFSETFROM:-0800
TZOFFSETTO:-0700
TZNAME:PDT
DTSTART:20240310T100000
END:DAYLIGHT
BEGIN:STANDARD
TZOFFSETFROM:-0700
TZOFFSETTO:-0800
TZNAME:PST
DTSTART:20241103T090000
END:STANDARD
BEGIN:DAYLIGHT
TZOFFSETFROM:-0800
TZOFFSETTO:-0700
TZNAME:PDT
DTSTART:20250309T100000
END:DAYLIGHT
BEGIN:STANDARD
TZOFFSETFROM:-0700
TZOFFSETTO:-0800
TZNAME:PST
DTSTART:20251102T090000
END:STANDARD
BEGIN:DAYLIGHT
TZOFFSETFROM:-0800
TZOFFSETTO:-0700
TZNAME:PDT
DTSTART:20260308T100000
END:DAYLIGHT
BEGIN:STANDARD
TZOFFSETFROM:-0700
TZOFFSETTO:-0800
TZNAME:PST
DTSTART:20261101T090000
END:STANDARD
END:VTIMEZONE
BEGIN:VEVENT
DTSTART;TZID=America/Los_Angeles:20251116T000000
DTEND;TZID=America/Los_Angeles:20251116T000000
DTSTAMP:20260425T092144
CREATED:20251117T015123Z
LAST-MODIFIED:20251117T015123Z
UID:18346-1763251200-1763251200@events.splitbunch.com
SUMMARY:Sun and Sea Art Exhibit
DESCRIPTION:Anil Sawe’s exhibit consists of oil paintings on canvas depicting colorful sunsets and the power of the ocean. \nHis exhibit runs from Nov 1 to Dec 30\, 2025 and is open to the public during the Library’s open hours. \nAbout the Artist \nAnil was born in Bombay\, India\, and was an engineer by profession. However\, he always found a strong attachment to all visual arts. Now retired\, Anil lives in Aptos and loves to capture the ocean’s energy and vivid colors of the west coast sunsets in his paintings.
URL:https://events.splitbunch.com/event/sun-and-sea-art-exhibit-71/
CATEGORIES:Saratoga Library
END:VEVENT
BEGIN:VEVENT
DTSTART;TZID=America/Los_Angeles:20251116T000000
DTEND;TZID=America/Los_Angeles:20251116T000000
DTSTAMP:20260425T092144
CREATED:20251117T005155Z
LAST-MODIFIED:20251117T005155Z
UID:18342-1763251200-1763251200@events.splitbunch.com
SUMMARY:Sun and Sea Art Exhibit
DESCRIPTION:Anil Sawe’s exhibit consists of oil paintings on canvas depicting colorful sunsets and the power of the ocean. \nHis exhibit runs from Nov 1 to Dec 30\, 2025 and is open to the public during the Library’s open hours. \nAbout the Artist \nAnil was born in Bombay\, India\, and was an engineer by profession. However\, he always found a strong attachment to all visual arts. Now retired\, Anil lives in Aptos and loves to capture the ocean’s energy and vivid colors of the west coast sunsets in his paintings.
URL:https://events.splitbunch.com/event/sun-and-sea-art-exhibit-70/
CATEGORIES:Saratoga Library
END:VEVENT
BEGIN:VEVENT
DTSTART;TZID=America/Los_Angeles:20251116T000000
DTEND;TZID=America/Los_Angeles:20251116T000000
DTSTAMP:20260425T092144
CREATED:20251117T005116Z
LAST-MODIFIED:20251117T005116Z
UID:18319-1763251200-1763251200@events.splitbunch.com
SUMMARY:Family Board Games
DESCRIPTION:Join us every Sunday to play fun board games! We have a fun variety of games set out for folks of all ages to enjoy. \nADA Accommodation Requests
URL:https://events.splitbunch.com/event/family-board-games-176/
CATEGORIES:San Jose King Library
END:VEVENT
BEGIN:VEVENT
DTSTART;TZID=America/Los_Angeles:20251116T000000
DTEND;TZID=America/Los_Angeles:20251116T000000
DTSTAMP:20260425T092144
CREATED:20251117T005116Z
LAST-MODIFIED:20251117T005116Z
UID:18320-1763251200-1763251200@events.splitbunch.com
SUMMARY:1:1 Tech Mentor / Giáo Viên Máy Tính
DESCRIPTION:Free.  By appointment only. \nOffered in-person or virtually via Zoom\, in English\, Español\, or Tiếng Việt. \nWould you like to find out more about computers? Learn at your own pace! \nWhat We Do: \n\nIntro to computer basics\nAccount or device setup\nIntro to Microsoft Office\nJob search & resume help\nNavigating/organizing email\nAnd more!\n\nContact Tiffany Lam by phone (408) 808-3056 or email at tiffany.lam@sjlibrary.org to make an appointment. \nADA Accommodation Requests
URL:https://events.splitbunch.com/event/11-tech-mentor-giao-vien-may-tinh-1216/
CATEGORIES:San Jose King Library
END:VEVENT
BEGIN:VEVENT
DTSTART;TZID=America/Los_Angeles:20251116T000000
DTEND;TZID=America/Los_Angeles:20251116T000000
DTSTAMP:20260425T092144
CREATED:20251116T235130Z
LAST-MODIFIED:20251116T235130Z
UID:18314-1763251200-1763251200@events.splitbunch.com
SUMMARY:Sun and Sea Art Exhibit
DESCRIPTION:Anil Sawe’s exhibit consists of oil paintings on canvas depicting colorful sunsets and the power of the ocean. \nHis exhibit runs from Nov 1 to Dec 30\, 2025 and is open to the public during the Library’s open hours. \nAbout the Artist \nAnil was born in Bombay\, India\, and was an engineer by profession. However\, he always found a strong attachment to all visual arts. Now retired\, Anil lives in Aptos and loves to capture the ocean’s energy and vivid colors of the west coast sunsets in his paintings.
URL:https://events.splitbunch.com/event/sun-and-sea-art-exhibit-69/
CATEGORIES:Saratoga Library
END:VEVENT
BEGIN:VEVENT
DTSTART;TZID=America/Los_Angeles:20251116T000000
DTEND;TZID=America/Los_Angeles:20251116T000000
DTSTAMP:20260425T092144
CREATED:20251116T235110Z
LAST-MODIFIED:20251116T235110Z
UID:18294-1763251200-1763251200@events.splitbunch.com
SUMMARY:Family Board Games
DESCRIPTION:Join us every Sunday to play fun board games! We have a fun variety of games set out for folks of all ages to enjoy. \nADA Accommodation Requests
URL:https://events.splitbunch.com/event/family-board-games-175/
CATEGORIES:San Jose King Library
END:VEVENT
BEGIN:VEVENT
DTSTART;TZID=America/Los_Angeles:20251116T000000
DTEND;TZID=America/Los_Angeles:20251116T000000
DTSTAMP:20260425T092144
CREATED:20251116T235110Z
LAST-MODIFIED:20251116T235110Z
UID:18295-1763251200-1763251200@events.splitbunch.com
SUMMARY:1:1 Tech Mentor / Giáo Viên Máy Tính
DESCRIPTION:Free.  By appointment only. \nOffered in-person or virtually via Zoom\, in English\, Español\, or Tiếng Việt. \nWould you like to find out more about computers? Learn at your own pace! \nWhat We Do: \n\nIntro to computer basics\nAccount or device setup\nIntro to Microsoft Office\nJob search & resume help\nNavigating/organizing email\nAnd more!\n\nContact Tiffany Lam by phone (408) 808-3056 or email at tiffany.lam@sjlibrary.org to make an appointment. \nADA Accommodation Requests
URL:https://events.splitbunch.com/event/11-tech-mentor-giao-vien-may-tinh-1214/
CATEGORIES:San Jose King Library
END:VEVENT
BEGIN:VEVENT
DTSTART;TZID=America/Los_Angeles:20251116T000000
DTEND;TZID=America/Los_Angeles:20251116T000000
DTSTAMP:20260425T092144
CREATED:20251116T225156Z
LAST-MODIFIED:20251116T225156Z
UID:18292-1763251200-1763251200@events.splitbunch.com
SUMMARY:Sun and Sea Art Exhibit
DESCRIPTION:Anil Sawe’s exhibit consists of oil paintings on canvas depicting colorful sunsets and the power of the ocean. \nHis exhibit runs from Nov 1 to Dec 30\, 2025 and is open to the public during the Library’s open hours. \nAbout the Artist \nAnil was born in Bombay\, India\, and was an engineer by profession. However\, he always found a strong attachment to all visual arts. Now retired\, Anil lives in Aptos and loves to capture the ocean’s energy and vivid colors of the west coast sunsets in his paintings.
URL:https://events.splitbunch.com/event/sun-and-sea-art-exhibit-68/
CATEGORIES:Saratoga Library
END:VEVENT
BEGIN:VEVENT
DTSTART;TZID=America/Los_Angeles:20251116T000000
DTEND;TZID=America/Los_Angeles:20251116T000000
DTSTAMP:20260425T092144
CREATED:20251116T225118Z
LAST-MODIFIED:20251116T225118Z
UID:18278-1763251200-1763251200@events.splitbunch.com
SUMMARY:1:1 Tech Mentor / Giáo Viên Máy Tính
DESCRIPTION:Free.  By appointment only. \nOffered in-person or virtually via Zoom\, in English\, Español\, or Tiếng Việt. \nWould you like to find out more about computers? Learn at your own pace! \nWhat We Do: \n\nIntro to computer basics\nAccount or device setup\nIntro to Microsoft Office\nJob search & resume help\nNavigating/organizing email\nAnd more!\n\nContact Tiffany Lam by phone (408) 808-3056 or email at tiffany.lam@sjlibrary.org to make an appointment. \nADA Accommodation Requests
URL:https://events.splitbunch.com/event/11-tech-mentor-giao-vien-may-tinh-1213/
CATEGORIES:San Jose King Library
END:VEVENT
BEGIN:VEVENT
DTSTART;TZID=America/Los_Angeles:20251116T000000
DTEND;TZID=America/Los_Angeles:20251116T000000
DTSTAMP:20260425T092144
CREATED:20251116T225117Z
LAST-MODIFIED:20251116T225117Z
UID:18277-1763251200-1763251200@events.splitbunch.com
SUMMARY:Family Board Games
DESCRIPTION:Join us every Sunday to play fun board games! We have a fun variety of games set out for folks of all ages to enjoy. \nADA Accommodation Requests
URL:https://events.splitbunch.com/event/family-board-games-174/
CATEGORIES:San Jose King Library
END:VEVENT
BEGIN:VEVENT
DTSTART;TZID=America/Los_Angeles:20251116T000000
DTEND;TZID=America/Los_Angeles:20251116T000000
DTSTAMP:20260425T092144
CREATED:20251116T215139Z
LAST-MODIFIED:20251116T215139Z
UID:18273-1763251200-1763251200@events.splitbunch.com
SUMMARY:Sun and Sea Art Exhibit
DESCRIPTION:Anil Sawe’s exhibit consists of oil paintings on canvas depicting colorful sunsets and the power of the ocean. \nHis exhibit runs from Nov 1 to Dec 30\, 2025 and is open to the public during the Library’s open hours. \nAbout the Artist \nAnil was born in Bombay\, India\, and was an engineer by profession. However\, he always found a strong attachment to all visual arts. Now retired\, Anil lives in Aptos and loves to capture the ocean’s energy and vivid colors of the west coast sunsets in his paintings.
URL:https://events.splitbunch.com/event/sun-and-sea-art-exhibit-67/
CATEGORIES:Saratoga Library
END:VEVENT
BEGIN:VEVENT
DTSTART;TZID=America/Los_Angeles:20251116T000000
DTEND;TZID=America/Los_Angeles:20251116T000000
DTSTAMP:20260425T092144
CREATED:20251116T215118Z
LAST-MODIFIED:20251116T215118Z
UID:18269-1763251200-1763251200@events.splitbunch.com
SUMMARY:1:1 Tech Mentor / Giáo Viên Máy Tính
DESCRIPTION:Free.  By appointment only. \nOffered in-person or virtually via Zoom\, in English\, Español\, or Tiếng Việt. \nWould you like to find out more about computers? Learn at your own pace! \nWhat We Do: \n\nIntro to computer basics\nAccount or device setup\nIntro to Microsoft Office\nJob search & resume help\nNavigating/organizing email\nAnd more!\n\nContact Tiffany Lam by phone (408) 808-3056 or email at tiffany.lam@sjlibrary.org to make an appointment. \nADA Accommodation Requests
URL:https://events.splitbunch.com/event/11-tech-mentor-giao-vien-may-tinh-1212/
CATEGORIES:San Jose King Library
END:VEVENT
BEGIN:VEVENT
DTSTART;TZID=America/Los_Angeles:20251116T000000
DTEND;TZID=America/Los_Angeles:20251116T000000
DTSTAMP:20260425T092144
CREATED:20251116T215117Z
LAST-MODIFIED:20251116T215117Z
UID:18268-1763251200-1763251200@events.splitbunch.com
SUMMARY:Family Board Games
DESCRIPTION:Join us every Sunday to play fun board games! We have a fun variety of games set out for folks of all ages to enjoy. \nADA Accommodation Requests
URL:https://events.splitbunch.com/event/family-board-games-173/
CATEGORIES:San Jose King Library
END:VEVENT
BEGIN:VEVENT
DTSTART;TZID=America/Los_Angeles:20251116T000000
DTEND;TZID=America/Los_Angeles:20251116T000000
DTSTAMP:20260425T092144
CREATED:20251116T205205Z
LAST-MODIFIED:20251116T205205Z
UID:18264-1763251200-1763251200@events.splitbunch.com
SUMMARY:Sun and Sea Art Exhibit
DESCRIPTION:Anil Sawe’s exhibit consists of oil paintings on canvas depicting colorful sunsets and the power of the ocean. \nHis exhibit runs from Nov 1 to Dec 30\, 2025 and is open to the public during the Library’s open hours. \nAbout the Artist \nAnil was born in Bombay\, India\, and was an engineer by profession. However\, he always found a strong attachment to all visual arts. Now retired\, Anil lives in Aptos and loves to capture the ocean’s energy and vivid colors of the west coast sunsets in his paintings.
URL:https://events.splitbunch.com/event/sun-and-sea-art-exhibit-66/
CATEGORIES:Saratoga Library
END:VEVENT
BEGIN:VEVENT
DTSTART;TZID=America/Los_Angeles:20251116T000000
DTEND;TZID=America/Los_Angeles:20251116T000000
DTSTAMP:20260425T092144
CREATED:20251116T205111Z
LAST-MODIFIED:20251116T205111Z
UID:18259-1763251200-1763251200@events.splitbunch.com
SUMMARY:Family Board Games
DESCRIPTION:Join us every Sunday to play fun board games! We have a fun variety of games set out for folks of all ages to enjoy. \nADA Accommodation Requests
URL:https://events.splitbunch.com/event/family-board-games-172/
CATEGORIES:San Jose King Library
END:VEVENT
BEGIN:VEVENT
DTSTART;TZID=America/Los_Angeles:20251116T000000
DTEND;TZID=America/Los_Angeles:20251116T000000
DTSTAMP:20260425T092144
CREATED:20251116T205111Z
LAST-MODIFIED:20251116T205111Z
UID:18260-1763251200-1763251200@events.splitbunch.com
SUMMARY:1:1 Tech Mentor / Giáo Viên Máy Tính
DESCRIPTION:Free.  By appointment only. \nOffered in-person or virtually via Zoom\, in English\, Español\, or Tiếng Việt. \nWould you like to find out more about computers? Learn at your own pace! \nWhat We Do: \n\nIntro to computer basics\nAccount or device setup\nIntro to Microsoft Office\nJob search & resume help\nNavigating/organizing email\nAnd more!\n\nContact Tiffany Lam by phone (408) 808-3056 or email at tiffany.lam@sjlibrary.org to make an appointment. \nADA Accommodation Requests
URL:https://events.splitbunch.com/event/11-tech-mentor-giao-vien-may-tinh-1211/
CATEGORIES:San Jose King Library
END:VEVENT
BEGIN:VEVENT
DTSTART;TZID=America/Los_Angeles:20251116T000000
DTEND;TZID=America/Los_Angeles:20251116T000000
DTSTAMP:20260425T092144
CREATED:20251116T195120Z
LAST-MODIFIED:20251116T195120Z
UID:18257-1763251200-1763251200@events.splitbunch.com
SUMMARY:Sun and Sea Art Exhibit
DESCRIPTION:Anil Sawe’s exhibit consists of oil paintings on canvas depicting colorful sunsets and the power of the ocean. \nHis exhibit runs from Nov 1 to Dec 30\, 2025 and is open to the public during the Library’s open hours. \nAbout the Artist \nAnil was born in Bombay\, India\, and was an engineer by profession. However\, he always found a strong attachment to all visual arts. Now retired\, Anil lives in Aptos and loves to capture the ocean’s energy and vivid colors of the west coast sunsets in his paintings.
URL:https://events.splitbunch.com/event/sun-and-sea-art-exhibit-65/
CATEGORIES:Saratoga Library
END:VEVENT
BEGIN:VEVENT
DTSTART;TZID=America/Los_Angeles:20251116T000000
DTEND;TZID=America/Los_Angeles:20251116T000000
DTSTAMP:20260425T092144
CREATED:20251116T195112Z
LAST-MODIFIED:20251116T195112Z
UID:18255-1763251200-1763251200@events.splitbunch.com
SUMMARY:Family Board Games
DESCRIPTION:Join us every Sunday to play fun board games! We have a fun variety of games set out for folks of all ages to enjoy. \nADA Accommodation Requests
URL:https://events.splitbunch.com/event/family-board-games-171/
CATEGORIES:San Jose King Library
END:VEVENT
BEGIN:VEVENT
DTSTART;TZID=America/Los_Angeles:20251116T000000
DTEND;TZID=America/Los_Angeles:20251116T000000
DTSTAMP:20260425T092144
CREATED:20251116T195112Z
LAST-MODIFIED:20251116T195112Z
UID:18256-1763251200-1763251200@events.splitbunch.com
SUMMARY:1:1 Tech Mentor / Giáo Viên Máy Tính
DESCRIPTION:Free.  By appointment only. \nOffered in-person or virtually via Zoom\, in English\, Español\, or Tiếng Việt. \nWould you like to find out more about computers? Learn at your own pace! \nWhat We Do: \n\nIntro to computer basics\nAccount or device setup\nIntro to Microsoft Office\nJob search & resume help\nNavigating/organizing email\nAnd more!\n\nContact Tiffany Lam by phone (408) 808-3056 or email at tiffany.lam@sjlibrary.org to make an appointment. \nADA Accommodation Requests
URL:https://events.splitbunch.com/event/11-tech-mentor-giao-vien-may-tinh-1210/
CATEGORIES:San Jose King Library
END:VEVENT
BEGIN:VEVENT
DTSTART;TZID=America/Los_Angeles:20251116T000000
DTEND;TZID=America/Los_Angeles:20251116T000000
DTSTAMP:20260425T092144
CREATED:20251116T185214Z
LAST-MODIFIED:20251116T185214Z
UID:18254-1763251200-1763251200@events.splitbunch.com
SUMMARY:Sun and Sea Art Exhibit
DESCRIPTION:Anil Sawe’s exhibit consists of oil paintings on canvas depicting colorful sunsets and the power of the ocean. \nHis exhibit runs from Nov 1 to Dec 30\, 2025 and is open to the public during the Library’s open hours. \nAbout the Artist \nAnil was born in Bombay\, India\, and was an engineer by profession. However\, he always found a strong attachment to all visual arts. Now retired\, Anil lives in Aptos and loves to capture the ocean’s energy and vivid colors of the west coast sunsets in his paintings.
URL:https://events.splitbunch.com/event/sun-and-sea-art-exhibit-64/
CATEGORIES:Saratoga Library
END:VEVENT
BEGIN:VEVENT
DTSTART;TZID=America/Los_Angeles:20251116T000000
DTEND;TZID=America/Los_Angeles:20251116T000000
DTSTAMP:20260425T092144
CREATED:20251116T185213Z
LAST-MODIFIED:20251116T185213Z
UID:18253-1763251200-1763251200@events.splitbunch.com
SUMMARY:Sun and Sea Art Exhibit
DESCRIPTION:Anil Sawe’s exhibit consists of oil paintings on canvas depicting colorful sunsets and the power of the ocean. \nHis exhibit runs from Nov 1 to Dec 30\, 2025 and is open to the public during the Library’s open hours. \nAbout the Artist \nAnil was born in Bombay\, India\, and was an engineer by profession. However\, he always found a strong attachment to all visual arts. Now retired\, Anil lives in Aptos and loves to capture the ocean’s energy and vivid colors of the west coast sunsets in his paintings.
URL:https://events.splitbunch.com/event/sun-and-sea-art-exhibit-63/
CATEGORIES:Saratoga Library
END:VEVENT
BEGIN:VEVENT
DTSTART;TZID=America/Los_Angeles:20251116T000000
DTEND;TZID=America/Los_Angeles:20251116T000000
DTSTAMP:20260425T092144
CREATED:20251116T185112Z
LAST-MODIFIED:20251116T185112Z
UID:18250-1763251200-1763251200@events.splitbunch.com
SUMMARY:1:1 Tech Mentor / Giáo Viên Máy Tính
DESCRIPTION:Free.  By appointment only. \nOffered in-person or virtually via Zoom\, in English\, Español\, or Tiếng Việt. \nWould you like to find out more about computers? Learn at your own pace! \nWhat We Do: \n\nIntro to computer basics\nAccount or device setup\nIntro to Microsoft Office\nJob search & resume help\nNavigating/organizing email\nAnd more!\n\nContact Tiffany Lam by phone (408) 808-3056 or email at tiffany.lam@sjlibrary.org to make an appointment. \nADA Accommodation Requests
URL:https://events.splitbunch.com/event/11-tech-mentor-giao-vien-may-tinh-1209/
CATEGORIES:San Jose King Library
END:VEVENT
BEGIN:VEVENT
DTSTART;TZID=America/Los_Angeles:20251116T000000
DTEND;TZID=America/Los_Angeles:20251116T000000
DTSTAMP:20260425T092144
CREATED:20251116T185112Z
LAST-MODIFIED:20251116T185112Z
UID:18249-1763251200-1763251200@events.splitbunch.com
SUMMARY:1:1 Tech Mentor / Giáo Viên Máy Tính
DESCRIPTION:Free.  By appointment only. \nOffered in-person or virtually via Zoom\, in English\, Español\, or Tiếng Việt. \nWould you like to find out more about computers? Learn at your own pace! \nWhat We Do: \n\nIntro to computer basics\nAccount or device setup\nIntro to Microsoft Office\nJob search & resume help\nNavigating/organizing email\nAnd more!\n\nContact Tiffany Lam by phone (408) 808-3056 or email at tiffany.lam@sjlibrary.org to make an appointment. \nADA Accommodation Requests
URL:https://events.splitbunch.com/event/11-tech-mentor-giao-vien-may-tinh-1208/
CATEGORIES:San Jose King Library
END:VEVENT
BEGIN:VEVENT
DTSTART;TZID=America/Los_Angeles:20251116T000000
DTEND;TZID=America/Los_Angeles:20251116T000000
DTSTAMP:20260425T092144
CREATED:20251116T185111Z
LAST-MODIFIED:20251116T185111Z
UID:18248-1763251200-1763251200@events.splitbunch.com
SUMMARY:Family Board Games
DESCRIPTION:Join us every Sunday to play fun board games! We have a fun variety of games set out for folks of all ages to enjoy. \nADA Accommodation Requests
URL:https://events.splitbunch.com/event/family-board-games-170/
CATEGORIES:San Jose King Library
END:VEVENT
BEGIN:VEVENT
DTSTART;TZID=America/Los_Angeles:20251116T000000
DTEND;TZID=America/Los_Angeles:20251116T000000
DTSTAMP:20260425T092144
CREATED:20251116T185111Z
LAST-MODIFIED:20251116T185111Z
UID:18247-1763251200-1763251200@events.splitbunch.com
SUMMARY:Family Board Games
DESCRIPTION:Join us every Sunday to play fun board games! We have a fun variety of games set out for folks of all ages to enjoy. \nADA Accommodation Requests
URL:https://events.splitbunch.com/event/family-board-games-169/
CATEGORIES:San Jose King Library
END:VEVENT
BEGIN:VEVENT
DTSTART;TZID=America/Los_Angeles:20251116T000000
DTEND;TZID=America/Los_Angeles:20251116T000000
DTSTAMP:20260425T092144
CREATED:20251116T175119Z
LAST-MODIFIED:20251116T175119Z
UID:18245-1763251200-1763251200@events.splitbunch.com
SUMMARY:Family Board Games
DESCRIPTION:Join us every Sunday to play fun board games! We have a fun variety of games set out for folks of all ages to enjoy. \nADA Accommodation Requests
URL:https://events.splitbunch.com/event/family-board-games-168/
CATEGORIES:San Jose King Library
END:VEVENT
BEGIN:VEVENT
DTSTART;TZID=America/Los_Angeles:20251116T000000
DTEND;TZID=America/Los_Angeles:20251116T000000
DTSTAMP:20260425T092144
CREATED:20251116T175119Z
LAST-MODIFIED:20251116T175119Z
UID:18246-1763251200-1763251200@events.splitbunch.com
SUMMARY:1:1 Tech Mentor / Giáo Viên Máy Tính
DESCRIPTION:Free.  By appointment only. \nOffered in-person or virtually via Zoom\, in English\, Español\, or Tiếng Việt. \nWould you like to find out more about computers? Learn at your own pace! \nWhat We Do: \n\nIntro to computer basics\nAccount or device setup\nIntro to Microsoft Office\nJob search & resume help\nNavigating/organizing email\nAnd more!\n\nContact Tiffany Lam by phone (408) 808-3056 or email at tiffany.lam@sjlibrary.org to make an appointment. \nADA Accommodation Requests
URL:https://events.splitbunch.com/event/11-tech-mentor-giao-vien-may-tinh-1207/
CATEGORIES:San Jose King Library
END:VEVENT
BEGIN:VEVENT
DTSTART;TZID=America/Los_Angeles:20251116T000000
DTEND;TZID=America/Los_Angeles:20251116T000000
DTSTAMP:20260425T092144
CREATED:20251116T175110Z
LAST-MODIFIED:20251116T175110Z
UID:18244-1763251200-1763251200@events.splitbunch.com
SUMMARY:Sun and Sea Art Exhibit
DESCRIPTION:Anil Sawe’s exhibit consists of oil paintings on canvas depicting colorful sunsets and the power of the ocean. \nHis exhibit runs from Nov 1 to Dec 30\, 2025 and is open to the public during the Library’s open hours. \nAbout the Artist \nAnil was born in Bombay\, India\, and was an engineer by profession. However\, he always found a strong attachment to all visual arts. Now retired\, Anil lives in Aptos and loves to capture the ocean’s energy and vivid colors of the west coast sunsets in his paintings.
URL:https://events.splitbunch.com/event/sun-and-sea-art-exhibit-62/
CATEGORIES:Saratoga Library
END:VEVENT
BEGIN:VEVENT
DTSTART;TZID=America/Los_Angeles:20251116T000000
DTEND;TZID=America/Los_Angeles:20251116T000000
DTSTAMP:20260425T092144
CREATED:20251116T165117Z
LAST-MODIFIED:20251116T165117Z
UID:18243-1763251200-1763251200@events.splitbunch.com
SUMMARY:Sun and Sea Art Exhibit
DESCRIPTION:Anil Sawe’s exhibit consists of oil paintings on canvas depicting colorful sunsets and the power of the ocean. \nHis exhibit runs from Nov 1 to Dec 30\, 2025 and is open to the public during the Library’s open hours. \nAbout the Artist \nAnil was born in Bombay\, India\, and was an engineer by profession. However\, he always found a strong attachment to all visual arts. Now retired\, Anil lives in Aptos and loves to capture the ocean’s energy and vivid colors of the west coast sunsets in his paintings.
URL:https://events.splitbunch.com/event/sun-and-sea-art-exhibit-61/
CATEGORIES:Saratoga Library
END:VEVENT
BEGIN:VEVENT
DTSTART;TZID=America/Los_Angeles:20251116T000000
DTEND;TZID=America/Los_Angeles:20251116T000000
DTSTAMP:20260425T092144
CREATED:20251116T165110Z
LAST-MODIFIED:20251116T165110Z
UID:18242-1763251200-1763251200@events.splitbunch.com
SUMMARY:1:1 Tech Mentor / Giáo Viên Máy Tính
DESCRIPTION:Free.  By appointment only. \nOffered in-person or virtually via Zoom\, in English\, Español\, or Tiếng Việt. \nWould you like to find out more about computers? Learn at your own pace! \nWhat We Do: \n\nIntro to computer basics\nAccount or device setup\nIntro to Microsoft Office\nJob search & resume help\nNavigating/organizing email\nAnd more!\n\nContact Tiffany Lam by phone (408) 808-3056 or email at tiffany.lam@sjlibrary.org to make an appointment. \nADA Accommodation Requests
URL:https://events.splitbunch.com/event/11-tech-mentor-giao-vien-may-tinh-1206/
CATEGORIES:San Jose King Library
END:VEVENT
END:VCALENDAR