BEGIN:VCALENDAR
VERSION:2.0
PRODID:-//SplitBunch Events - ECPv6.15.13//NONSGML v1.0//EN
CALSCALE:GREGORIAN
METHOD:PUBLISH
X-WR-CALNAME:SplitBunch Events
X-ORIGINAL-URL:https://events.splitbunch.com
X-WR-CALDESC:Events for SplitBunch Events
REFRESH-INTERVAL;VALUE=DURATION:PT1H
X-Robots-Tag:noindex
X-PUBLISHED-TTL:PT1H
BEGIN:VTIMEZONE
TZID:America/Los_Angeles
BEGIN:DAYLIGHT
TZOFFSETFROM:-0800
TZOFFSETTO:-0700
TZNAME:PDT
DTSTART:20240310T100000
END:DAYLIGHT
BEGIN:STANDARD
TZOFFSETFROM:-0700
TZOFFSETTO:-0800
TZNAME:PST
DTSTART:20241103T090000
END:STANDARD
BEGIN:DAYLIGHT
TZOFFSETFROM:-0800
TZOFFSETTO:-0700
TZNAME:PDT
DTSTART:20250309T100000
END:DAYLIGHT
BEGIN:STANDARD
TZOFFSETFROM:-0700
TZOFFSETTO:-0800
TZNAME:PST
DTSTART:20251102T090000
END:STANDARD
BEGIN:DAYLIGHT
TZOFFSETFROM:-0800
TZOFFSETTO:-0700
TZNAME:PDT
DTSTART:20260308T100000
END:DAYLIGHT
BEGIN:STANDARD
TZOFFSETFROM:-0700
TZOFFSETTO:-0800
TZNAME:PST
DTSTART:20261101T090000
END:STANDARD
END:VTIMEZONE
BEGIN:VEVENT
DTSTART;TZID=America/Los_Angeles:20251005T000000
DTEND;TZID=America/Los_Angeles:20251031T000000
DTSTAMP:20260420T080341
CREATED:20251031T115124Z
LAST-MODIFIED:20251031T115124Z
UID:13480-1759622400-1761868800@events.splitbunch.com
SUMMARY:Spider Web Grab and Go Craft
DESCRIPTION:Join us for a fun Halloween grab and go craft! Pick up a spider web kit to take home and practice your web weaving skills. Each kit includes instructions\, craft sticks\, string and spider-making materials. You only need your own glue. Come to the information desk and we will give you a kit.   \nFree. No registration required. While supplies last. \nADA Accommodation Requests
URL:https://events.splitbunch.com/event/spider-web-grab-and-go-craft-6/
CATEGORIES:San Jose King Library
END:VEVENT
BEGIN:VEVENT
DTSTART;TZID=America/Los_Angeles:20251005T000000
DTEND;TZID=America/Los_Angeles:20251031T000000
DTSTAMP:20260420T080341
CREATED:20251031T125112Z
LAST-MODIFIED:20251031T125112Z
UID:13489-1759622400-1761868800@events.splitbunch.com
SUMMARY:Spider Web Grab and Go Craft
DESCRIPTION:Join us for a fun Halloween grab and go craft! Pick up a spider web kit to take home and practice your web weaving skills. Each kit includes instructions\, craft sticks\, string and spider-making materials. You only need your own glue. Come to the information desk and we will give you a kit.   \nFree. No registration required. While supplies last. \nADA Accommodation Requests
URL:https://events.splitbunch.com/event/spider-web-grab-and-go-craft-7/
CATEGORIES:San Jose King Library
END:VEVENT
BEGIN:VEVENT
DTSTART;TZID=America/Los_Angeles:20251005T000000
DTEND;TZID=America/Los_Angeles:20251031T000000
DTSTAMP:20260420T080341
CREATED:20251031T135157Z
LAST-MODIFIED:20251031T135157Z
UID:13501-1759622400-1761868800@events.splitbunch.com
SUMMARY:Spider Web Grab and Go Craft
DESCRIPTION:Join us for a fun Halloween grab and go craft! Pick up a spider web kit to take home and practice your web weaving skills. Each kit includes instructions\, craft sticks\, string and spider-making materials. You only need your own glue. Come to the information desk and we will give you a kit.   \nFree. No registration required. While supplies last. \nADA Accommodation Requests
URL:https://events.splitbunch.com/event/spider-web-grab-and-go-craft-8/
CATEGORIES:San Jose King Library
END:VEVENT
BEGIN:VEVENT
DTSTART;TZID=America/Los_Angeles:20251005T000000
DTEND;TZID=America/Los_Angeles:20251031T000000
DTSTAMP:20260420T080341
CREATED:20251031T145116Z
LAST-MODIFIED:20251031T145116Z
UID:13510-1759622400-1761868800@events.splitbunch.com
SUMMARY:Spider Web Grab and Go Craft
DESCRIPTION:Join us for a fun Halloween grab and go craft! Pick up a spider web kit to take home and practice your web weaving skills. Each kit includes instructions\, craft sticks\, string and spider-making materials. You only need your own glue. Come to the information desk and we will give you a kit.   \nFree. No registration required. While supplies last. \nADA Accommodation Requests
URL:https://events.splitbunch.com/event/spider-web-grab-and-go-craft-9/
CATEGORIES:San Jose King Library
END:VEVENT
BEGIN:VEVENT
DTSTART;TZID=America/Los_Angeles:20251005T000000
DTEND;TZID=America/Los_Angeles:20251031T000000
DTSTAMP:20260420T080341
CREATED:20251031T155146Z
LAST-MODIFIED:20251031T155146Z
UID:13519-1759622400-1761868800@events.splitbunch.com
SUMMARY:Spider Web Grab and Go Craft
DESCRIPTION:Join us for a fun Halloween grab and go craft! Pick up a spider web kit to take home and practice your web weaving skills. Each kit includes instructions\, craft sticks\, string and spider-making materials. You only need your own glue. Come to the information desk and we will give you a kit.   \nFree. No registration required. While supplies last. \nADA Accommodation Requests
URL:https://events.splitbunch.com/event/spider-web-grab-and-go-craft-10/
CATEGORIES:San Jose King Library
END:VEVENT
BEGIN:VEVENT
DTSTART;TZID=America/Los_Angeles:20251005T000000
DTEND;TZID=America/Los_Angeles:20251031T000000
DTSTAMP:20260420T080341
CREATED:20251031T165120Z
LAST-MODIFIED:20251031T165120Z
UID:13525-1759622400-1761868800@events.splitbunch.com
SUMMARY:Spider Web Grab and Go Craft
DESCRIPTION:Join us for a fun Halloween grab and go craft! Pick up a spider web kit to take home and practice your web weaving skills. Each kit includes instructions\, craft sticks\, string and spider-making materials. You only need your own glue. Come to the information desk and we will give you a kit.   \nFree. No registration required. While supplies last. \nADA Accommodation Requests
URL:https://events.splitbunch.com/event/spider-web-grab-and-go-craft-11/
CATEGORIES:San Jose King Library
END:VEVENT
BEGIN:VEVENT
DTSTART;TZID=America/Los_Angeles:20251005T000000
DTEND;TZID=America/Los_Angeles:20251031T000000
DTSTAMP:20260420T080341
CREATED:20251031T175123Z
LAST-MODIFIED:20251031T175123Z
UID:13534-1759622400-1761868800@events.splitbunch.com
SUMMARY:Spider Web Grab and Go Craft
DESCRIPTION:Join us for a fun Halloween grab and go craft! Pick up a spider web kit to take home and practice your web weaving skills. Each kit includes instructions\, craft sticks\, string and spider-making materials. You only need your own glue. Come to the information desk and we will give you a kit.   \nFree. No registration required. While supplies last. \nADA Accommodation Requests
URL:https://events.splitbunch.com/event/spider-web-grab-and-go-craft-12/
CATEGORIES:San Jose King Library
END:VEVENT
BEGIN:VEVENT
DTSTART;TZID=America/Los_Angeles:20251005T000000
DTEND;TZID=America/Los_Angeles:20251031T000000
DTSTAMP:20260420T080341
CREATED:20251031T185124Z
LAST-MODIFIED:20251031T185124Z
UID:13548-1759622400-1761868800@events.splitbunch.com
SUMMARY:Spider Web Grab and Go Craft
DESCRIPTION:Join us for a fun Halloween grab and go craft! Pick up a spider web kit to take home and practice your web weaving skills. Each kit includes instructions\, craft sticks\, string and spider-making materials. You only need your own glue. Come to the information desk and we will give you a kit.   \nFree. No registration required. While supplies last. \nADA Accommodation Requests
URL:https://events.splitbunch.com/event/spider-web-grab-and-go-craft-13/
CATEGORIES:San Jose King Library
END:VEVENT
BEGIN:VEVENT
DTSTART;TZID=America/Los_Angeles:20251005T000000
DTEND;TZID=America/Los_Angeles:20251031T000000
DTSTAMP:20260420T080341
CREATED:20251031T195115Z
LAST-MODIFIED:20251031T195115Z
UID:13557-1759622400-1761868800@events.splitbunch.com
SUMMARY:Spider Web Grab and Go Craft
DESCRIPTION:Join us for a fun Halloween grab and go craft! Pick up a spider web kit to take home and practice your web weaving skills. Each kit includes instructions\, craft sticks\, string and spider-making materials. You only need your own glue. Come to the information desk and we will give you a kit.   \nFree. No registration required. While supplies last. \nADA Accommodation Requests
URL:https://events.splitbunch.com/event/spider-web-grab-and-go-craft-14/
CATEGORIES:San Jose King Library
END:VEVENT
BEGIN:VEVENT
DTSTART;TZID=America/Los_Angeles:20251005T000000
DTEND;TZID=America/Los_Angeles:20251031T000000
DTSTAMP:20260420T080341
CREATED:20251031T205131Z
LAST-MODIFIED:20251031T205131Z
UID:13578-1759622400-1761868800@events.splitbunch.com
SUMMARY:Spider Web Grab and Go Craft
DESCRIPTION:Join us for a fun Halloween grab and go craft! Pick up a spider web kit to take home and practice your web weaving skills. Each kit includes instructions\, craft sticks\, string and spider-making materials. You only need your own glue. Come to the information desk and we will give you a kit.   \nFree. No registration required. While supplies last. \nADA Accommodation Requests
URL:https://events.splitbunch.com/event/spider-web-grab-and-go-craft-15/
CATEGORIES:San Jose King Library
END:VEVENT
BEGIN:VEVENT
DTSTART;TZID=America/Los_Angeles:20251005T000000
DTEND;TZID=America/Los_Angeles:20251031T000000
DTSTAMP:20260420T080341
CREATED:20251031T215134Z
LAST-MODIFIED:20251031T215134Z
UID:13589-1759622400-1761868800@events.splitbunch.com
SUMMARY:Spider Web Grab and Go Craft
DESCRIPTION:Join us for a fun Halloween grab and go craft! Pick up a spider web kit to take home and practice your web weaving skills. Each kit includes instructions\, craft sticks\, string and spider-making materials. You only need your own glue. Come to the information desk and we will give you a kit.   \nFree. No registration required. While supplies last. \nADA Accommodation Requests
URL:https://events.splitbunch.com/event/spider-web-grab-and-go-craft-16/
CATEGORIES:San Jose King Library
END:VEVENT
BEGIN:VEVENT
DTSTART;TZID=America/Los_Angeles:20251005T000000
DTEND;TZID=America/Los_Angeles:20251031T000000
DTSTAMP:20260420T080341
CREATED:20251031T225128Z
LAST-MODIFIED:20251031T225128Z
UID:13603-1759622400-1761868800@events.splitbunch.com
SUMMARY:Spider Web Grab and Go Craft
DESCRIPTION:Join us for a fun Halloween grab and go craft! Pick up a spider web kit to take home and practice your web weaving skills. Each kit includes instructions\, craft sticks\, string and spider-making materials. You only need your own glue. Come to the information desk and we will give you a kit.   \nFree. No registration required. While supplies last. \nADA Accommodation Requests
URL:https://events.splitbunch.com/event/spider-web-grab-and-go-craft-17/
CATEGORIES:San Jose King Library
END:VEVENT
BEGIN:VEVENT
DTSTART;TZID=America/Los_Angeles:20251005T000000
DTEND;TZID=America/Los_Angeles:20251031T000000
DTSTAMP:20260420T080341
CREATED:20251031T235140Z
LAST-MODIFIED:20251031T235140Z
UID:13614-1759622400-1761868800@events.splitbunch.com
SUMMARY:Spider Web Grab and Go Craft
DESCRIPTION:Join us for a fun Halloween grab and go craft! Pick up a spider web kit to take home and practice your web weaving skills. Each kit includes instructions\, craft sticks\, string and spider-making materials. You only need your own glue. Come to the information desk and we will give you a kit.   \nFree. No registration required. While supplies last. \nADA Accommodation Requests
URL:https://events.splitbunch.com/event/spider-web-grab-and-go-craft-18/
CATEGORIES:San Jose King Library
END:VEVENT
BEGIN:VEVENT
DTSTART;TZID=America/Los_Angeles:20251005T000000
DTEND;TZID=America/Los_Angeles:20251031T000000
DTSTAMP:20260420T080341
CREATED:20251101T005110Z
LAST-MODIFIED:20251101T005110Z
UID:13632-1759622400-1761868800@events.splitbunch.com
SUMMARY:Spider Web Grab and Go Craft
DESCRIPTION:Join us for a fun Halloween grab and go craft! Pick up a spider web kit to take home and practice your web weaving skills. Each kit includes instructions\, craft sticks\, string and spider-making materials. You only need your own glue. Come to the information desk and we will give you a kit.   \nFree. No registration required. While supplies last. \nADA Accommodation Requests
URL:https://events.splitbunch.com/event/spider-web-grab-and-go-craft-19/
CATEGORIES:San Jose King Library
END:VEVENT
BEGIN:VEVENT
DTSTART;TZID=America/Los_Angeles:20251005T000000
DTEND;TZID=America/Los_Angeles:20251031T000000
DTSTAMP:20260420T080341
CREATED:20251101T015127Z
LAST-MODIFIED:20251101T015127Z
UID:13667-1759622400-1761868800@events.splitbunch.com
SUMMARY:Spider Web Grab and Go Craft
DESCRIPTION:Join us for a fun Halloween grab and go craft! Pick up a spider web kit to take home and practice your web weaving skills. Each kit includes instructions\, craft sticks\, string and spider-making materials. You only need your own glue. Come to the information desk and we will give you a kit.   \nFree. No registration required. While supplies last. \nADA Accommodation Requests
URL:https://events.splitbunch.com/event/spider-web-grab-and-go-craft-20/
CATEGORIES:San Jose King Library
END:VEVENT
BEGIN:VEVENT
DTSTART;TZID=America/Los_Angeles:20251005T000000
DTEND;TZID=America/Los_Angeles:20251031T000000
DTSTAMP:20260420T080341
CREATED:20251101T025147Z
LAST-MODIFIED:20251101T025147Z
UID:13695-1759622400-1761868800@events.splitbunch.com
SUMMARY:Spider Web Grab and Go Craft
DESCRIPTION:Join us for a fun Halloween grab and go craft! Pick up a spider web kit to take home and practice your web weaving skills. Each kit includes instructions\, craft sticks\, string and spider-making materials. You only need your own glue. Come to the information desk and we will give you a kit.   \nFree. No registration required. While supplies last. \nADA Accommodation Requests
URL:https://events.splitbunch.com/event/spider-web-grab-and-go-craft-21/
CATEGORIES:San Jose King Library
END:VEVENT
BEGIN:VEVENT
DTSTART;TZID=America/Los_Angeles:20251005T000000
DTEND;TZID=America/Los_Angeles:20251031T000000
DTSTAMP:20260420T080341
CREATED:20251101T035143Z
LAST-MODIFIED:20251101T035143Z
UID:13704-1759622400-1761868800@events.splitbunch.com
SUMMARY:Spider Web Grab and Go Craft
DESCRIPTION:Join us for a fun Halloween grab and go craft! Pick up a spider web kit to take home and practice your web weaving skills. Each kit includes instructions\, craft sticks\, string and spider-making materials. You only need your own glue. Come to the information desk and we will give you a kit.   \nFree. No registration required. While supplies last. \nADA Accommodation Requests
URL:https://events.splitbunch.com/event/spider-web-grab-and-go-craft-22/
CATEGORIES:San Jose King Library
END:VEVENT
BEGIN:VEVENT
DTSTART;TZID=America/Los_Angeles:20251005T000000
DTEND;TZID=America/Los_Angeles:20251031T000000
DTSTAMP:20260420T080341
CREATED:20251101T045139Z
LAST-MODIFIED:20251101T045139Z
UID:13713-1759622400-1761868800@events.splitbunch.com
SUMMARY:Spider Web Grab and Go Craft
DESCRIPTION:Join us for a fun Halloween grab and go craft! Pick up a spider web kit to take home and practice your web weaving skills. Each kit includes instructions\, craft sticks\, string and spider-making materials. You only need your own glue. Come to the information desk and we will give you a kit.   \nFree. No registration required. While supplies last. \nADA Accommodation Requests
URL:https://events.splitbunch.com/event/spider-web-grab-and-go-craft-23/
CATEGORIES:San Jose King Library
END:VEVENT
BEGIN:VEVENT
DTSTART;TZID=America/Los_Angeles:20251005T000000
DTEND;TZID=America/Los_Angeles:20251031T000000
DTSTAMP:20260420T080341
CREATED:20251101T055111Z
LAST-MODIFIED:20251101T055111Z
UID:13719-1759622400-1761868800@events.splitbunch.com
SUMMARY:Spider Web Grab and Go Craft
DESCRIPTION:Join us for a fun Halloween grab and go craft! Pick up a spider web kit to take home and practice your web weaving skills. Each kit includes instructions\, craft sticks\, string and spider-making materials. You only need your own glue. Come to the information desk and we will give you a kit.   \nFree. No registration required. While supplies last. \nADA Accommodation Requests
URL:https://events.splitbunch.com/event/spider-web-grab-and-go-craft-24/
CATEGORIES:San Jose King Library
END:VEVENT
BEGIN:VEVENT
DTSTART;TZID=America/Los_Angeles:20251005T000000
DTEND;TZID=America/Los_Angeles:20251031T000000
DTSTAMP:20260420T080341
CREATED:20251101T065122Z
LAST-MODIFIED:20251101T065122Z
UID:13731-1759622400-1761868800@events.splitbunch.com
SUMMARY:Spider Web Grab and Go Craft
DESCRIPTION:Join us for a fun Halloween grab and go craft! Pick up a spider web kit to take home and practice your web weaving skills. Each kit includes instructions\, craft sticks\, string and spider-making materials. You only need your own glue. Come to the information desk and we will give you a kit.   \nFree. No registration required. While supplies last. \nADA Accommodation Requests
URL:https://events.splitbunch.com/event/spider-web-grab-and-go-craft-25/
CATEGORIES:San Jose King Library
END:VEVENT
BEGIN:VEVENT
DTSTART;TZID=America/Los_Angeles:20251005T100000
DTEND;TZID=America/Los_Angeles:20251005T110000
DTSTAMP:20260420T080341
CREATED:20251004T185246Z
LAST-MODIFIED:20251005T175234Z
UID:5646-1759658400-1759662000@events.splitbunch.com
SUMMARY:Gentle Flow Yoga
DESCRIPTION:Gentle Flow Yoga: Movement\, Breath & Relaxation \nJoin us for a free community yoga class designed for teens and adults of all levels. This gentle flow practice combines mindful movement\, simple breathing techniques\, and a calming guided meditation to help reduce stress\, improve flexibility\, and restore balance. No prior yoga experience is needed—just bring your mat and an open mind. Come connect with yourself and your community in a welcoming\, supportive space. \nFor teens and adults age 13+. No registration needed and walk-ins welcome.
URL:https://events.splitbunch.com/event/gentle-flow-yoga/
CATEGORIES:Milpitas Library
END:VEVENT
BEGIN:VEVENT
DTSTART;TZID=America/Los_Angeles:20251005T100000
DTEND;TZID=America/Los_Angeles:20251005T120000
DTSTAMP:20260420T080341
CREATED:20250929T045341Z
LAST-MODIFIED:20251005T185208Z
UID:3903-1759658400-1759665600@events.splitbunch.com
SUMMARY:Tai Chi with Nelson Ng
DESCRIPTION:Join us for a weekly Tai Chi session with Nelson Ng! In this weekly class\, participants will learn the basic principles and the philosophy behind Tai Chi\, gaining flexibility and a better sense of balance\, through slow and gentle movement.  \nNelson started learning Chen’s Tai Chi in 1989 from Master Gene Chen\, who was a disciple of Grandmaster of Feng ZhiQiang. Nelson has been teaching since 2014. \nThis class is free and open to beginners as well as those who have previous Tai Chi experience. People of all ages are welcome. You must sign in upon arrival.
URL:https://events.splitbunch.com/event/tai-chi-with-nelson-ng-4/
CATEGORIES:Palo Alto City Library
END:VEVENT
BEGIN:VEVENT
DTSTART;TZID=America/Los_Angeles:20251005T100000
DTEND;TZID=America/Los_Angeles:20251005T180000
DTSTAMP:20260420T080341
CREATED:20251005T005354Z
LAST-MODIFIED:20251006T005348Z
UID:5817-1759658400-1759687200@events.splitbunch.com
SUMMARY:Freedom to Read BINGO Reading Challenge
DESCRIPTION:Celebrate the freedom to read with Banned Books Bingo! Explore frequently challenged titles\, learn the stories behind them\, and reflect on the importance of protecting intellectual freedom.  \nPick up a bingo card and take on the challenge! How many of these Banned Books have you read? How many more can you read during Banned Books Week to get a BINGO? \n \nFree. No registration is required. \nADA Accommodation Requests
URL:https://events.splitbunch.com/event/freedom-to-read-bingo-reading-challenge-2/
CATEGORIES:San Jose King Library
END:VEVENT
BEGIN:VEVENT
DTSTART;TZID=America/Los_Angeles:20251005T110000
DTEND;TZID=America/Los_Angeles:20251005T113000
DTSTAMP:20260420T080341
CREATED:20251004T185246Z
LAST-MODIFIED:20251005T175234Z
UID:5647-1759662000-1759663800@events.splitbunch.com
SUMMARY:Baby Sign and Sing
DESCRIPTION:Join us for Sign and Sing for Babies in our first floor program room! This program is for infants and prewalking babies only\, ages 0-12 months. Adult Caregivers will learn basic signs to communicate with their babies. \nGenerously sponsored by the Friends of Cupertino Library. \nFor accessibility accommodations (ex. ASL)\, please fill out the online form at sccld.org/accessibility 7+ days prior to the event. If you need assistance with the form\, speak with a staff member at your local library\, call (408) 540-3945\, or email us at ask@sccl.org.
URL:https://events.splitbunch.com/event/baby-sign-and-sing/
CATEGORIES:Cupertino Library
END:VEVENT
BEGIN:VEVENT
DTSTART;TZID=America/Los_Angeles:20251005T110000
DTEND;TZID=America/Los_Angeles:20251005T123000
DTSTAMP:20260420T080341
CREATED:20250929T045341Z
LAST-MODIFIED:20251005T185208Z
UID:3904-1759662000-1759667400@events.splitbunch.com
SUMMARY:Introduction to Python For Beginners
DESCRIPTION:Join us to learn the basics of engineering and Python programming; no prior knowledge needed! In 8-weeks\, we’ll cover Python fundamentals\, hands-on projects\, and grow our technical skills and enthusiasm for future STEAM (Science\, Technology\, Engineering\, Art\, and Math) learning opportunities. \nThis program is intended for 3-5th grade students. This program meets weekly on Sundays starting at 11:00 AM from September 14th through November 2nd. Registration is required for the full 8-week series\, as each session builds upon the last.*  \nDue to limited library laptop availability\, bringing your own device with Wi-Fi connection capabilities for coding is highly encouraged! If you cannot bring a laptop\, please check out a Chromebook at the library’s front desk ahead of time for each class. \n*Registration will open on August 14th at 9:00 AM.
URL:https://events.splitbunch.com/event/introduction-to-python-for-beginners/
CATEGORIES:Palo Alto City Library
END:VEVENT
BEGIN:VEVENT
DTSTART;TZID=America/Los_Angeles:20251005T113000
DTEND;TZID=America/Los_Angeles:20251005T120000
DTSTAMP:20260420T080341
CREATED:20250929T045255Z
LAST-MODIFIED:20251005T185211Z
UID:3822-1759663800-1759665600@events.splitbunch.com
SUMMARY:Polish Storytime
DESCRIPTION:Date: Sunday\, October 5\, 2025 Time: 11:30am – 12:00pm  Location:  Book Bubble\, Main Library Children’s Area   \nPlease join us for Polish Storytime! We'll be hosting this event every FIRST Sunday for the forseeable future and would love if you could join us! We'll be learning about Polish culture\, reading books\, and singing rhymes. We hope to see you there!
URL:https://events.splitbunch.com/event/polish-storytime-3/
CATEGORIES:San Mateo Public Library
END:VEVENT
BEGIN:VEVENT
DTSTART;TZID=America/Los_Angeles:20251005T113000
DTEND;TZID=America/Los_Angeles:20251005T120000
DTSTAMP:20260420T080341
CREATED:20251005T195129Z
LAST-MODIFIED:20251005T195129Z
UID:5975-1759663800-1759665600@events.splitbunch.com
SUMMARY:Polish Storytime
DESCRIPTION:Date: Sunday\, October 5\, 2025 Time: 11:30am – 12:00pm  Location:  Book Bubble\, Main Library Children’s Area   \nPlease join us for Polish Storytime! We'll be hosting this event every FIRST Sunday for the forseeable future and would love if you could join us! We'll be learning about Polish culture\, reading books\, and singing rhymes. We hope to see you there!
URL:https://events.splitbunch.com/event/polish-storytime-5/
CATEGORIES:San Mateo Public Library
END:VEVENT
BEGIN:VEVENT
DTSTART;TZID=America/Los_Angeles:20251005T113000
DTEND;TZID=America/Los_Angeles:20251005T120000
DTSTAMP:20260420T080341
CREATED:20251005T205341Z
LAST-MODIFIED:20251005T205341Z
UID:5991-1759663800-1759665600@events.splitbunch.com
SUMMARY:Polish Storytime
DESCRIPTION:Date: Sunday\, October 5\, 2025 Time: 11:30am – 12:00pm  Location:  Book Bubble\, Main Library Children’s Area   \nPlease join us for Polish Storytime! We'll be hosting this event every FIRST Sunday for the forseeable future and would love if you could join us! We'll be learning about Polish culture\, reading books\, and singing rhymes. We hope to see you there!
URL:https://events.splitbunch.com/event/polish-storytime-6/
CATEGORIES:San Mateo Public Library
END:VEVENT
BEGIN:VEVENT
DTSTART;TZID=America/Los_Angeles:20251005T113000
DTEND;TZID=America/Los_Angeles:20251005T120000
DTSTAMP:20260420T080341
CREATED:20251005T215222Z
LAST-MODIFIED:20251005T215222Z
UID:5992-1759663800-1759665600@events.splitbunch.com
SUMMARY:Polish Storytime
DESCRIPTION:Date: Sunday\, October 5\, 2025 Time: 11:30am – 12:00pm  Location:  Book Bubble\, Main Library Children’s Area   \nPlease join us for Polish Storytime! We'll be hosting this event every FIRST Sunday for the forseeable future and would love if you could join us! We'll be learning about Polish culture\, reading books\, and singing rhymes. We hope to see you there!
URL:https://events.splitbunch.com/event/polish-storytime-7/
CATEGORIES:San Mateo Public Library
END:VEVENT
BEGIN:VEVENT
DTSTART;TZID=America/Los_Angeles:20251005T113000
DTEND;TZID=America/Los_Angeles:20251005T120000
DTSTAMP:20260420T080341
CREATED:20251005T225122Z
LAST-MODIFIED:20251005T225122Z
UID:6023-1759663800-1759665600@events.splitbunch.com
SUMMARY:Polish Storytime
DESCRIPTION:Date: Sunday\, October 5\, 2025 Time: 11:30am – 12:00pm  Location:  Book Bubble\, Main Library Children’s Area   \nPlease join us for Polish Storytime! We'll be hosting this event every FIRST Sunday for the forseeable future and would love if you could join us! We'll be learning about Polish culture\, reading books\, and singing rhymes. We hope to see you there!
URL:https://events.splitbunch.com/event/polish-storytime-8/
CATEGORIES:San Mateo Public Library
END:VEVENT
END:VCALENDAR