BEGIN:VCALENDAR
VERSION:2.0
PRODID:-//SplitBunch Events - ECPv6.15.13//NONSGML v1.0//EN
CALSCALE:GREGORIAN
METHOD:PUBLISH
X-ORIGINAL-URL:https://events.splitbunch.com
X-WR-CALDESC:Events for SplitBunch Events
REFRESH-INTERVAL;VALUE=DURATION:PT1H
X-Robots-Tag:noindex
X-PUBLISHED-TTL:PT1H
BEGIN:VTIMEZONE
TZID:America/Los_Angeles
BEGIN:DAYLIGHT
TZOFFSETFROM:-0800
TZOFFSETTO:-0700
TZNAME:PDT
DTSTART:20240310T100000
END:DAYLIGHT
BEGIN:STANDARD
TZOFFSETFROM:-0700
TZOFFSETTO:-0800
TZNAME:PST
DTSTART:20241103T090000
END:STANDARD
BEGIN:DAYLIGHT
TZOFFSETFROM:-0800
TZOFFSETTO:-0700
TZNAME:PDT
DTSTART:20250309T100000
END:DAYLIGHT
BEGIN:STANDARD
TZOFFSETFROM:-0700
TZOFFSETTO:-0800
TZNAME:PST
DTSTART:20251102T090000
END:STANDARD
BEGIN:DAYLIGHT
TZOFFSETFROM:-0800
TZOFFSETTO:-0700
TZNAME:PDT
DTSTART:20260308T100000
END:DAYLIGHT
BEGIN:STANDARD
TZOFFSETFROM:-0700
TZOFFSETTO:-0800
TZNAME:PST
DTSTART:20261101T090000
END:STANDARD
END:VTIMEZONE
BEGIN:VEVENT
DTSTART;TZID=America/Los_Angeles:20251005T000000
DTEND;TZID=America/Los_Angeles:20251005T000000
DTSTAMP:20260420T140516
CREATED:20251005T155254Z
LAST-MODIFIED:20251005T155254Z
UID:5952-1759622400-1759622400@events.splitbunch.com
SUMMARY:Día de los Muertos Scavenger Hunt
DESCRIPTION:Want a not-so-spooky activity this fall? The Fall Scavenger Hunt has returned to Biblioteca Latinoamericana\, with a Día de los Muertos theme! \nWe have paper “sugar” skulls hiding throughout the stacks\, can you find them all?  \nDrop in\, grab a scavenger hunt clue card and begin exploring Biblioteca Latinoamericana. Visitors who find all the ghosts can stop by the Information Desk for a prize! \nADA Accommodation Requests \n———————————————— \n¿Buscas una adventura tenebrosa este otoño? ¡La busqueda de tesoro a regresado a la Biblioteca Latinomericana\, inspirada por el día de los muertos!  \nTenemos calveras de “azucar” echas de papel escondidas por nuestros estantes. ¿Puedes encontrarlas todas?  \n¡Obtengan una tarjeta de participación en el escritorio de informacion y empiezen la búsqueda! Los visitantes que puedan encontrar todos los fantasmas se pueden dirigir al escritorio de informacion para obtener un premio! \nSolicitudes de adaptaciones ADA
URL:https://events.splitbunch.com/event/dia-de-los-muertos-scavenger-hunt-111/
CATEGORIES:San Jose King Library
END:VEVENT
BEGIN:VEVENT
DTSTART;TZID=America/Los_Angeles:20251005T000000
DTEND;TZID=America/Los_Angeles:20251005T000000
DTSTAMP:20260420T140516
CREATED:20251005T155256Z
LAST-MODIFIED:20251005T155256Z
UID:5953-1759622400-1759622400@events.splitbunch.com
SUMMARY:Freedom to Read Scavenger Hunt
DESCRIPTION:Celebrate Banned Books Week with two fun scavenger hunts! Kids can explore the children’s area to uncover clues about challenged favorites\, while teens and adults can test their knowledge with a banned book quest of their own. Discover stories once silenced—and the joy of finding them again. \nScavenger hunt lists for all ages will be at the Information Desk. Small prizes are available for completion! \nFree. No registration required. \nADA Accommodation Requests
URL:https://events.splitbunch.com/event/freedom-to-read-scavenger-hunt-15/
CATEGORIES:San Jose King Library
END:VEVENT
BEGIN:VEVENT
DTSTART;TZID=America/Los_Angeles:20251005T000000
DTEND;TZID=America/Los_Angeles:20251005T000000
DTSTAMP:20260420T140516
CREATED:20251005T155306Z
LAST-MODIFIED:20251005T155306Z
UID:5954-1759622400-1759622400@events.splitbunch.com
SUMMARY:Wandering in Wonderland @ Saratoga Library
DESCRIPTION:This art exhibit is by James Ong. It runs from September 1 to October 30\, 2025 and is open to the public during the Library’s open hours. \nAbout the Artist \nBorn in the East\, raised in the West James Ong was a quiet\, curious\, and observant child who became an engineer and toy designer. Now\, an artist\, his imagination is free to roam and play without constraint.
URL:https://events.splitbunch.com/event/wandering-in-wonderland-saratoga-library-37/
CATEGORIES:Saratoga Library
END:VEVENT
BEGIN:VEVENT
DTSTART;TZID=America/Los_Angeles:20251005T000000
DTEND;TZID=America/Los_Angeles:20251005T000000
DTSTAMP:20260420T140516
CREATED:20251005T165227Z
LAST-MODIFIED:20251005T165227Z
UID:5955-1759622400-1759622400@events.splitbunch.com
SUMMARY:Family Board Games
DESCRIPTION:Join us every Sunday to play fun board games! We have a fun variety of games set out for folks of all ages to enjoy. \nADA Accommodation Requests
URL:https://events.splitbunch.com/event/family-board-games-15/
CATEGORIES:San Jose King Library
END:VEVENT
BEGIN:VEVENT
DTSTART;TZID=America/Los_Angeles:20251005T000000
DTEND;TZID=America/Los_Angeles:20251005T000000
DTSTAMP:20260420T140516
CREATED:20251005T165227Z
LAST-MODIFIED:20251005T165227Z
UID:5956-1759622400-1759622400@events.splitbunch.com
SUMMARY:1:1 Tech Mentor / Giáo Viên Máy Tính
DESCRIPTION:Free.  By appointment only. \nOffered in-person or virtually via Zoom\, in English\, Español\, or Tiếng Việt. \nWould you like to find out more about computers? Learn at your own pace! \nWhat We Do: \n\nIntro to computer basics\nAccount or device setup\nIntro to Microsoft Office\nJob search & resume help\nNavigating/organizing email\nAnd more!\n\nContact Tiffany Lam by phone (408) 808-3056 or email at tiffany.lam@sjlibrary.org to make an appointment. \nADA Accommodation Requests
URL:https://events.splitbunch.com/event/11-tech-mentor-giao-vien-may-tinh-182/
CATEGORIES:San Jose King Library
END:VEVENT
BEGIN:VEVENT
DTSTART;TZID=America/Los_Angeles:20251005T000000
DTEND;TZID=America/Los_Angeles:20251005T000000
DTSTAMP:20260420T140516
CREATED:20251005T165228Z
LAST-MODIFIED:20251005T165228Z
UID:5957-1759622400-1759622400@events.splitbunch.com
SUMMARY:Día de los Muertos Scavenger Hunt
DESCRIPTION:Want a not-so-spooky activity this fall? The Fall Scavenger Hunt has returned to Biblioteca Latinoamericana\, with a Día de los Muertos theme! \nWe have paper “sugar” skulls hiding throughout the stacks\, can you find them all?  \nDrop in\, grab a scavenger hunt clue card and begin exploring Biblioteca Latinoamericana. Visitors who find all the ghosts can stop by the Information Desk for a prize! \nADA Accommodation Requests \n———————————————— \n¿Buscas una adventura tenebrosa este otoño? ¡La busqueda de tesoro a regresado a la Biblioteca Latinomericana\, inspirada por el día de los muertos!  \nTenemos calveras de “azucar” echas de papel escondidas por nuestros estantes. ¿Puedes encontrarlas todas?  \n¡Obtengan una tarjeta de participación en el escritorio de informacion y empiezen la búsqueda! Los visitantes que puedan encontrar todos los fantasmas se pueden dirigir al escritorio de informacion para obtener un premio! \nSolicitudes de adaptaciones ADA
URL:https://events.splitbunch.com/event/dia-de-los-muertos-scavenger-hunt-112/
CATEGORIES:San Jose King Library
END:VEVENT
BEGIN:VEVENT
DTSTART;TZID=America/Los_Angeles:20251005T000000
DTEND;TZID=America/Los_Angeles:20251005T000000
DTSTAMP:20260420T140516
CREATED:20251005T165229Z
LAST-MODIFIED:20251005T165229Z
UID:5958-1759622400-1759622400@events.splitbunch.com
SUMMARY:Freedom to Read Scavenger Hunt
DESCRIPTION:Celebrate Banned Books Week with two fun scavenger hunts! Kids can explore the children’s area to uncover clues about challenged favorites\, while teens and adults can test their knowledge with a banned book quest of their own. Discover stories once silenced—and the joy of finding them again. \nScavenger hunt lists for all ages will be at the Information Desk. Small prizes are available for completion! \nFree. No registration required. \nADA Accommodation Requests
URL:https://events.splitbunch.com/event/freedom-to-read-scavenger-hunt-16/
CATEGORIES:San Jose King Library
END:VEVENT
BEGIN:VEVENT
DTSTART;TZID=America/Los_Angeles:20251005T000000
DTEND;TZID=America/Los_Angeles:20251005T000000
DTSTAMP:20260420T140516
CREATED:20251005T165233Z
LAST-MODIFIED:20251005T165233Z
UID:5959-1759622400-1759622400@events.splitbunch.com
SUMMARY:Wandering in Wonderland @ Saratoga Library
DESCRIPTION:This art exhibit is by James Ong. It runs from September 1 to October 30\, 2025 and is open to the public during the Library’s open hours. \nAbout the Artist \nBorn in the East\, raised in the West James Ong was a quiet\, curious\, and observant child who became an engineer and toy designer. Now\, an artist\, his imagination is free to roam and play without constraint.
URL:https://events.splitbunch.com/event/wandering-in-wonderland-saratoga-library-38/
CATEGORIES:Saratoga Library
END:VEVENT
BEGIN:VEVENT
DTSTART;TZID=America/Los_Angeles:20251005T000000
DTEND;TZID=America/Los_Angeles:20251005T000000
DTSTAMP:20260420T140516
CREATED:20251005T175227Z
LAST-MODIFIED:20251005T175227Z
UID:5960-1759622400-1759622400@events.splitbunch.com
SUMMARY:Family Board Games
DESCRIPTION:Join us every Sunday to play fun board games! We have a fun variety of games set out for folks of all ages to enjoy. \nADA Accommodation Requests
URL:https://events.splitbunch.com/event/family-board-games-16/
CATEGORIES:San Jose King Library
END:VEVENT
BEGIN:VEVENT
DTSTART;TZID=America/Los_Angeles:20251005T000000
DTEND;TZID=America/Los_Angeles:20251005T000000
DTSTAMP:20260420T140516
CREATED:20251005T175228Z
LAST-MODIFIED:20251005T175228Z
UID:5961-1759622400-1759622400@events.splitbunch.com
SUMMARY:1:1 Tech Mentor / Giáo Viên Máy Tính
DESCRIPTION:Free.  By appointment only. \nOffered in-person or virtually via Zoom\, in English\, Español\, or Tiếng Việt. \nWould you like to find out more about computers? Learn at your own pace! \nWhat We Do: \n\nIntro to computer basics\nAccount or device setup\nIntro to Microsoft Office\nJob search & resume help\nNavigating/organizing email\nAnd more!\n\nContact Tiffany Lam by phone (408) 808-3056 or email at tiffany.lam@sjlibrary.org to make an appointment. \nADA Accommodation Requests
URL:https://events.splitbunch.com/event/11-tech-mentor-giao-vien-may-tinh-183/
CATEGORIES:San Jose King Library
END:VEVENT
BEGIN:VEVENT
DTSTART;TZID=America/Los_Angeles:20251005T000000
DTEND;TZID=America/Los_Angeles:20251005T000000
DTSTAMP:20260420T140516
CREATED:20251005T175228Z
LAST-MODIFIED:20251005T175228Z
UID:5962-1759622400-1759622400@events.splitbunch.com
SUMMARY:Día de los Muertos Scavenger Hunt
DESCRIPTION:Want a not-so-spooky activity this fall? The Fall Scavenger Hunt has returned to Biblioteca Latinoamericana\, with a Día de los Muertos theme! \nWe have paper “sugar” skulls hiding throughout the stacks\, can you find them all?  \nDrop in\, grab a scavenger hunt clue card and begin exploring Biblioteca Latinoamericana. Visitors who find all the ghosts can stop by the Information Desk for a prize! \nADA Accommodation Requests \n———————————————— \n¿Buscas una adventura tenebrosa este otoño? ¡La busqueda de tesoro a regresado a la Biblioteca Latinomericana\, inspirada por el día de los muertos!  \nTenemos calveras de “azucar” echas de papel escondidas por nuestros estantes. ¿Puedes encontrarlas todas?  \n¡Obtengan una tarjeta de participación en el escritorio de informacion y empiezen la búsqueda! Los visitantes que puedan encontrar todos los fantasmas se pueden dirigir al escritorio de informacion para obtener un premio! \nSolicitudes de adaptaciones ADA
URL:https://events.splitbunch.com/event/dia-de-los-muertos-scavenger-hunt-113/
CATEGORIES:San Jose King Library
END:VEVENT
BEGIN:VEVENT
DTSTART;TZID=America/Los_Angeles:20251005T000000
DTEND;TZID=America/Los_Angeles:20251005T000000
DTSTAMP:20260420T140516
CREATED:20251005T175229Z
LAST-MODIFIED:20251005T175229Z
UID:5963-1759622400-1759622400@events.splitbunch.com
SUMMARY:Freedom to Read Scavenger Hunt
DESCRIPTION:Celebrate Banned Books Week with two fun scavenger hunts! Kids can explore the children’s area to uncover clues about challenged favorites\, while teens and adults can test their knowledge with a banned book quest of their own. Discover stories once silenced—and the joy of finding them again. \nScavenger hunt lists for all ages will be at the Information Desk. Small prizes are available for completion! \nFree. No registration required. \nADA Accommodation Requests
URL:https://events.splitbunch.com/event/freedom-to-read-scavenger-hunt-17/
CATEGORIES:San Jose King Library
END:VEVENT
BEGIN:VEVENT
DTSTART;TZID=America/Los_Angeles:20251005T000000
DTEND;TZID=America/Los_Angeles:20251005T000000
DTSTAMP:20260420T140516
CREATED:20251005T175234Z
LAST-MODIFIED:20251005T175234Z
UID:5964-1759622400-1759622400@events.splitbunch.com
SUMMARY:Wandering in Wonderland @ Saratoga Library
DESCRIPTION:This art exhibit is by James Ong. It runs from September 1 to October 30\, 2025 and is open to the public during the Library’s open hours. \nAbout the Artist \nBorn in the East\, raised in the West James Ong was a quiet\, curious\, and observant child who became an engineer and toy designer. Now\, an artist\, his imagination is free to roam and play without constraint.
URL:https://events.splitbunch.com/event/wandering-in-wonderland-saratoga-library-39/
CATEGORIES:Saratoga Library
END:VEVENT
BEGIN:VEVENT
DTSTART;TZID=America/Los_Angeles:20251005T000000
DTEND;TZID=America/Los_Angeles:20251005T000000
DTSTAMP:20260420T140516
CREATED:20251005T185158Z
LAST-MODIFIED:20251005T185158Z
UID:5965-1759622400-1759622400@events.splitbunch.com
SUMMARY:Family Board Games
DESCRIPTION:Join us every Sunday to play fun board games! We have a fun variety of games set out for folks of all ages to enjoy. \nADA Accommodation Requests
URL:https://events.splitbunch.com/event/family-board-games-17/
CATEGORIES:San Jose King Library
END:VEVENT
BEGIN:VEVENT
DTSTART;TZID=America/Los_Angeles:20251005T000000
DTEND;TZID=America/Los_Angeles:20251005T000000
DTSTAMP:20260420T140516
CREATED:20251005T185159Z
LAST-MODIFIED:20251005T185159Z
UID:5966-1759622400-1759622400@events.splitbunch.com
SUMMARY:1:1 Tech Mentor / Giáo Viên Máy Tính
DESCRIPTION:Free.  By appointment only. \nOffered in-person or virtually via Zoom\, in English\, Español\, or Tiếng Việt. \nWould you like to find out more about computers? Learn at your own pace! \nWhat We Do: \n\nIntro to computer basics\nAccount or device setup\nIntro to Microsoft Office\nJob search & resume help\nNavigating/organizing email\nAnd more!\n\nContact Tiffany Lam by phone (408) 808-3056 or email at tiffany.lam@sjlibrary.org to make an appointment. \nADA Accommodation Requests
URL:https://events.splitbunch.com/event/11-tech-mentor-giao-vien-may-tinh-184/
CATEGORIES:San Jose King Library
END:VEVENT
BEGIN:VEVENT
DTSTART;TZID=America/Los_Angeles:20251005T000000
DTEND;TZID=America/Los_Angeles:20251005T000000
DTSTAMP:20260420T140516
CREATED:20251005T185159Z
LAST-MODIFIED:20251005T185159Z
UID:5967-1759622400-1759622400@events.splitbunch.com
SUMMARY:Día de los Muertos Scavenger Hunt
DESCRIPTION:Want a not-so-spooky activity this fall? The Fall Scavenger Hunt has returned to Biblioteca Latinoamericana\, with a Día de los Muertos theme! \nWe have paper “sugar” skulls hiding throughout the stacks\, can you find them all?  \nDrop in\, grab a scavenger hunt clue card and begin exploring Biblioteca Latinoamericana. Visitors who find all the ghosts can stop by the Information Desk for a prize! \nADA Accommodation Requests \n———————————————— \n¿Buscas una adventura tenebrosa este otoño? ¡La busqueda de tesoro a regresado a la Biblioteca Latinomericana\, inspirada por el día de los muertos!  \nTenemos calveras de “azucar” echas de papel escondidas por nuestros estantes. ¿Puedes encontrarlas todas?  \n¡Obtengan una tarjeta de participación en el escritorio de informacion y empiezen la búsqueda! Los visitantes que puedan encontrar todos los fantasmas se pueden dirigir al escritorio de informacion para obtener un premio! \nSolicitudes de adaptaciones ADA
URL:https://events.splitbunch.com/event/dia-de-los-muertos-scavenger-hunt-114/
CATEGORIES:San Jose King Library
END:VEVENT
BEGIN:VEVENT
DTSTART;TZID=America/Los_Angeles:20251005T000000
DTEND;TZID=America/Los_Angeles:20251005T000000
DTSTAMP:20260420T140516
CREATED:20251005T185201Z
LAST-MODIFIED:20251005T185201Z
UID:5968-1759622400-1759622400@events.splitbunch.com
SUMMARY:Freedom to Read Scavenger Hunt
DESCRIPTION:Celebrate Banned Books Week with two fun scavenger hunts! Kids can explore the children’s area to uncover clues about challenged favorites\, while teens and adults can test their knowledge with a banned book quest of their own. Discover stories once silenced—and the joy of finding them again. \nScavenger hunt lists for all ages will be at the Information Desk. Small prizes are available for completion! \nFree. No registration required. \nADA Accommodation Requests
URL:https://events.splitbunch.com/event/freedom-to-read-scavenger-hunt-18/
CATEGORIES:San Jose King Library
END:VEVENT
BEGIN:VEVENT
DTSTART;TZID=America/Los_Angeles:20251005T000000
DTEND;TZID=America/Los_Angeles:20251005T000000
DTSTAMP:20260420T140516
CREATED:20251005T185219Z
LAST-MODIFIED:20251005T185219Z
UID:5969-1759622400-1759622400@events.splitbunch.com
SUMMARY:Wandering in Wonderland @ Saratoga Library
DESCRIPTION:This art exhibit is by James Ong. It runs from September 1 to October 30\, 2025 and is open to the public during the Library’s open hours. \nAbout the Artist \nBorn in the East\, raised in the West James Ong was a quiet\, curious\, and observant child who became an engineer and toy designer. Now\, an artist\, his imagination is free to roam and play without constraint.
URL:https://events.splitbunch.com/event/wandering-in-wonderland-saratoga-library-40/
CATEGORIES:Saratoga Library
END:VEVENT
BEGIN:VEVENT
DTSTART;TZID=America/Los_Angeles:20251005T000000
DTEND;TZID=America/Los_Angeles:20251005T000000
DTSTAMP:20260420T140516
CREATED:20251005T195116Z
LAST-MODIFIED:20251005T195116Z
UID:5972-1759622400-1759622400@events.splitbunch.com
SUMMARY:Wandering in Wonderland @ Saratoga Library
DESCRIPTION:This art exhibit is by James Ong. It runs from September 1 to October 30\, 2025 and is open to the public during the Library’s open hours. \nAbout the Artist \nBorn in the East\, raised in the West James Ong was a quiet\, curious\, and observant child who became an engineer and toy designer. Now\, an artist\, his imagination is free to roam and play without constraint.
URL:https://events.splitbunch.com/event/wandering-in-wonderland-saratoga-library-41/
CATEGORIES:Saratoga Library
END:VEVENT
BEGIN:VEVENT
DTSTART;TZID=America/Los_Angeles:20251005T000000
DTEND;TZID=America/Los_Angeles:20251005T000000
DTSTAMP:20260420T140516
CREATED:20251005T195148Z
LAST-MODIFIED:20251005T195148Z
UID:5978-1759622400-1759622400@events.splitbunch.com
SUMMARY:Family Board Games
DESCRIPTION:Join us every Sunday to play fun board games! We have a fun variety of games set out for folks of all ages to enjoy. \nADA Accommodation Requests
URL:https://events.splitbunch.com/event/family-board-games-18/
CATEGORIES:San Jose King Library
END:VEVENT
BEGIN:VEVENT
DTSTART;TZID=America/Los_Angeles:20251005T000000
DTEND;TZID=America/Los_Angeles:20251005T000000
DTSTAMP:20260420T140516
CREATED:20251005T195148Z
LAST-MODIFIED:20251005T195148Z
UID:5979-1759622400-1759622400@events.splitbunch.com
SUMMARY:1:1 Tech Mentor / Giáo Viên Máy Tính
DESCRIPTION:Free.  By appointment only. \nOffered in-person or virtually via Zoom\, in English\, Español\, or Tiếng Việt. \nWould you like to find out more about computers? Learn at your own pace! \nWhat We Do: \n\nIntro to computer basics\nAccount or device setup\nIntro to Microsoft Office\nJob search & resume help\nNavigating/organizing email\nAnd more!\n\nContact Tiffany Lam by phone (408) 808-3056 or email at tiffany.lam@sjlibrary.org to make an appointment. \nADA Accommodation Requests
URL:https://events.splitbunch.com/event/11-tech-mentor-giao-vien-may-tinh-185/
CATEGORIES:San Jose King Library
END:VEVENT
BEGIN:VEVENT
DTSTART;TZID=America/Los_Angeles:20251005T000000
DTEND;TZID=America/Los_Angeles:20251005T000000
DTSTAMP:20260420T140516
CREATED:20251005T195149Z
LAST-MODIFIED:20251005T195149Z
UID:5980-1759622400-1759622400@events.splitbunch.com
SUMMARY:Día de los Muertos Scavenger Hunt
DESCRIPTION:Want a not-so-spooky activity this fall? The Fall Scavenger Hunt has returned to Biblioteca Latinoamericana\, with a Día de los Muertos theme! \nWe have paper “sugar” skulls hiding throughout the stacks\, can you find them all?  \nDrop in\, grab a scavenger hunt clue card and begin exploring Biblioteca Latinoamericana. Visitors who find all the ghosts can stop by the Information Desk for a prize! \nADA Accommodation Requests \n———————————————— \n¿Buscas una adventura tenebrosa este otoño? ¡La busqueda de tesoro a regresado a la Biblioteca Latinomericana\, inspirada por el día de los muertos!  \nTenemos calveras de “azucar” echas de papel escondidas por nuestros estantes. ¿Puedes encontrarlas todas?  \n¡Obtengan una tarjeta de participación en el escritorio de informacion y empiezen la búsqueda! Los visitantes que puedan encontrar todos los fantasmas se pueden dirigir al escritorio de informacion para obtener un premio! \nSolicitudes de adaptaciones ADA
URL:https://events.splitbunch.com/event/dia-de-los-muertos-scavenger-hunt-115/
CATEGORIES:San Jose King Library
END:VEVENT
BEGIN:VEVENT
DTSTART;TZID=America/Los_Angeles:20251005T000000
DTEND;TZID=America/Los_Angeles:20251005T000000
DTSTAMP:20260420T140516
CREATED:20251005T195150Z
LAST-MODIFIED:20251005T195150Z
UID:5981-1759622400-1759622400@events.splitbunch.com
SUMMARY:Freedom to Read Scavenger Hunt
DESCRIPTION:Celebrate Banned Books Week with two fun scavenger hunts! Kids can explore the children’s area to uncover clues about challenged favorites\, while teens and adults can test their knowledge with a banned book quest of their own. Discover stories once silenced—and the joy of finding them again. \nScavenger hunt lists for all ages will be at the Information Desk. Small prizes are available for completion! \nFree. No registration required. \nADA Accommodation Requests
URL:https://events.splitbunch.com/event/freedom-to-read-scavenger-hunt-19/
CATEGORIES:San Jose King Library
END:VEVENT
BEGIN:VEVENT
DTSTART;TZID=America/Los_Angeles:20251005T000000
DTEND;TZID=America/Los_Angeles:20251005T000000
DTSTAMP:20260420T140516
CREATED:20251005T205307Z
LAST-MODIFIED:20251005T205307Z
UID:5982-1759622400-1759622400@events.splitbunch.com
SUMMARY:Family Board Games
DESCRIPTION:Join us every Sunday to play fun board games! We have a fun variety of games set out for folks of all ages to enjoy. \nADA Accommodation Requests
URL:https://events.splitbunch.com/event/family-board-games-19/
CATEGORIES:San Jose King Library
END:VEVENT
BEGIN:VEVENT
DTSTART;TZID=America/Los_Angeles:20251005T000000
DTEND;TZID=America/Los_Angeles:20251005T000000
DTSTAMP:20260420T140516
CREATED:20251005T205307Z
LAST-MODIFIED:20251005T205307Z
UID:5983-1759622400-1759622400@events.splitbunch.com
SUMMARY:1:1 Tech Mentor / Giáo Viên Máy Tính
DESCRIPTION:Free.  By appointment only. \nOffered in-person or virtually via Zoom\, in English\, Español\, or Tiếng Việt. \nWould you like to find out more about computers? Learn at your own pace! \nWhat We Do: \n\nIntro to computer basics\nAccount or device setup\nIntro to Microsoft Office\nJob search & resume help\nNavigating/organizing email\nAnd more!\n\nContact Tiffany Lam by phone (408) 808-3056 or email at tiffany.lam@sjlibrary.org to make an appointment. \nADA Accommodation Requests
URL:https://events.splitbunch.com/event/11-tech-mentor-giao-vien-may-tinh-186/
CATEGORIES:San Jose King Library
END:VEVENT
BEGIN:VEVENT
DTSTART;TZID=America/Los_Angeles:20251005T000000
DTEND;TZID=America/Los_Angeles:20251005T000000
DTSTAMP:20260420T140516
CREATED:20251005T205308Z
LAST-MODIFIED:20251005T205308Z
UID:5984-1759622400-1759622400@events.splitbunch.com
SUMMARY:Día de los Muertos Scavenger Hunt
DESCRIPTION:Want a not-so-spooky activity this fall? The Fall Scavenger Hunt has returned to Biblioteca Latinoamericana\, with a Día de los Muertos theme! \nWe have paper “sugar” skulls hiding throughout the stacks\, can you find them all?  \nDrop in\, grab a scavenger hunt clue card and begin exploring Biblioteca Latinoamericana. Visitors who find all the ghosts can stop by the Information Desk for a prize! \nADA Accommodation Requests \n———————————————— \n¿Buscas una adventura tenebrosa este otoño? ¡La busqueda de tesoro a regresado a la Biblioteca Latinomericana\, inspirada por el día de los muertos!  \nTenemos calveras de “azucar” echas de papel escondidas por nuestros estantes. ¿Puedes encontrarlas todas?  \n¡Obtengan una tarjeta de participación en el escritorio de informacion y empiezen la búsqueda! Los visitantes que puedan encontrar todos los fantasmas se pueden dirigir al escritorio de informacion para obtener un premio! \nSolicitudes de adaptaciones ADA
URL:https://events.splitbunch.com/event/dia-de-los-muertos-scavenger-hunt-116/
CATEGORIES:San Jose King Library
END:VEVENT
BEGIN:VEVENT
DTSTART;TZID=America/Los_Angeles:20251005T000000
DTEND;TZID=America/Los_Angeles:20251005T000000
DTSTAMP:20260420T140516
CREATED:20251005T205309Z
LAST-MODIFIED:20251005T205309Z
UID:5985-1759622400-1759622400@events.splitbunch.com
SUMMARY:Freedom to Read Scavenger Hunt
DESCRIPTION:Celebrate Banned Books Week with two fun scavenger hunts! Kids can explore the children’s area to uncover clues about challenged favorites\, while teens and adults can test their knowledge with a banned book quest of their own. Discover stories once silenced—and the joy of finding them again. \nScavenger hunt lists for all ages will be at the Information Desk. Small prizes are available for completion! \nFree. No registration required. \nADA Accommodation Requests
URL:https://events.splitbunch.com/event/freedom-to-read-scavenger-hunt-20/
CATEGORIES:San Jose King Library
END:VEVENT
BEGIN:VEVENT
DTSTART;TZID=America/Los_Angeles:20251005T000000
DTEND;TZID=America/Los_Angeles:20251005T000000
DTSTAMP:20260420T140516
CREATED:20251005T205328Z
LAST-MODIFIED:20251005T205328Z
UID:5990-1759622400-1759622400@events.splitbunch.com
SUMMARY:Wandering in Wonderland @ Saratoga Library
DESCRIPTION:This art exhibit is by James Ong. It runs from September 1 to October 30\, 2025 and is open to the public during the Library’s open hours. \nAbout the Artist \nBorn in the East\, raised in the West James Ong was a quiet\, curious\, and observant child who became an engineer and toy designer. Now\, an artist\, his imagination is free to roam and play without constraint.
URL:https://events.splitbunch.com/event/wandering-in-wonderland-saratoga-library-42/
CATEGORIES:Saratoga Library
END:VEVENT
BEGIN:VEVENT
DTSTART;TZID=America/Los_Angeles:20251005T000000
DTEND;TZID=America/Los_Angeles:20251005T000000
DTSTAMP:20260420T140516
CREATED:20251005T215231Z
LAST-MODIFIED:20251005T215231Z
UID:5993-1759622400-1759622400@events.splitbunch.com
SUMMARY:Wandering in Wonderland @ Saratoga Library
DESCRIPTION:This art exhibit is by James Ong. It runs from September 1 to October 30\, 2025 and is open to the public during the Library’s open hours. \nAbout the Artist \nBorn in the East\, raised in the West James Ong was a quiet\, curious\, and observant child who became an engineer and toy designer. Now\, an artist\, his imagination is free to roam and play without constraint.
URL:https://events.splitbunch.com/event/wandering-in-wonderland-saratoga-library-43/
CATEGORIES:Saratoga Library
END:VEVENT
BEGIN:VEVENT
DTSTART;TZID=America/Los_Angeles:20251005T000000
DTEND;TZID=America/Los_Angeles:20251005T000000
DTSTAMP:20260420T140516
CREATED:20251005T215242Z
LAST-MODIFIED:20251005T215242Z
UID:5994-1759622400-1759622400@events.splitbunch.com
SUMMARY:Family Board Games
DESCRIPTION:Join us every Sunday to play fun board games! We have a fun variety of games set out for folks of all ages to enjoy. \nADA Accommodation Requests
URL:https://events.splitbunch.com/event/family-board-games-20/
CATEGORIES:San Jose King Library
END:VEVENT
END:VCALENDAR