BEGIN:VCALENDAR
VERSION:2.0
PRODID:-//SplitBunch Events - ECPv6.15.13//NONSGML v1.0//EN
CALSCALE:GREGORIAN
METHOD:PUBLISH
X-WR-CALNAME:SplitBunch Events
X-ORIGINAL-URL:https://events.splitbunch.com
X-WR-CALDESC:Events for SplitBunch Events
REFRESH-INTERVAL;VALUE=DURATION:PT1H
X-Robots-Tag:noindex
X-PUBLISHED-TTL:PT1H
BEGIN:VTIMEZONE
TZID:America/Los_Angeles
BEGIN:DAYLIGHT
TZOFFSETFROM:-0800
TZOFFSETTO:-0700
TZNAME:PDT
DTSTART:20240310T100000
END:DAYLIGHT
BEGIN:STANDARD
TZOFFSETFROM:-0700
TZOFFSETTO:-0800
TZNAME:PST
DTSTART:20241103T090000
END:STANDARD
BEGIN:DAYLIGHT
TZOFFSETFROM:-0800
TZOFFSETTO:-0700
TZNAME:PDT
DTSTART:20250309T100000
END:DAYLIGHT
BEGIN:STANDARD
TZOFFSETFROM:-0700
TZOFFSETTO:-0800
TZNAME:PST
DTSTART:20251102T090000
END:STANDARD
BEGIN:DAYLIGHT
TZOFFSETFROM:-0800
TZOFFSETTO:-0700
TZNAME:PDT
DTSTART:20260308T100000
END:DAYLIGHT
BEGIN:STANDARD
TZOFFSETFROM:-0700
TZOFFSETTO:-0800
TZNAME:PST
DTSTART:20261101T090000
END:STANDARD
END:VTIMEZONE
BEGIN:VEVENT
DTSTART;TZID=America/Los_Angeles:20251006T110000
DTEND;TZID=America/Los_Angeles:20251006T120000
DTSTAMP:20260421T234756
CREATED:20251006T215128Z
LAST-MODIFIED:20251006T215128Z
UID:6215-1759748400-1759752000@events.splitbunch.com
SUMMARY:ESL Conversation Club
DESCRIPTION:Date: Monday\, October 6\, 2025 Time: 11:00am – 12:00pm Presenter: Viviana Cois Location:  Teen Room   \n\n\n\nJoin us in-person at the Library for friendly and casual conversations with other English learners! This class is for adults 18+.
URL:https://events.splitbunch.com/event/esl-conversation-club-42/
CATEGORIES:Los Gatos Public Library
END:VEVENT
BEGIN:VEVENT
DTSTART;TZID=America/Los_Angeles:20251006T110000
DTEND;TZID=America/Los_Angeles:20251006T120000
DTSTAMP:20260421T234756
CREATED:20251006T225139Z
LAST-MODIFIED:20251006T225139Z
UID:6227-1759748400-1759752000@events.splitbunch.com
SUMMARY:ESL Conversation Club
DESCRIPTION:Date: Monday\, October 6\, 2025 Time: 11:00am – 12:00pm Presenter: Viviana Cois Location:  Teen Room   \n\n\n\nJoin us in-person at the Library for friendly and casual conversations with other English learners! This class is for adults 18+.
URL:https://events.splitbunch.com/event/esl-conversation-club-43/
CATEGORIES:Los Gatos Public Library
END:VEVENT
BEGIN:VEVENT
DTSTART;TZID=America/Los_Angeles:20251006T110000
DTEND;TZID=America/Los_Angeles:20251006T120000
DTSTAMP:20260421T234756
CREATED:20251006T235412Z
LAST-MODIFIED:20251006T235412Z
UID:6255-1759748400-1759752000@events.splitbunch.com
SUMMARY:ESL Conversation Club
DESCRIPTION:Date: Monday\, October 6\, 2025 Time: 11:00am – 12:00pm Presenter: Viviana Cois Location:  Teen Room   \n\n\n\nJoin us in-person at the Library for friendly and casual conversations with other English learners! This class is for adults 18+.
URL:https://events.splitbunch.com/event/esl-conversation-club-44/
CATEGORIES:Los Gatos Public Library
END:VEVENT
BEGIN:VEVENT
DTSTART;TZID=America/Los_Angeles:20251006T110000
DTEND;TZID=America/Los_Angeles:20251006T120000
DTSTAMP:20260421T234756
CREATED:20251007T005205Z
LAST-MODIFIED:20251007T005205Z
UID:6264-1759748400-1759752000@events.splitbunch.com
SUMMARY:ESL Conversation Club
DESCRIPTION:Date: Monday\, October 6\, 2025 Time: 11:00am – 12:00pm Presenter: Viviana Cois Location:  Teen Room   \n\n\n\nJoin us in-person at the Library for friendly and casual conversations with other English learners! This class is for adults 18+.
URL:https://events.splitbunch.com/event/esl-conversation-club-45/
CATEGORIES:Los Gatos Public Library
END:VEVENT
BEGIN:VEVENT
DTSTART;TZID=America/Los_Angeles:20251006T110000
DTEND;TZID=America/Los_Angeles:20251006T120000
DTSTAMP:20260421T234756
CREATED:20251007T015202Z
LAST-MODIFIED:20251007T015202Z
UID:6305-1759748400-1759752000@events.splitbunch.com
SUMMARY:ESL Conversation Club
DESCRIPTION:Date: Monday\, October 6\, 2025 Time: 11:00am – 12:00pm Presenter: Viviana Cois Location:  Teen Room   \n\n\n\nJoin us in-person at the Library for friendly and casual conversations with other English learners! This class is for adults 18+.
URL:https://events.splitbunch.com/event/esl-conversation-club-46/
CATEGORIES:Los Gatos Public Library
END:VEVENT
BEGIN:VEVENT
DTSTART;TZID=America/Los_Angeles:20251006T110000
DTEND;TZID=America/Los_Angeles:20251006T120000
DTSTAMP:20260421T234756
CREATED:20251007T025125Z
LAST-MODIFIED:20251007T025125Z
UID:6312-1759748400-1759752000@events.splitbunch.com
SUMMARY:ESL Conversation Club
DESCRIPTION:Date: Monday\, October 6\, 2025 Time: 11:00am – 12:00pm Presenter: Viviana Cois Location:  Teen Room   \n\n\n\nJoin us in-person at the Library for friendly and casual conversations with other English learners! This class is for adults 18+.
URL:https://events.splitbunch.com/event/esl-conversation-club-47/
CATEGORIES:Los Gatos Public Library
END:VEVENT
BEGIN:VEVENT
DTSTART;TZID=America/Los_Angeles:20251006T110000
DTEND;TZID=America/Los_Angeles:20251006T120000
DTSTAMP:20260421T234756
CREATED:20251007T035138Z
LAST-MODIFIED:20251007T035138Z
UID:6348-1759748400-1759752000@events.splitbunch.com
SUMMARY:ESL Conversation Club
DESCRIPTION:Date: Monday\, October 6\, 2025 Time: 11:00am – 12:00pm Presenter: Viviana Cois Location:  Teen Room   \n\n\n\nJoin us in-person at the Library for friendly and casual conversations with other English learners! This class is for adults 18+.
URL:https://events.splitbunch.com/event/esl-conversation-club-48/
CATEGORIES:Los Gatos Public Library
END:VEVENT
BEGIN:VEVENT
DTSTART;TZID=America/Los_Angeles:20251006T110000
DTEND;TZID=America/Los_Angeles:20251006T120000
DTSTAMP:20260421T234756
CREATED:20251007T045153Z
LAST-MODIFIED:20251007T045153Z
UID:6362-1759748400-1759752000@events.splitbunch.com
SUMMARY:ESL Conversation Club
DESCRIPTION:Date: Monday\, October 6\, 2025 Time: 11:00am – 12:00pm Presenter: Viviana Cois Location:  Teen Room   \n\n\n\nJoin us in-person at the Library for friendly and casual conversations with other English learners! This class is for adults 18+.
URL:https://events.splitbunch.com/event/esl-conversation-club-49/
CATEGORIES:Los Gatos Public Library
END:VEVENT
BEGIN:VEVENT
DTSTART;TZID=America/Los_Angeles:20251006T110000
DTEND;TZID=America/Los_Angeles:20251006T120000
DTSTAMP:20260421T234756
CREATED:20251007T055155Z
LAST-MODIFIED:20251007T055155Z
UID:6372-1759748400-1759752000@events.splitbunch.com
SUMMARY:ESL Conversation Club
DESCRIPTION:Date: Monday\, October 6\, 2025 Time: 11:00am – 12:00pm Presenter: Viviana Cois Location:  Teen Room   \n\n\n\nJoin us in-person at the Library for friendly and casual conversations with other English learners! This class is for adults 18+.
URL:https://events.splitbunch.com/event/esl-conversation-club-50/
CATEGORIES:Los Gatos Public Library
END:VEVENT
BEGIN:VEVENT
DTSTART;TZID=America/Los_Angeles:20251006T110000
DTEND;TZID=America/Los_Angeles:20251006T120000
DTSTAMP:20260421T234756
CREATED:20251007T065112Z
LAST-MODIFIED:20251007T065112Z
UID:6403-1759748400-1759752000@events.splitbunch.com
SUMMARY:ESL Conversation Club
DESCRIPTION:Date: Monday\, October 6\, 2025 Time: 11:00am – 12:00pm Presenter: Viviana Cois Location:  Teen Room   \n\n\n\nJoin us in-person at the Library for friendly and casual conversations with other English learners! This class is for adults 18+.
URL:https://events.splitbunch.com/event/esl-conversation-club-51/
CATEGORIES:Los Gatos Public Library
END:VEVENT
BEGIN:VEVENT
DTSTART;TZID=America/Los_Angeles:20251006T120000
DTEND;TZID=America/Los_Angeles:20251006T130000
DTSTAMP:20260421T234756
CREATED:20251006T005349Z
LAST-MODIFIED:20251006T195150Z
UID:6064-1759752000-1759755600@events.splitbunch.com
SUMMARY:Freedom to Read in Virtual Reality
DESCRIPTION:This program is a collaboration between San Jose Public Library and San Jose State University Library \n \nWe invite you to join us in our immersive VR space for the Freedom to Read Rally  (framevr.io/freedom-to-read)\, a virtual demonstration and gathering in support of intellectual freedom. The event will feature Betsy Gomez of Unite Against Book Bans  (UABB)\, Nick Higgins\, Chief Librarian of the Brooklyn Public Library\, and Tom Fay\, Chief Librarian of the Seattle Public Library\, representing Books Unbanned. They will be joined by Dr. Anthony Chow\, Director of the San José State University School of Information\, and John MacLeod\, Director of XR Libraries\, who will help lead the rally and discussion. Together\, these leaders will deliver brief talks on the urgent state of book banning today\, its projected impact on communities and libraries\, and strategies for resistance\, followed by youth from around the country sharing how they’ve been fighting banned books in their own communities. The rally will conclude with an open discussion\, giving participants an opportunity to reflect\, share\, and stand united in affirming the fundamental freedom to read. \n \n(Ages 16+ are welcome) \n \nRegister Here \nADA Accommodation Requests
URL:https://events.splitbunch.com/event/freedom-to-read-in-virtual-reality/
CATEGORIES:San Jose King Library
END:VEVENT
BEGIN:VEVENT
DTSTART;TZID=America/Los_Angeles:20251006T130000
DTEND;TZID=America/Los_Angeles:20251006T150000
DTSTAMP:20260421T234756
CREATED:20251006T005350Z
LAST-MODIFIED:20251006T215201Z
UID:6066-1759755600-1759762800@events.splitbunch.com
SUMMARY:Tech Mentor: One on One Computer Help
DESCRIPTION:Confused by your computer? Get personalized tech assistance from a Librarian at the Evergreen Branch Library! \nHelp is available for basic tasks such as connecting to WiFi\, using\nemail\, creating documents\, and accessing library resources such as\ne-books and virtual programs. We can also provide basic instructions for\n using devices such as laptops\, smartphones\, hotpots\, e-readers\, etc. \nWeekly Tech Mentor Schedule: \n\nMonday: 1:00 – 3:00pm\nWednesday: 12:00 – 1:00pm\n\nFree. No registration or appointment required. Just drop by and ask for assistance. \nADA Accommodation Requests
URL:https://events.splitbunch.com/event/tech-mentor-one-on-one-computer-help-9/
CATEGORIES:San Jose King Library
END:VEVENT
BEGIN:VEVENT
DTSTART;TZID=America/Los_Angeles:20251006T130000
DTEND;TZID=America/Los_Angeles:20251006T170000
DTSTAMP:20260421T234756
CREATED:20251004T195418Z
LAST-MODIFIED:20251006T235338Z
UID:5684-1759755600-1759770000@events.splitbunch.com
SUMMARY:Canceled: 1-on-1 Tech Help / Ayuda con la Tecnología
DESCRIPTION:Do you need help using a computer? Want to set up an email account? Our Tech Mentor is a bilingual (English / Spanish) volunteer who will do their best to assist you with your technology needs. No registration or appointment required. Just drop by and ask for assistance on Mondays (1pm-5pm).  \nThey can help you: \n\nOpen an email account\nConnect to Wi-Fi/hotspots\nUse laptops/Chromebooks\nUse Microsoft Office\n\nAnd more! \n———————————————————— \n¿Necesitas ayuda para usar una computadora? ¿Quieres configurar una cuenta de correo electrónico? Nuestro Mentor Técnico es un voluntario bilingüe (inglés/español) que hará todo lo posible para ayudarle con sus necesidades tecnológicas. No es necesario registrarse ni concertar cita. Simplemente visítenos y solicite ayuda los lunes (1pm-5pm).  \n\nEllos pueden ayudarte:\nAbrir una cuenta de correo electrónico\nConéctese a Wi-Fi/puntos de acceso\nUtilice computadoras portátiles/Chromebooks\nUtilice Microsoft Office\n\n¡Y más!
URL:https://events.splitbunch.com/event/canceled-1-on-1-tech-help-ayuda-con-la-tecnologia/
CATEGORIES:Gilroy Library
END:VEVENT
BEGIN:VEVENT
DTSTART;TZID=America/Los_Angeles:20251006T130000
DTEND;TZID=America/Los_Angeles:20251006T170000
DTSTAMP:20260421T234756
CREATED:20251006T005349Z
LAST-MODIFIED:20251006T235345Z
UID:6065-1759755600-1759770000@events.splitbunch.com
SUMMARY:Tech Mentor: One on One Computer Help
DESCRIPTION:Confused by your computer? Get personalized tech assistance. \nHelp is available for basic tasks such as: \n\nPrinting\nUsing email\nConnecting to WiFi\nCreating documents\nAccessing library resources such as e-books\n\nWe can also provide basic instructions for using devices such as laptops\, smartphones\, e-readers\, etc. \nFree. No registration or appointment required. Just drop by and ask for assistance. \nADA Accommodation Requests
URL:https://events.splitbunch.com/event/tech-mentor-one-on-one-computer-help-8/
CATEGORIES:San Jose King Library
END:VEVENT
BEGIN:VEVENT
DTSTART;TZID=America/Los_Angeles:20251006T130000
DTEND;TZID=America/Los_Angeles:20251006T183000
DTSTAMP:20260421T234756
CREATED:20251006T015142Z
LAST-MODIFIED:20251007T005218Z
UID:6078-1759755600-1759775400@events.splitbunch.com
SUMMARY:Coloring for Adults
DESCRIPTION:Coloring sheets and pencils are provided every Monday afternoon from 1:00-6:30 PM in the lobby of Bascom Library. Relax and explore your creativity with this great activity! All ages welcome to participate.                 \nADA Accommodation Requests
URL:https://events.splitbunch.com/event/coloring-for-adults-4/
CATEGORIES:San Jose King Library
END:VEVENT
BEGIN:VEVENT
DTSTART;TZID=America/Los_Angeles:20251006T140000
DTEND;TZID=America/Los_Angeles:20251006T163000
DTSTAMP:20260421T234756
CREATED:20251006T075241Z
LAST-MODIFIED:20251006T225200Z
UID:6127-1759759200-1759768200@events.splitbunch.com
SUMMARY:Banned Book Button Making
DESCRIPTION:Calling all book lovers! Let’s celebrate the freedom to read!  \nGet your button making on while spreading awareness about book banning and censorship!  \nDrop into the Cambrian Branch Library on designated afternoons during Banned Books Week to create buttons from a variety of designs. Participants are invited to make buttons for themselves as well as extras to share with the community. \nFree. No registration required. \nADA Accommodation Requests
URL:https://events.splitbunch.com/event/banned-book-button-making-3/
CATEGORIES:San Jose King Library
END:VEVENT
BEGIN:VEVENT
DTSTART;TZID=America/Los_Angeles:20251006T140000
DTEND;TZID=America/Los_Angeles:20251006T180000
DTSTAMP:20260421T234756
CREATED:20251006T075240Z
LAST-MODIFIED:20251007T005219Z
UID:6126-1759759200-1759773600@events.splitbunch.com
SUMMARY:Freedom to Read Scavenger Hunt
DESCRIPTION:Celebrate Banned Books Week with two fun scavenger hunts! Kids can explore the Children’s Room to uncover clues about challenged favorites\, while teens and adults can test their knowledge with a banned book quest of their own. Discover stories once silenced—and the joy of finding them again. \nFree. No registration required. While supplies last.  \nADA Accommodation Requests
URL:https://events.splitbunch.com/event/freedom-to-read-scavenger-hunt-35/
CATEGORIES:San Jose King Library
END:VEVENT
BEGIN:VEVENT
DTSTART;TZID=America/Los_Angeles:20251006T143000
DTEND;TZID=America/Los_Angeles:20251006T153000
DTSTAMP:20260421T234756
CREATED:20251006T075241Z
LAST-MODIFIED:20251006T215202Z
UID:6128-1759761000-1759764600@events.splitbunch.com
SUMMARY:Virtual English Language Learner (ELL) Conversation Club
DESCRIPTION:This program is presented by the Calabazas Branch of the San Jose Public Library.Join our wonderful volunteer instructor to improve your English conversation skills with other adult learners in a welcoming and respectful environment. Enhance your speaking and listening skills\, expand your vocabulary\, discuss current events\, and much more!\nFree.  \nPlease remember to sign in weekly in order to receive the weekly reminder email and the lesson plan topic. \nPlease make sure to register by clicking on the Register button. By providing an email address\, we will be able to send you a link to the Zoom meeting before the program begins. Registrations close 8 hours before each session. \nPLEASE NOTE: This is a virtual program that will meet online using Zoom. Zoom is a web conferencing platform. In order to join the program using Zoom\, participants must have access to a computer\, tablet\, or smart phone with an internet connection. Find out more about Zoom here. \nPlease do NOT register unless you are sure you are able to attend. \nADA Accommodation Requests
URL:https://events.splitbunch.com/event/virtual-english-language-learner-ell-conversation-club-5/
CATEGORIES:San Jose King Library
END:VEVENT
BEGIN:VEVENT
DTSTART;TZID=America/Los_Angeles:20251006T143000
DTEND;TZID=America/Los_Angeles:20251006T153000
DTSTAMP:20260421T234756
CREATED:20251006T075241Z
LAST-MODIFIED:20251006T215202Z
UID:6129-1759761000-1759764600@events.splitbunch.com
SUMMARY:Read to Succeed: Reading with a Police Officer
DESCRIPTION:Join a special guest from the San José Police Department (SJPD) at the Almaden Branch Library to share stories and the joys of reading to children as part of our Read to Succeed early education program. We’re excited to partner with the SJPD to bring this special program to the Almaden neighborhood.  \nWould you like your children to have fun listening to stories while building their vocabulary\, developing listening skills\, and enhancing their reading comprehension? Read to Succeed is a partnership between the San José Public Library and the SJPD to promote early literacy\, as well as build positive and inspiring interactions between police officers\, children and their caregivers through structured programming at SJPL locations.  \nFree. No registration is required. All ages welcome.  \nADA Accommodation Requests
URL:https://events.splitbunch.com/event/read-to-succeed-reading-with-a-police-officer-3/
CATEGORIES:San Jose King Library
END:VEVENT
BEGIN:VEVENT
DTSTART;TZID=America/Los_Angeles:20251006T150000
DTEND;TZID=America/Los_Angeles:20251006T160000
DTSTAMP:20260421T234756
CREATED:20251004T205257Z
LAST-MODIFIED:20251006T225204Z
UID:5691-1759762800-1759766400@events.splitbunch.com
SUMMARY:Snack Break-Free Snacks for Kids!/¡Meriendas Gratis Para Niños!
DESCRIPTION:Stop by the library and pick up a FREE after-school snack!  \n\nMonday – Friday\, 3:00-4:00 p.m. while supplies last.\nFor kids 18 years old and under.  \nSnacks provided by the YMCA.\nSeptember – May except for MHUSD school breaks.\n\n \nUSDA Nondiscrimination Statement  \nIn accordance with Federal civil rights law and U.S. Department of Agriculture (USDA) civil rights regulations and policies\, the USDA\, its Agencies\, offices\, and employees\, and institutions participating in or administering USDA programs are prohibited from discriminating based on race\, color\, national origin\, sex\, religious creed\, disability\, age\, political beliefs\, or reprisal or retaliation for prior civil rights activity in any program or activity conducted or funded by USDA.  This institution is an equal opportunity provider. \n¡Pasa por la biblioteca y recoge una merienda GRATIS después de la escuela! \n\nLunes – viernes\, 3:00-4:00 p.m. mientras duren las reservas.\nPara niños de 18 años y menores.\nMeriendas proporcionadas por la YMCA.\nDe Septiembre a Mayo excepto durante los descansos escolares de MHUSD.\n\nDeclaración de No Discriminación del USDA  \n \nDe conformidad con la Ley Federal de Derechos Civiles y los reglamentos y políticas de derechos civiles del Departamento de Agricultura de los EE. UU. (USDA\, por sus siglas en inglés)\, se prohíbe que el USDA\, sus agencias\, oficinas\, empleados e instituciones que participan o administran programas del USDA discriminen sobre la base de raza\, color\, nacionalidad\, sexo\, credo religioso\, discapacidad\, edad\, creencias políticas\, o en represalia o venganza por actividades previas de derechos civiles en algún programa o actividad realizados o financiados por el USDA. Esta institución es un proveedor que ofrece igualdad de oportunidades.
URL:https://events.splitbunch.com/event/snack-break-free-snacks-for-kids-meriendas-gratis-para-ninos-10/
CATEGORIES:Morgan Hill Library
END:VEVENT
BEGIN:VEVENT
DTSTART;TZID=America/Los_Angeles:20251006T150000
DTEND;TZID=America/Los_Angeles:20251006T160000
DTSTAMP:20260421T234756
CREATED:20251006T205128Z
LAST-MODIFIED:20251006T225201Z
UID:6211-1759762800-1759766400@events.splitbunch.com
SUMMARY:Everyone Can Create: Beginning Stop Motion Animation
DESCRIPTION:Children ages 8-14 are invited to this fun\, in-person introduction to stop motion animation. Participants will use the Stop Motion Studio app to make simple stop motion animations. Students will learn about the different tools used to create an animation which they will be able to use in a series of fun and engaging projects.   \n Participants will have an opportunity to showcase their work at the end of the session.  iPad devices will be provided to all participants to use. If you choose to bring your own iPad you would like to use\, you can download the free Stop Motion Studio app in advance.   \nAll materials will be provided. Free. Registration is recommended. Drop-ins are also accepted. \nThis series is taught in English only. \nADA Accommodation Requests
URL:https://events.splitbunch.com/event/everyone-can-create-beginning-stop-motion-animation/
CATEGORIES:San Jose King Library
END:VEVENT
BEGIN:VEVENT
DTSTART;TZID=America/Los_Angeles:20251006T150000
DTEND;TZID=America/Los_Angeles:20251006T160000
DTSTAMP:20260421T234756
CREATED:20251006T205129Z
LAST-MODIFIED:20251006T225201Z
UID:6212-1759762800-1759766400@events.splitbunch.com
SUMMARY:Mathema Adventures: A D&D-Inspired Math Games Program for Kids
DESCRIPTION:Are you interested in math? Do you want to improve your problem solving skills and understanding of math? Or do you enjoy math in general? Well\, come join us in this Dungeons-&- Dragons-inspired interactive and immersive adventure to improve your math skills! Journey through the world of Mathema to learn math skills to be used in school\, and to keep Mathema at peace! Recommended for kids in 1st to 5th grade. \nNo registration required. \nADA Accommodation Requests
URL:https://events.splitbunch.com/event/mathema-adventures-a-dd-inspired-math-games-program-for-kids/
CATEGORIES:San Jose King Library
END:VEVENT
BEGIN:VEVENT
DTSTART;TZID=America/Los_Angeles:20251006T150000
DTEND;TZID=America/Los_Angeles:20251006T160000
DTSTAMP:20260421T234756
CREATED:20251006T215203Z
LAST-MODIFIED:20251006T225201Z
UID:6226-1759762800-1759766400@events.splitbunch.com
SUMMARY:Reading to Children with Aysha
DESCRIPTION:Participating in the Reading to Children program is a great way for children to develop their imagination and spark a love for books\, reading and learning. Children will enjoy one-on-one or small group interaction with our volunteer. Kids are also welcome to practice reading to our volunteer. \nReading to Children will take place in the Children’s Area.  \nADA Accommodation Requests
URL:https://events.splitbunch.com/event/reading-to-children-with-aysha-2/
CATEGORIES:San Jose King Library
END:VEVENT
BEGIN:VEVENT
DTSTART;TZID=America/Los_Angeles:20251006T150000
DTEND;TZID=America/Los_Angeles:20251006T170000
DTSTAMP:20260421T234756
CREATED:20251006T195151Z
LAST-MODIFIED:20251006T235345Z
UID:6195-1759762800-1759770000@events.splitbunch.com
SUMMARY:1-on-1 Tech Help
DESCRIPTION:BY APPOINTMENT ONLY \nDo you need help using the computer? Don’t know how to send an email or set up a Zoom meeting? Our tech mentor can help! \nLearn how to: \n\nOpen an email account\nConnect to Wi-Fi/hotspots\nUse laptops/Chromebooks\nUse Microsoft Office\nFill out simple forms online\nUse social media\nNavigate the SJPL website\n\nAnd more! \nFree. REGISTRATION REQUIRED. AVAILIBILITY IS NOT GUARANTEED. \nFor more information or to make an appointment\, please call the branch at (408) 808-3077 or email yesenia.ortega@sjlibrary.org \n\nADA Accommodation Requests
URL:https://events.splitbunch.com/event/1-on-1-tech-help-3/
CATEGORIES:San Jose King Library
END:VEVENT
BEGIN:VEVENT
DTSTART;TZID=America/Los_Angeles:20251006T153000
DTEND;TZID=America/Los_Angeles:20251006T163000
DTSTAMP:20260421T234756
CREATED:20251001T005033Z
LAST-MODIFIED:20251001T005033Z
UID:4424-1759764600-1759768200@events.splitbunch.com
SUMMARY:Family Craft: Bottle Cap Castanets 
DESCRIPTION:Celebrate Latine and Hispanic Heritage Month with rhythm and creativity—join us to make your own bottle-cap castanets and explore the vibrant sounds of tradition! \nFamily Craft events are designed for children ages 4-11 and their adult companions to enjoy together. Crafts will be available while supplies last\, so please arrive on time. While registration isn’t required and doesn’t guarantee a spot\, it is recommended if you’d like a reminder about the event.
URL:https://events.splitbunch.com/event/family-craft-bottle-cap-castanets/
CATEGORIES:Palo Alto City Library
END:VEVENT
BEGIN:VEVENT
DTSTART;TZID=America/Los_Angeles:20251006T153000
DTEND;TZID=America/Los_Angeles:20251006T163000
DTSTAMP:20260421T234756
CREATED:20251001T005034Z
LAST-MODIFIED:20251006T225135Z
UID:4426-1759764600-1759768200@events.splitbunch.com
SUMMARY:Family Craft: Bottle Cap Castanets 
DESCRIPTION:Celebrate Latine and Hispanic Heritage Month with rhythm and creativity—join us to make your own bottle-cap castanets and explore the vibrant sounds of tradition! \nFamily Craft events are designed for children ages 4-11 and their adult companions to enjoy together. Crafts will be available while supplies last\, so please arrive on time. While registration isn’t required and doesn’t guarantee a spot\, it is recommended if you’d like a reminder about the event.
URL:https://events.splitbunch.com/event/family-craft-bottle-cap-castanets-2/
CATEGORIES:Palo Alto City Library
END:VEVENT
BEGIN:VEVENT
DTSTART;TZID=America/Los_Angeles:20251006T153000
DTEND;TZID=America/Los_Angeles:20251006T163000
DTSTAMP:20260421T234756
CREATED:20251004T215310Z
LAST-MODIFIED:20251006T225205Z
UID:5734-1759764600-1759768200@events.splitbunch.com
SUMMARY:LEGO Club for Grades K - 8
DESCRIPTION:Join us for an hour of fun building with LEGOs. Children will use their creativity and engineering skills to free build anything they can imagine. \nThis is a drop-in program. No registration needed. Space is limited and children will be asked to wait outside if capacity is reached. Younger siblings and parents are asked to wait outside. \nFor accessibility accommodations (ex. ASL)\, please fill out the online form at sccld.org/accessibility 7+days prior to the event. If you need assistance with the form\, speak with a staff member at your local library\, call (408) 540-3945\, or email us at ask@sccl.org.
URL:https://events.splitbunch.com/event/lego-club-for-grades-k-8/
CATEGORIES:Milpitas Library
END:VEVENT
BEGIN:VEVENT
DTSTART;TZID=America/Los_Angeles:20251006T153000
DTEND;TZID=America/Los_Angeles:20251006T163000
DTSTAMP:20260421T234756
CREATED:20251006T225201Z
LAST-MODIFIED:20251006T225201Z
UID:6233-1759764600-1759768200@events.splitbunch.com
SUMMARY:Game Zone
DESCRIPTION:Are you an expert at board and card games and want to demonstrate your skills\, or just want to learn the basics? Or maybe you’d like to sink the 8 ball at a game of pool? \nJoin us in the Teen Room at the Hillview Branch Library if you want to play board and card games\, shoot some hoops with our basketball arcade\, play some pool\, or just hang out! \nFree. No registration required. \nADA Accommodation Requests
URL:https://events.splitbunch.com/event/game-zone-2/
CATEGORIES:San Jose King Library
END:VEVENT
BEGIN:VEVENT
DTSTART;TZID=America/Los_Angeles:20251006T160000
DTEND;TZID=America/Los_Angeles:20251006T170000
DTSTAMP:20260421T234756
CREATED:20251006T225202Z
LAST-MODIFIED:20251006T235346Z
UID:6235-1759766400-1759770000@events.splitbunch.com
SUMMARY:Chess Club for Kids
DESCRIPTION:Come learn to play chess\, or just play a game! This is an informal and welcoming program for kids up to age 12 and their families. \nChess Club meets every Monday. Please check the website event listing for possible date cancellations and library holidays. \nADA Accommodation Requests
URL:https://events.splitbunch.com/event/chess-club-for-kids-3/
CATEGORIES:San Jose King Library
END:VEVENT
BEGIN:VEVENT
DTSTART;TZID=America/Los_Angeles:20251006T160000
DTEND;TZID=America/Los_Angeles:20251006T170000
DTSTAMP:20260421T234756
CREATED:20251006T235346Z
LAST-MODIFIED:20251006T235346Z
UID:6246-1759766400-1759770000@events.splitbunch.com
SUMMARY:Teen Crafternoon
DESCRIPTION:Teens are welcome to participate in our monthly crafternoon in the Teens Room. Each month we will have a different craft to share. Crafts are led by Teens for Teens. Bring your creativity and friends for a crafty afternoon.  \nMaterials will be provided. \nRecommended for teens.  \nFree. No registration is required. \nADA Accommodation Requests
URL:https://events.splitbunch.com/event/teen-crafternoon/
CATEGORIES:San Jose King Library
END:VEVENT
END:VCALENDAR