BEGIN:VCALENDAR
VERSION:2.0
PRODID:-//SplitBunch Events - ECPv6.15.13//NONSGML v1.0//EN
CALSCALE:GREGORIAN
METHOD:PUBLISH
X-ORIGINAL-URL:https://events.splitbunch.com
X-WR-CALDESC:Events for SplitBunch Events
REFRESH-INTERVAL;VALUE=DURATION:PT1H
X-Robots-Tag:noindex
X-PUBLISHED-TTL:PT1H
BEGIN:VTIMEZONE
TZID:America/Los_Angeles
BEGIN:DAYLIGHT
TZOFFSETFROM:-0800
TZOFFSETTO:-0700
TZNAME:PDT
DTSTART:20240310T100000
END:DAYLIGHT
BEGIN:STANDARD
TZOFFSETFROM:-0700
TZOFFSETTO:-0800
TZNAME:PST
DTSTART:20241103T090000
END:STANDARD
BEGIN:DAYLIGHT
TZOFFSETFROM:-0800
TZOFFSETTO:-0700
TZNAME:PDT
DTSTART:20250309T100000
END:DAYLIGHT
BEGIN:STANDARD
TZOFFSETFROM:-0700
TZOFFSETTO:-0800
TZNAME:PST
DTSTART:20251102T090000
END:STANDARD
BEGIN:DAYLIGHT
TZOFFSETFROM:-0800
TZOFFSETTO:-0700
TZNAME:PDT
DTSTART:20260308T100000
END:DAYLIGHT
BEGIN:STANDARD
TZOFFSETFROM:-0700
TZOFFSETTO:-0800
TZNAME:PST
DTSTART:20261101T090000
END:STANDARD
END:VTIMEZONE
BEGIN:VEVENT
DTSTART;TZID=America/Los_Angeles:20251005T000000
DTEND;TZID=America/Los_Angeles:20251005T235959
DTSTAMP:20260422T143554
CREATED:20251003T075252Z
LAST-MODIFIED:20251006T065138Z
UID:5234-1759622400-1759708799@events.splitbunch.com
SUMMARY:Banned Books Week
DESCRIPTION:Date: Sunday\, October 5\, 2025 Time: All Day Event  Location:     \nAt Los Gatos Library\, we believe: \n\nBooks are tools for understanding complex issues\, at any age.\nEveryone deserves to see themselves reflected in a library’s books.\nIndividuals should be trusted to make their own decisions about what to read.\n\nJoin us in celebrating your freedom to read!  This week\, come by the Library and take part in one of our Banned Books Week activities.   You can add a leaf to the tree in our Lobby\, see what our Teen Room would look like without censored books\, or check out a banned or challenged book from our collection.   
URL:https://events.splitbunch.com/event/banned-books-week/
CATEGORIES:Los Gatos Public Library
END:VEVENT
BEGIN:VEVENT
DTSTART;TZID=America/Los_Angeles:20251005T000000
DTEND;TZID=America/Los_Angeles:20251011T000000
DTSTAMP:20260422T143554
CREATED:20251004T235544Z
LAST-MODIFIED:20251011T065119Z
UID:5793-1759622400-1760140800@events.splitbunch.com
SUMMARY:Freedom to Read Scavenger Hunt
DESCRIPTION:Celebrate Banned Books Week with two fun scavenger hunts! Kids can explore the Children’s Area to uncover clues about challenged favorites\, while teens and adults can test their knowledge with a banned book quest of their own. Discover stories once silenced—and the joy of finding them again. \nStop by the Information Desk during our open hours from October 5-11 to pick up a scavenger hunt list.  \nFree. No registration required.  \nADA Accommodation Requests
URL:https://events.splitbunch.com/event/freedom-to-read-scavenger-hunt/
CATEGORIES:San Jose King Library
END:VEVENT
BEGIN:VEVENT
DTSTART;TZID=America/Los_Angeles:20251005T000000
DTEND;TZID=America/Los_Angeles:20251011T000000
DTSTAMP:20260422T143554
CREATED:20251004T235545Z
LAST-MODIFIED:20251011T065119Z
UID:5795-1759622400-1760140800@events.splitbunch.com
SUMMARY:Freedom to Read BINGO Reading Challenge
DESCRIPTION:Celebrate the freedom to read with Banned Books Bingo! Explore frequently challenged titles\, learn the stories behind them\, and reflect on the importance of protecting intellectual freedom.  \n \nPick up a bingo card and take on the challenge! How many of these Banned Books have you read? How many more can you read during Banned Books Week to get a BINGO? \n \nFree. No registration is required.
URL:https://events.splitbunch.com/event/freedom-to-read-bingo-reading-challenge/
CATEGORIES:San Jose King Library
END:VEVENT
BEGIN:VEVENT
DTSTART;TZID=America/Los_Angeles:20251005T000000
DTEND;TZID=America/Los_Angeles:20251011T000000
DTSTAMP:20260422T143554
CREATED:20251004T235546Z
LAST-MODIFIED:20251011T065120Z
UID:5796-1759622400-1760140800@events.splitbunch.com
SUMMARY:Freedom to Read Scavenger Hunt
DESCRIPTION:Celebrate Banned Books Week with two fun scavenger hunts! Kids can explore the Children’s Room to uncover clues about challenged favorites\, while teens and adults can test their knowledge with a banned book quest of their own. Discover stories once silenced—and the joy of finding them again. \nPlease pick up a scavenger hunt list at the Info Desk between October 5-11th. Small prizes are available for completion! \nFree. No registration required. \nADA Accommodation Requests
URL:https://events.splitbunch.com/event/freedom-to-read-scavenger-hunt-2/
CATEGORIES:San Jose King Library
END:VEVENT
BEGIN:VEVENT
DTSTART;TZID=America/Los_Angeles:20251005T000000
DTEND;TZID=America/Los_Angeles:20251011T000000
DTSTAMP:20260422T143554
CREATED:20251004T235546Z
LAST-MODIFIED:20251011T065120Z
UID:5797-1759622400-1760140800@events.splitbunch.com
SUMMARY:Freedom to Read Scavenger Hunt
DESCRIPTION:Celebrate Banned Books Week with two fun scavenger hunts! Kids can explore the Children’s Area to uncover clues about challenged favorites\, while teens and adults can test their knowledge with a banned book quest of their own. Discover stories once silenced—and the joy of finding them again. \nStop by the Information Desk during our open hours from October 5-11 to pick up a scavenger hunt list.  \nFree. No registration required.  \nADA Accommodation Requests
URL:https://events.splitbunch.com/event/freedom-to-read-scavenger-hunt-3/
CATEGORIES:San Jose King Library
END:VEVENT
BEGIN:VEVENT
DTSTART;TZID=America/Los_Angeles:20251005T000000
DTEND;TZID=America/Los_Angeles:20251011T000000
DTSTAMP:20260422T143554
CREATED:20251005T005353Z
LAST-MODIFIED:20251011T065120Z
UID:5814-1759622400-1760140800@events.splitbunch.com
SUMMARY:Freedom to Read: Scavenger Hunt
DESCRIPTION:Celebrate\n Banned Books Week with two fun scavenger hunts! Kids can explore the\nchildren’s area to uncover clues about challenged favorites\, while teens\n and adults can test their knowledge with a banned book quest of their\nown. Discover stories once silenced—and the joy of finding them again. \nScavenger hunt lists for all ages will be at the Information Desk. Small prizes are available for completion! \nFree. No registration required. \nADA Accommodation Requests
URL:https://events.splitbunch.com/event/freedom-to-read-scavenger-hunt-4/
CATEGORIES:San Jose King Library
END:VEVENT
BEGIN:VEVENT
DTSTART;TZID=America/Los_Angeles:20251005T000000
DTEND;TZID=America/Los_Angeles:20251011T000000
DTSTAMP:20260422T143554
CREATED:20251005T005353Z
LAST-MODIFIED:20251011T065120Z
UID:5815-1759622400-1760140800@events.splitbunch.com
SUMMARY:Freedom to Read Scavenger Hunt
DESCRIPTION:Celebrate Banned Books Week with two fun scavenger hunts! Kids can explore the Children’s Area to uncover clues about challenged favorites\, while teens and adults can test their knowledge with a banned book quest of their own. Discover stories once silenced—and the joy of finding them again. \nStop by the Information Desk during our open hours from October 5-11 to pick up a scavenger hunt list.  \nFree. No registration required. \nADA Accommodation Requests
URL:https://events.splitbunch.com/event/freedom-to-read-scavenger-hunt-5/
CATEGORIES:San Jose King Library
END:VEVENT
BEGIN:VEVENT
DTSTART;TZID=America/Los_Angeles:20251005T000000
DTEND;TZID=America/Los_Angeles:20251011T000000
DTSTAMP:20260422T143554
CREATED:20251011T075122Z
LAST-MODIFIED:20251011T075122Z
UID:7681-1759622400-1760140800@events.splitbunch.com
SUMMARY:Freedom to Read Scavenger Hunt
DESCRIPTION:Celebrate Banned Books Week with two fun scavenger hunts! Kids can explore the Children’s Area to uncover clues about challenged favorites\, while teens and adults can test their knowledge with a banned book quest of their own. Discover stories once silenced—and the joy of finding them again. \nStop by the Information Desk during our open hours from October 5-11 to pick up a scavenger hunt list.  \nFree. No registration required.  \nADA Accommodation Requests
URL:https://events.splitbunch.com/event/freedom-to-read-scavenger-hunt-289/
CATEGORIES:San Jose King Library
END:VEVENT
BEGIN:VEVENT
DTSTART;TZID=America/Los_Angeles:20251005T000000
DTEND;TZID=America/Los_Angeles:20251011T000000
DTSTAMP:20260422T143554
CREATED:20251011T075123Z
LAST-MODIFIED:20251011T075123Z
UID:7682-1759622400-1760140800@events.splitbunch.com
SUMMARY:Freedom to Read BINGO Reading Challenge
DESCRIPTION:Celebrate the freedom to read with Banned Books Bingo! Explore frequently challenged titles\, learn the stories behind them\, and reflect on the importance of protecting intellectual freedom.  \n \nPick up a bingo card and take on the challenge! How many of these Banned Books have you read? How many more can you read during Banned Books Week to get a BINGO? \n \nFree. No registration is required.
URL:https://events.splitbunch.com/event/freedom-to-read-bingo-reading-challenge-9/
CATEGORIES:San Jose King Library
END:VEVENT
BEGIN:VEVENT
DTSTART;TZID=America/Los_Angeles:20251005T000000
DTEND;TZID=America/Los_Angeles:20251011T000000
DTSTAMP:20260422T143554
CREATED:20251011T075123Z
LAST-MODIFIED:20251011T075123Z
UID:7683-1759622400-1760140800@events.splitbunch.com
SUMMARY:Freedom to Read Scavenger Hunt
DESCRIPTION:Celebrate Banned Books Week with two fun scavenger hunts! Kids can explore the Children’s Room to uncover clues about challenged favorites\, while teens and adults can test their knowledge with a banned book quest of their own. Discover stories once silenced—and the joy of finding them again. \nPlease pick up a scavenger hunt list at the Info Desk between October 5-11th. Small prizes are available for completion! \nFree. No registration required. \nADA Accommodation Requests
URL:https://events.splitbunch.com/event/freedom-to-read-scavenger-hunt-290/
CATEGORIES:San Jose King Library
END:VEVENT
BEGIN:VEVENT
DTSTART;TZID=America/Los_Angeles:20251005T000000
DTEND;TZID=America/Los_Angeles:20251011T000000
DTSTAMP:20260422T143554
CREATED:20251011T075124Z
LAST-MODIFIED:20251011T075124Z
UID:7684-1759622400-1760140800@events.splitbunch.com
SUMMARY:Freedom to Read Scavenger Hunt
DESCRIPTION:Celebrate Banned Books Week with two fun scavenger hunts! Kids can explore the Children’s Area to uncover clues about challenged favorites\, while teens and adults can test their knowledge with a banned book quest of their own. Discover stories once silenced—and the joy of finding them again. \nStop by the Information Desk during our open hours from October 5-11 to pick up a scavenger hunt list.  \nFree. No registration required.  \nADA Accommodation Requests
URL:https://events.splitbunch.com/event/freedom-to-read-scavenger-hunt-291/
CATEGORIES:San Jose King Library
END:VEVENT
BEGIN:VEVENT
DTSTART;TZID=America/Los_Angeles:20251005T000000
DTEND;TZID=America/Los_Angeles:20251011T000000
DTSTAMP:20260422T143554
CREATED:20251011T075124Z
LAST-MODIFIED:20251011T075124Z
UID:7685-1759622400-1760140800@events.splitbunch.com
SUMMARY:Freedom to Read Scavenger Hunt
DESCRIPTION:Celebrate Banned Books Week with two fun scavenger hunts! Kids can explore the Children’s Area to uncover clues about challenged favorites\, while teens and adults can test their knowledge with a banned book quest of their own. Discover stories once silenced—and the joy of finding them again. \nStop by the Information Desk during our open hours from October 5-11 to pick up a scavenger hunt list.  \nFree. No registration required. \nADA Accommodation Requests
URL:https://events.splitbunch.com/event/freedom-to-read-scavenger-hunt-292/
CATEGORIES:San Jose King Library
END:VEVENT
BEGIN:VEVENT
DTSTART;TZID=America/Los_Angeles:20251005T000000
DTEND;TZID=America/Los_Angeles:20251011T000000
DTSTAMP:20260422T143554
CREATED:20251011T075125Z
LAST-MODIFIED:20251011T075125Z
UID:7686-1759622400-1760140800@events.splitbunch.com
SUMMARY:Freedom to Read: Scavenger Hunt
DESCRIPTION:Celebrate\n Banned Books Week with two fun scavenger hunts! Kids can explore the\nchildren’s area to uncover clues about challenged favorites\, while teens\n and adults can test their knowledge with a banned book quest of their\nown. Discover stories once silenced—and the joy of finding them again. \nScavenger hunt lists for all ages will be at the Information Desk. Small prizes are available for completion! \nFree. No registration required. \nADA Accommodation Requests
URL:https://events.splitbunch.com/event/freedom-to-read-scavenger-hunt-293/
CATEGORIES:San Jose King Library
END:VEVENT
BEGIN:VEVENT
DTSTART;TZID=America/Los_Angeles:20251005T000000
DTEND;TZID=America/Los_Angeles:20251011T000000
DTSTAMP:20260422T143554
CREATED:20251011T085139Z
LAST-MODIFIED:20251011T085139Z
UID:7701-1759622400-1760140800@events.splitbunch.com
SUMMARY:Freedom to Read Scavenger Hunt
DESCRIPTION:Celebrate Banned Books Week with two fun scavenger hunts! Kids can explore the Children’s Area to uncover clues about challenged favorites\, while teens and adults can test their knowledge with a banned book quest of their own. Discover stories once silenced—and the joy of finding them again. \nStop by the Information Desk during our open hours from October 5-11 to pick up a scavenger hunt list.  \nFree. No registration required.  \nADA Accommodation Requests
URL:https://events.splitbunch.com/event/freedom-to-read-scavenger-hunt-297/
CATEGORIES:San Jose King Library
END:VEVENT
BEGIN:VEVENT
DTSTART;TZID=America/Los_Angeles:20251005T000000
DTEND;TZID=America/Los_Angeles:20251011T000000
DTSTAMP:20260422T143554
CREATED:20251011T085140Z
LAST-MODIFIED:20251011T085140Z
UID:7702-1759622400-1760140800@events.splitbunch.com
SUMMARY:Freedom to Read BINGO Reading Challenge
DESCRIPTION:Celebrate the freedom to read with Banned Books Bingo! Explore frequently challenged titles\, learn the stories behind them\, and reflect on the importance of protecting intellectual freedom.  \n \nPick up a bingo card and take on the challenge! How many of these Banned Books have you read? How many more can you read during Banned Books Week to get a BINGO? \n \nFree. No registration is required.
URL:https://events.splitbunch.com/event/freedom-to-read-bingo-reading-challenge-10/
CATEGORIES:San Jose King Library
END:VEVENT
BEGIN:VEVENT
DTSTART;TZID=America/Los_Angeles:20251005T000000
DTEND;TZID=America/Los_Angeles:20251011T000000
DTSTAMP:20260422T143554
CREATED:20251011T085140Z
LAST-MODIFIED:20251011T085140Z
UID:7703-1759622400-1760140800@events.splitbunch.com
SUMMARY:Freedom to Read Scavenger Hunt
DESCRIPTION:Celebrate Banned Books Week with two fun scavenger hunts! Kids can explore the Children’s Room to uncover clues about challenged favorites\, while teens and adults can test their knowledge with a banned book quest of their own. Discover stories once silenced—and the joy of finding them again. \nPlease pick up a scavenger hunt list at the Info Desk between October 5-11th. Small prizes are available for completion! \nFree. No registration required. \nADA Accommodation Requests
URL:https://events.splitbunch.com/event/freedom-to-read-scavenger-hunt-298/
CATEGORIES:San Jose King Library
END:VEVENT
BEGIN:VEVENT
DTSTART;TZID=America/Los_Angeles:20251005T000000
DTEND;TZID=America/Los_Angeles:20251011T000000
DTSTAMP:20260422T143554
CREATED:20251011T085141Z
LAST-MODIFIED:20251011T085141Z
UID:7704-1759622400-1760140800@events.splitbunch.com
SUMMARY:Freedom to Read Scavenger Hunt
DESCRIPTION:Celebrate Banned Books Week with two fun scavenger hunts! Kids can explore the Children’s Area to uncover clues about challenged favorites\, while teens and adults can test their knowledge with a banned book quest of their own. Discover stories once silenced—and the joy of finding them again. \nStop by the Information Desk during our open hours from October 5-11 to pick up a scavenger hunt list.  \nFree. No registration required.  \nADA Accommodation Requests
URL:https://events.splitbunch.com/event/freedom-to-read-scavenger-hunt-299/
CATEGORIES:San Jose King Library
END:VEVENT
BEGIN:VEVENT
DTSTART;TZID=America/Los_Angeles:20251005T000000
DTEND;TZID=America/Los_Angeles:20251011T000000
DTSTAMP:20260422T143554
CREATED:20251011T085141Z
LAST-MODIFIED:20251011T085141Z
UID:7705-1759622400-1760140800@events.splitbunch.com
SUMMARY:Freedom to Read Scavenger Hunt
DESCRIPTION:Celebrate Banned Books Week with two fun scavenger hunts! Kids can explore the Children’s Area to uncover clues about challenged favorites\, while teens and adults can test their knowledge with a banned book quest of their own. Discover stories once silenced—and the joy of finding them again. \nStop by the Information Desk during our open hours from October 5-11 to pick up a scavenger hunt list.  \nFree. No registration required. \nADA Accommodation Requests
URL:https://events.splitbunch.com/event/freedom-to-read-scavenger-hunt-300/
CATEGORIES:San Jose King Library
END:VEVENT
BEGIN:VEVENT
DTSTART;TZID=America/Los_Angeles:20251005T000000
DTEND;TZID=America/Los_Angeles:20251011T000000
DTSTAMP:20260422T143554
CREATED:20251011T085142Z
LAST-MODIFIED:20251011T085142Z
UID:7706-1759622400-1760140800@events.splitbunch.com
SUMMARY:Freedom to Read: Scavenger Hunt
DESCRIPTION:Celebrate\n Banned Books Week with two fun scavenger hunts! Kids can explore the\nchildren’s area to uncover clues about challenged favorites\, while teens\n and adults can test their knowledge with a banned book quest of their\nown. Discover stories once silenced—and the joy of finding them again. \nScavenger hunt lists for all ages will be at the Information Desk. Small prizes are available for completion! \nFree. No registration required. \nADA Accommodation Requests
URL:https://events.splitbunch.com/event/freedom-to-read-scavenger-hunt-301/
CATEGORIES:San Jose King Library
END:VEVENT
BEGIN:VEVENT
DTSTART;TZID=America/Los_Angeles:20251005T000000
DTEND;TZID=America/Los_Angeles:20251011T000000
DTSTAMP:20260422T143554
CREATED:20251011T095114Z
LAST-MODIFIED:20251011T095114Z
UID:7717-1759622400-1760140800@events.splitbunch.com
SUMMARY:Freedom to Read Scavenger Hunt
DESCRIPTION:Celebrate Banned Books Week with two fun scavenger hunts! Kids can explore the Children’s Area to uncover clues about challenged favorites\, while teens and adults can test their knowledge with a banned book quest of their own. Discover stories once silenced—and the joy of finding them again. \nStop by the Information Desk during our open hours from October 5-11 to pick up a scavenger hunt list.  \nFree. No registration required.  \nADA Accommodation Requests
URL:https://events.splitbunch.com/event/freedom-to-read-scavenger-hunt-304/
CATEGORIES:San Jose King Library
END:VEVENT
BEGIN:VEVENT
DTSTART;TZID=America/Los_Angeles:20251005T000000
DTEND;TZID=America/Los_Angeles:20251011T000000
DTSTAMP:20260422T143554
CREATED:20251011T095114Z
LAST-MODIFIED:20251011T095114Z
UID:7718-1759622400-1760140800@events.splitbunch.com
SUMMARY:Freedom to Read BINGO Reading Challenge
DESCRIPTION:Celebrate the freedom to read with Banned Books Bingo! Explore frequently challenged titles\, learn the stories behind them\, and reflect on the importance of protecting intellectual freedom.  \n \nPick up a bingo card and take on the challenge! How many of these Banned Books have you read? How many more can you read during Banned Books Week to get a BINGO? \n \nFree. No registration is required.
URL:https://events.splitbunch.com/event/freedom-to-read-bingo-reading-challenge-11/
CATEGORIES:San Jose King Library
END:VEVENT
BEGIN:VEVENT
DTSTART;TZID=America/Los_Angeles:20251005T000000
DTEND;TZID=America/Los_Angeles:20251011T000000
DTSTAMP:20260422T143554
CREATED:20251011T095115Z
LAST-MODIFIED:20251011T095115Z
UID:7719-1759622400-1760140800@events.splitbunch.com
SUMMARY:Freedom to Read Scavenger Hunt
DESCRIPTION:Celebrate Banned Books Week with two fun scavenger hunts! Kids can explore the Children’s Room to uncover clues about challenged favorites\, while teens and adults can test their knowledge with a banned book quest of their own. Discover stories once silenced—and the joy of finding them again. \nPlease pick up a scavenger hunt list at the Info Desk between October 5-11th. Small prizes are available for completion! \nFree. No registration required. \nADA Accommodation Requests
URL:https://events.splitbunch.com/event/freedom-to-read-scavenger-hunt-305/
CATEGORIES:San Jose King Library
END:VEVENT
BEGIN:VEVENT
DTSTART;TZID=America/Los_Angeles:20251005T000000
DTEND;TZID=America/Los_Angeles:20251011T000000
DTSTAMP:20260422T143554
CREATED:20251011T095115Z
LAST-MODIFIED:20251011T095115Z
UID:7720-1759622400-1760140800@events.splitbunch.com
SUMMARY:Freedom to Read Scavenger Hunt
DESCRIPTION:Celebrate Banned Books Week with two fun scavenger hunts! Kids can explore the Children’s Area to uncover clues about challenged favorites\, while teens and adults can test their knowledge with a banned book quest of their own. Discover stories once silenced—and the joy of finding them again. \nStop by the Information Desk during our open hours from October 5-11 to pick up a scavenger hunt list.  \nFree. No registration required.  \nADA Accommodation Requests
URL:https://events.splitbunch.com/event/freedom-to-read-scavenger-hunt-306/
CATEGORIES:San Jose King Library
END:VEVENT
BEGIN:VEVENT
DTSTART;TZID=America/Los_Angeles:20251005T000000
DTEND;TZID=America/Los_Angeles:20251011T000000
DTSTAMP:20260422T143554
CREATED:20251011T095116Z
LAST-MODIFIED:20251011T095116Z
UID:7721-1759622400-1760140800@events.splitbunch.com
SUMMARY:Freedom to Read Scavenger Hunt
DESCRIPTION:Celebrate Banned Books Week with two fun scavenger hunts! Kids can explore the Children’s Area to uncover clues about challenged favorites\, while teens and adults can test their knowledge with a banned book quest of their own. Discover stories once silenced—and the joy of finding them again. \nStop by the Information Desk during our open hours from October 5-11 to pick up a scavenger hunt list.  \nFree. No registration required. \nADA Accommodation Requests
URL:https://events.splitbunch.com/event/freedom-to-read-scavenger-hunt-307/
CATEGORIES:San Jose King Library
END:VEVENT
BEGIN:VEVENT
DTSTART;TZID=America/Los_Angeles:20251005T000000
DTEND;TZID=America/Los_Angeles:20251011T000000
DTSTAMP:20260422T143554
CREATED:20251011T095116Z
LAST-MODIFIED:20251011T095116Z
UID:7722-1759622400-1760140800@events.splitbunch.com
SUMMARY:Freedom to Read: Scavenger Hunt
DESCRIPTION:Celebrate\n Banned Books Week with two fun scavenger hunts! Kids can explore the\nchildren’s area to uncover clues about challenged favorites\, while teens\n and adults can test their knowledge with a banned book quest of their\nown. Discover stories once silenced—and the joy of finding them again. \nScavenger hunt lists for all ages will be at the Information Desk. Small prizes are available for completion! \nFree. No registration required. \nADA Accommodation Requests
URL:https://events.splitbunch.com/event/freedom-to-read-scavenger-hunt-308/
CATEGORIES:San Jose King Library
END:VEVENT
BEGIN:VEVENT
DTSTART;TZID=America/Los_Angeles:20251005T000000
DTEND;TZID=America/Los_Angeles:20251011T000000
DTSTAMP:20260422T143554
CREATED:20251011T105144Z
LAST-MODIFIED:20251011T105144Z
UID:7730-1759622400-1760140800@events.splitbunch.com
SUMMARY:Freedom to Read Scavenger Hunt
DESCRIPTION:Celebrate Banned Books Week with two fun scavenger hunts! Kids can explore the Children’s Area to uncover clues about challenged favorites\, while teens and adults can test their knowledge with a banned book quest of their own. Discover stories once silenced—and the joy of finding them again. \nStop by the Information Desk during our open hours from October 5-11 to pick up a scavenger hunt list.  \nFree. No registration required.  \nADA Accommodation Requests
URL:https://events.splitbunch.com/event/freedom-to-read-scavenger-hunt-311/
CATEGORIES:San Jose King Library
END:VEVENT
BEGIN:VEVENT
DTSTART;TZID=America/Los_Angeles:20251005T000000
DTEND;TZID=America/Los_Angeles:20251011T000000
DTSTAMP:20260422T143554
CREATED:20251011T105145Z
LAST-MODIFIED:20251011T105145Z
UID:7731-1759622400-1760140800@events.splitbunch.com
SUMMARY:Freedom to Read BINGO Reading Challenge
DESCRIPTION:Celebrate the freedom to read with Banned Books Bingo! Explore frequently challenged titles\, learn the stories behind them\, and reflect on the importance of protecting intellectual freedom.  \n \nPick up a bingo card and take on the challenge! How many of these Banned Books have you read? How many more can you read during Banned Books Week to get a BINGO? \n \nFree. No registration is required.
URL:https://events.splitbunch.com/event/freedom-to-read-bingo-reading-challenge-12/
CATEGORIES:San Jose King Library
END:VEVENT
BEGIN:VEVENT
DTSTART;TZID=America/Los_Angeles:20251005T000000
DTEND;TZID=America/Los_Angeles:20251011T000000
DTSTAMP:20260422T143554
CREATED:20251011T105145Z
LAST-MODIFIED:20251011T105145Z
UID:7732-1759622400-1760140800@events.splitbunch.com
SUMMARY:Freedom to Read Scavenger Hunt
DESCRIPTION:Celebrate Banned Books Week with two fun scavenger hunts! Kids can explore the Children’s Room to uncover clues about challenged favorites\, while teens and adults can test their knowledge with a banned book quest of their own. Discover stories once silenced—and the joy of finding them again. \nPlease pick up a scavenger hunt list at the Info Desk between October 5-11th. Small prizes are available for completion! \nFree. No registration required. \nADA Accommodation Requests
URL:https://events.splitbunch.com/event/freedom-to-read-scavenger-hunt-312/
CATEGORIES:San Jose King Library
END:VEVENT
BEGIN:VEVENT
DTSTART;TZID=America/Los_Angeles:20251005T000000
DTEND;TZID=America/Los_Angeles:20251011T000000
DTSTAMP:20260422T143554
CREATED:20251011T105146Z
LAST-MODIFIED:20251011T105146Z
UID:7733-1759622400-1760140800@events.splitbunch.com
SUMMARY:Freedom to Read Scavenger Hunt
DESCRIPTION:Celebrate Banned Books Week with two fun scavenger hunts! Kids can explore the Children’s Area to uncover clues about challenged favorites\, while teens and adults can test their knowledge with a banned book quest of their own. Discover stories once silenced—and the joy of finding them again. \nStop by the Information Desk during our open hours from October 5-11 to pick up a scavenger hunt list.  \nFree. No registration required.  \nADA Accommodation Requests
URL:https://events.splitbunch.com/event/freedom-to-read-scavenger-hunt-313/
CATEGORIES:San Jose King Library
END:VEVENT
BEGIN:VEVENT
DTSTART;TZID=America/Los_Angeles:20251005T000000
DTEND;TZID=America/Los_Angeles:20251011T000000
DTSTAMP:20260422T143554
CREATED:20251011T105146Z
LAST-MODIFIED:20251011T105146Z
UID:7734-1759622400-1760140800@events.splitbunch.com
SUMMARY:Freedom to Read Scavenger Hunt
DESCRIPTION:Celebrate Banned Books Week with two fun scavenger hunts! Kids can explore the Children’s Area to uncover clues about challenged favorites\, while teens and adults can test their knowledge with a banned book quest of their own. Discover stories once silenced—and the joy of finding them again. \nStop by the Information Desk during our open hours from October 5-11 to pick up a scavenger hunt list.  \nFree. No registration required. \nADA Accommodation Requests
URL:https://events.splitbunch.com/event/freedom-to-read-scavenger-hunt-314/
CATEGORIES:San Jose King Library
END:VEVENT
END:VCALENDAR