BEGIN:VCALENDAR
VERSION:2.0
PRODID:-//SplitBunch Events - ECPv6.15.13//NONSGML v1.0//EN
CALSCALE:GREGORIAN
METHOD:PUBLISH
X-WR-CALNAME:SplitBunch Events
X-ORIGINAL-URL:https://events.splitbunch.com
X-WR-CALDESC:Events for SplitBunch Events
REFRESH-INTERVAL;VALUE=DURATION:PT1H
X-Robots-Tag:noindex
X-PUBLISHED-TTL:PT1H
BEGIN:VTIMEZONE
TZID:America/Los_Angeles
BEGIN:DAYLIGHT
TZOFFSETFROM:-0800
TZOFFSETTO:-0700
TZNAME:PDT
DTSTART:20240310T100000
END:DAYLIGHT
BEGIN:STANDARD
TZOFFSETFROM:-0700
TZOFFSETTO:-0800
TZNAME:PST
DTSTART:20241103T090000
END:STANDARD
BEGIN:DAYLIGHT
TZOFFSETFROM:-0800
TZOFFSETTO:-0700
TZNAME:PDT
DTSTART:20250309T100000
END:DAYLIGHT
BEGIN:STANDARD
TZOFFSETFROM:-0700
TZOFFSETTO:-0800
TZNAME:PST
DTSTART:20251102T090000
END:STANDARD
BEGIN:DAYLIGHT
TZOFFSETFROM:-0800
TZOFFSETTO:-0700
TZNAME:PDT
DTSTART:20260308T100000
END:DAYLIGHT
BEGIN:STANDARD
TZOFFSETFROM:-0700
TZOFFSETTO:-0800
TZNAME:PST
DTSTART:20261101T090000
END:STANDARD
END:VTIMEZONE
BEGIN:VEVENT
DTSTART;TZID=America/Los_Angeles:20251123T000000
DTEND;TZID=America/Los_Angeles:20251123T000000
DTSTAMP:20260421T024714
CREATED:20251123T105153Z
LAST-MODIFIED:20251123T105153Z
UID:20097-1763856000-1763856000@events.splitbunch.com
SUMMARY:1:1 Tech Mentor / Giáo Viên Máy Tính
DESCRIPTION:Free.  By appointment only. \nOffered in-person or virtually via Zoom\, in English\, Español\, or Tiếng Việt. \nWould you like to find out more about computers? Learn at your own pace! \nWhat We Do: \n\nIntro to computer basics\nAccount or device setup\nIntro to Microsoft Office\nJob search & resume help\nNavigating/organizing email\nAnd more!\n\nContact Tiffany Lam by phone (408) 808-3056 or email at tiffany.lam@sjlibrary.org to make an appointment. \nADA Accommodation Requests
URL:https://events.splitbunch.com/event/11-tech-mentor-giao-vien-may-tinh-1377/
CATEGORIES:San Jose King Library
END:VEVENT
BEGIN:VEVENT
DTSTART;TZID=America/Los_Angeles:20251123T000000
DTEND;TZID=America/Los_Angeles:20251123T000000
DTSTAMP:20260421T024714
CREATED:20251123T105152Z
LAST-MODIFIED:20251123T105152Z
UID:20096-1763856000-1763856000@events.splitbunch.com
SUMMARY:Family Board Games
DESCRIPTION:Join us every Sunday to play fun board games! We have a fun variety of games set out for folks of all ages to enjoy. \nADA Accommodation Requests
URL:https://events.splitbunch.com/event/family-board-games-188/
CATEGORIES:San Jose King Library
END:VEVENT
BEGIN:VEVENT
DTSTART;TZID=America/Los_Angeles:20251123T000000
DTEND;TZID=America/Los_Angeles:20251123T000000
DTSTAMP:20260421T024714
CREATED:20251123T095200Z
LAST-MODIFIED:20251123T095200Z
UID:20092-1763856000-1763856000@events.splitbunch.com
SUMMARY:Art to Love Exhibit
DESCRIPTION:This exhibit is from the artist group\, Art Beyond the Obvious or ABO. The exhibit runs through Dec 30\, 2025 and is open to the public during the Library’s open hours.
URL:https://events.splitbunch.com/event/art-to-love-exhibit-3/
CATEGORIES:Saratoga Library
END:VEVENT
BEGIN:VEVENT
DTSTART;TZID=America/Los_Angeles:20251123T000000
DTEND;TZID=America/Los_Angeles:20251123T000000
DTSTAMP:20260421T024714
CREATED:20251123T095200Z
LAST-MODIFIED:20251123T095200Z
UID:20093-1763856000-1763856000@events.splitbunch.com
SUMMARY:An Autumn Picnic: A Crochet Exhibit
DESCRIPTION:**This exhibit is available to view everyday during the library’s open hours through December 31\, 2025.** \nFeast your eyes on delicious-looking delights including fruit\, cookies\, sandwiches\, sushi and fast food! \nThe exhibit is in the Saratoga Library lobby glass case display.
URL:https://events.splitbunch.com/event/an-autumn-picnic-a-crochet-exhibit-3/
CATEGORIES:Saratoga Library
END:VEVENT
BEGIN:VEVENT
DTSTART;TZID=America/Los_Angeles:20251123T000000
DTEND;TZID=America/Los_Angeles:20251123T000000
DTSTAMP:20260421T024715
CREATED:20251123T095159Z
LAST-MODIFIED:20251123T095159Z
UID:20091-1763856000-1763856000@events.splitbunch.com
SUMMARY:Sun and Sea Art Exhibit
DESCRIPTION:Anil Sawe’s exhibit consists of oil paintings on canvas depicting colorful sunsets and the power of the ocean. \nHis exhibit runs from Nov 1 to Dec 30\, 2025 and is open to the public during the Library’s open hours. \nAbout the Artist \nAnil was born in Bombay\, India\, and was an engineer by profession. However\, he always found a strong attachment to all visual arts. Now retired\, Anil lives in Aptos and loves to capture the ocean’s energy and vivid colors of the west coast sunsets in his paintings.
URL:https://events.splitbunch.com/event/sun-and-sea-art-exhibit-80/
CATEGORIES:Saratoga Library
END:VEVENT
BEGIN:VEVENT
DTSTART;TZID=America/Los_Angeles:20251123T000000
DTEND;TZID=America/Los_Angeles:20251123T000000
DTSTAMP:20260421T024715
CREATED:20251123T095127Z
LAST-MODIFIED:20251123T095127Z
UID:20085-1763856000-1763856000@events.splitbunch.com
SUMMARY:1:1 Tech Mentor / Giáo Viên Máy Tính
DESCRIPTION:Free.  By appointment only. \nOffered in-person or virtually via Zoom\, in English\, Español\, or Tiếng Việt. \nWould you like to find out more about computers? Learn at your own pace! \nWhat We Do: \n\nIntro to computer basics\nAccount or device setup\nIntro to Microsoft Office\nJob search & resume help\nNavigating/organizing email\nAnd more!\n\nContact Tiffany Lam by phone (408) 808-3056 or email at tiffany.lam@sjlibrary.org to make an appointment. \nADA Accommodation Requests
URL:https://events.splitbunch.com/event/11-tech-mentor-giao-vien-may-tinh-1376/
CATEGORIES:San Jose King Library
END:VEVENT
BEGIN:VEVENT
DTSTART;TZID=America/Los_Angeles:20251123T000000
DTEND;TZID=America/Los_Angeles:20251123T000000
DTSTAMP:20260421T024715
CREATED:20251123T095126Z
LAST-MODIFIED:20251123T095126Z
UID:20084-1763856000-1763856000@events.splitbunch.com
SUMMARY:Family Board Games
DESCRIPTION:Join us every Sunday to play fun board games! We have a fun variety of games set out for folks of all ages to enjoy. \nADA Accommodation Requests
URL:https://events.splitbunch.com/event/family-board-games-187/
CATEGORIES:San Jose King Library
END:VEVENT
BEGIN:VEVENT
DTSTART;TZID=America/Los_Angeles:20251123T000000
DTEND;TZID=America/Los_Angeles:20251123T000000
DTSTAMP:20260421T024715
CREATED:20251123T085227Z
LAST-MODIFIED:20251123T085227Z
UID:20082-1763856000-1763856000@events.splitbunch.com
SUMMARY:Art to Love Exhibit
DESCRIPTION:This exhibit is from the artist group\, Art Beyond the Obvious or ABO. The exhibit runs through Dec 30\, 2025 and is open to the public during the Library’s open hours.
URL:https://events.splitbunch.com/event/art-to-love-exhibit-2/
CATEGORIES:Saratoga Library
END:VEVENT
BEGIN:VEVENT
DTSTART;TZID=America/Los_Angeles:20251123T000000
DTEND;TZID=America/Los_Angeles:20251123T000000
DTSTAMP:20260421T024715
CREATED:20251123T085227Z
LAST-MODIFIED:20251123T085227Z
UID:20083-1763856000-1763856000@events.splitbunch.com
SUMMARY:An Autumn Picnic: A Crochet Exhibit
DESCRIPTION:**This exhibit is available to view everyday during the library’s open hours through December 31\, 2025.** \nFeast your eyes on delicious-looking delights including fruit\, cookies\, sandwiches\, sushi and fast food! \nThe exhibit is in the Saratoga Library lobby glass case display.
URL:https://events.splitbunch.com/event/an-autumn-picnic-a-crochet-exhibit-2/
CATEGORIES:Saratoga Library
END:VEVENT
BEGIN:VEVENT
DTSTART;TZID=America/Los_Angeles:20251123T000000
DTEND;TZID=America/Los_Angeles:20251123T000000
DTSTAMP:20260421T024715
CREATED:20251123T085226Z
LAST-MODIFIED:20251123T085226Z
UID:20081-1763856000-1763856000@events.splitbunch.com
SUMMARY:Sun and Sea Art Exhibit
DESCRIPTION:Anil Sawe’s exhibit consists of oil paintings on canvas depicting colorful sunsets and the power of the ocean. \nHis exhibit runs from Nov 1 to Dec 30\, 2025 and is open to the public during the Library’s open hours. \nAbout the Artist \nAnil was born in Bombay\, India\, and was an engineer by profession. However\, he always found a strong attachment to all visual arts. Now retired\, Anil lives in Aptos and loves to capture the ocean’s energy and vivid colors of the west coast sunsets in his paintings.
URL:https://events.splitbunch.com/event/sun-and-sea-art-exhibit-79/
CATEGORIES:Saratoga Library
END:VEVENT
BEGIN:VEVENT
DTSTART;TZID=America/Los_Angeles:20251123T000000
DTEND;TZID=America/Los_Angeles:20251123T000000
DTSTAMP:20260421T024715
CREATED:20251123T085209Z
LAST-MODIFIED:20251123T085209Z
UID:20075-1763856000-1763856000@events.splitbunch.com
SUMMARY:1:1 Tech Mentor / Giáo Viên Máy Tính
DESCRIPTION:Free.  By appointment only. \nOffered in-person or virtually via Zoom\, in English\, Español\, or Tiếng Việt. \nWould you like to find out more about computers? Learn at your own pace! \nWhat We Do: \n\nIntro to computer basics\nAccount or device setup\nIntro to Microsoft Office\nJob search & resume help\nNavigating/organizing email\nAnd more!\n\nContact Tiffany Lam by phone (408) 808-3056 or email at tiffany.lam@sjlibrary.org to make an appointment. \nADA Accommodation Requests
URL:https://events.splitbunch.com/event/11-tech-mentor-giao-vien-may-tinh-1375/
CATEGORIES:San Jose King Library
END:VEVENT
BEGIN:VEVENT
DTSTART;TZID=America/Los_Angeles:20251123T000000
DTEND;TZID=America/Los_Angeles:20251123T000000
DTSTAMP:20260421T024715
CREATED:20251123T085208Z
LAST-MODIFIED:20251123T085208Z
UID:20074-1763856000-1763856000@events.splitbunch.com
SUMMARY:Family Board Games
DESCRIPTION:Join us every Sunday to play fun board games! We have a fun variety of games set out for folks of all ages to enjoy. \nADA Accommodation Requests
URL:https://events.splitbunch.com/event/family-board-games-186/
CATEGORIES:San Jose King Library
END:VEVENT
BEGIN:VEVENT
DTSTART;TZID=America/Los_Angeles:20251123T000000
DTEND;TZID=America/Los_Angeles:20251123T000000
DTSTAMP:20260421T024715
CREATED:20251123T005151Z
LAST-MODIFIED:20251123T075204Z
UID:19995-1763856000-1763856000@events.splitbunch.com
SUMMARY:1:1 Tech Mentor / Giáo Viên Máy Tính
DESCRIPTION:Free.  By appointment only. \nOffered in-person or virtually via Zoom\, in English\, Español\, or Tiếng Việt. \nWould you like to find out more about computers? Learn at your own pace! \nWhat We Do: \n\nIntro to computer basics\nAccount or device setup\nIntro to Microsoft Office\nJob search & resume help\nNavigating/organizing email\nAnd more!\n\nContact Tiffany Lam by phone (408) 808-3056 or email at tiffany.lam@sjlibrary.org to make an appointment. \nADA Accommodation Requests
URL:https://events.splitbunch.com/event/11-tech-mentor-giao-vien-may-tinh-1367/
CATEGORIES:San Jose King Library
END:VEVENT
BEGIN:VEVENT
DTSTART;TZID=America/Los_Angeles:20251123T000000
DTEND;TZID=America/Los_Angeles:20251123T000000
DTSTAMP:20260421T024715
CREATED:20251123T005150Z
LAST-MODIFIED:20251123T075204Z
UID:19994-1763856000-1763856000@events.splitbunch.com
SUMMARY:Family Board Games
DESCRIPTION:Join us every Sunday to play fun board games! We have a fun variety of games set out for folks of all ages to enjoy. \nADA Accommodation Requests
URL:https://events.splitbunch.com/event/family-board-games-185/
CATEGORIES:San Jose King Library
END:VEVENT
BEGIN:VEVENT
DTSTART;TZID=America/Los_Angeles:20251123T000000
DTEND;TZID=America/Los_Angeles:20251123T000000
DTSTAMP:20260421T024715
CREATED:20251122T005212Z
LAST-MODIFIED:20251123T075144Z
UID:19743-1763856000-1763856000@events.splitbunch.com
SUMMARY:An Autumn Picnic: A Crochet Exhibit
DESCRIPTION:**This exhibit is available to view everyday during the library’s open hours through December 31\, 2025.** \nFeast your eyes on delicious-looking delights including fruit\, cookies\, sandwiches\, sushi and fast food! \nThe exhibit is in the Saratoga Library lobby glass case display.
URL:https://events.splitbunch.com/event/an-autumn-picnic-a-crochet-exhibit/
CATEGORIES:Saratoga Library
END:VEVENT
BEGIN:VEVENT
DTSTART;TZID=America/Los_Angeles:20251123T000000
DTEND;TZID=America/Los_Angeles:20251123T000000
DTSTAMP:20260421T024715
CREATED:20251122T005211Z
LAST-MODIFIED:20251123T075144Z
UID:19741-1763856000-1763856000@events.splitbunch.com
SUMMARY:Sun and Sea Art Exhibit
DESCRIPTION:Anil Sawe’s exhibit consists of oil paintings on canvas depicting colorful sunsets and the power of the ocean. \nHis exhibit runs from Nov 1 to Dec 30\, 2025 and is open to the public during the Library’s open hours. \nAbout the Artist \nAnil was born in Bombay\, India\, and was an engineer by profession. However\, he always found a strong attachment to all visual arts. Now retired\, Anil lives in Aptos and loves to capture the ocean’s energy and vivid colors of the west coast sunsets in his paintings.
URL:https://events.splitbunch.com/event/sun-and-sea-art-exhibit-78/
CATEGORIES:Saratoga Library
END:VEVENT
BEGIN:VEVENT
DTSTART;TZID=America/Los_Angeles:20251123T000000
DTEND;TZID=America/Los_Angeles:20251123T000000
DTSTAMP:20260421T024715
CREATED:20251122T005211Z
LAST-MODIFIED:20251123T075144Z
UID:19742-1763856000-1763856000@events.splitbunch.com
SUMMARY:Art to Love Exhibit
DESCRIPTION:This exhibit is from the artist group\, Art Beyond the Obvious or ABO. The exhibit runs through Dec 30\, 2025 and is open to the public during the Library’s open hours.
URL:https://events.splitbunch.com/event/art-to-love-exhibit/
CATEGORIES:Saratoga Library
END:VEVENT
BEGIN:VEVENT
DTSTART;TZID=America/Los_Angeles:20251122T163000
DTEND;TZID=America/Los_Angeles:20251122T173000
DTSTAMP:20260421T024715
CREATED:20251123T005150Z
LAST-MODIFIED:20251123T005150Z
UID:19993-1763829000-1763832600@events.splitbunch.com
SUMMARY:Korean for Beginners
DESCRIPTION:Hosted via Zoom by Educational Park Branch: \nStart your exciting journey into the Korean language with Korean for Beginners\, an online course designed especially for pre-teens and teens eager to explore the vibrant world of Korea. This virtual classroom offers a fun\, step-by-step pathway to mastering the basics of Korean communication while experiencing the culture that makes it unique. \nLearning Objectives \n\nHangul Mastery: Begin with the Korean alphabet and develop a solid foundation in reading and writing.\nPractical Language Skills: Learn everyday phrases and expressions to communicate naturally in Korean.\nCultural Immersion: Dive into Korean music\, dramas\, and food to connect language learning with culture.\n\nCourse Content \n\nUnits 1–3: Learn Hangul\, practice basic greetings\, express gratitude and apology\, and talk about daily routines and weather.\nUnits 4–6: Build real world communication skills\, asking for directions\, having casual conversations with friends\, and expressing emotions and feelings.\n\nFree. Intended for pre-teens and teens. Please register with a valid e-mail address to receive the Zoom invite. \n\n\nNo class on 10/18 and 11/29 \n\nADA Accommodation Request
URL:https://events.splitbunch.com/event/korean-for-beginners-5/
CATEGORIES:San Jose King Library
END:VEVENT
BEGIN:VEVENT
DTSTART;TZID=America/Los_Angeles:20251122T163000
DTEND;TZID=America/Los_Angeles:20251122T173000
DTSTAMP:20260421T024715
CREATED:20251123T005149Z
LAST-MODIFIED:20251123T005149Z
UID:19991-1763829000-1763832600@events.splitbunch.com
SUMMARY:Language and Culture Swap
DESCRIPTION:¿Hablas español y quieres aprender inglés?  \nSpeak English and want to learn Spanish?  \nBuild community with people from different linguistic and cultural backgrounds. Everyone has something to contribute!  \nConstruye comunidad con personas de diferentes antecedentes lingüísticos y culturales. ¡Todos tienen algo que aportar!  \n    \nIn this program\, Spanish-proficient participants with limited English skills will share their linguistic and cultural knowledge with English-proficient participants with limited Spanish skills and vice-versa to create a mutually enriching learning experience.  \nEn este programa\, los participantes con dominio del español y habilidades limitadas en inglés compartirán sus conocimientos lingüísticos y culturales con participantes con dominio del inglés y habilidades limitadas en español\, y viceversa\, para crear una experiencia de aprendizaje mutuamente enriquecedora.  \n \nFree. Registration requested but not required.ADA Accommodation Requests
URL:https://events.splitbunch.com/event/language-and-culture-swap-7/
CATEGORIES:San Jose King Library
END:VEVENT
BEGIN:VEVENT
DTSTART;TZID=America/Los_Angeles:20251122T163000
DTEND;TZID=America/Los_Angeles:20251122T173000
DTSTAMP:20260421T024715
CREATED:20251123T005149Z
LAST-MODIFIED:20251123T005149Z
UID:19992-1763829000-1763832600@events.splitbunch.com
SUMMARY:Switch It Up Saturdays
DESCRIPTION:Join us at Educational Park Branch and play on our Nintendo Switch every Saturday for an hour. \nCome with friends or meet new ones.   \nADA Accommodation Requests
URL:https://events.splitbunch.com/event/switch-it-up-saturdays-6/
CATEGORIES:San Jose King Library
END:VEVENT
BEGIN:VEVENT
DTSTART;TZID=America/Los_Angeles:20251122T160000
DTEND;TZID=America/Los_Angeles:20251122T180000
DTSTAMP:20260421T024715
CREATED:20251123T005148Z
LAST-MODIFIED:20251123T015119Z
UID:19990-1763827200-1763834400@events.splitbunch.com
SUMMARY:Tech Mentor
DESCRIPTION:Need help printing or using Word and Excel? Want to set up an email account? Need ideas on tech security? Questions on accessing SJPL eResources? From the basics to somewhat beyond\, volunteer tech mentors are here to help with thoughtful advice and problem-solving. We will do our best to assist you with your tech dilemmas. \nFree. No registration or appointment required. Just drop by and ask for assistance. \n \nADA Accommodation Requests
URL:https://events.splitbunch.com/event/tech-mentor-135/
CATEGORIES:San Jose King Library
END:VEVENT
BEGIN:VEVENT
DTSTART;TZID=America/Los_Angeles:20251122T160000
DTEND;TZID=America/Los_Angeles:20251122T173000
DTSTAMP:20260421T024715
CREATED:20251122T235121Z
LAST-MODIFIED:20251123T005147Z
UID:19972-1763827200-1763832600@events.splitbunch.com
SUMMARY:ESL Writing Club
DESCRIPTION:Practice basic writing skills in English with our tutor in a welcoming and respectful environment for adult learners. Sessions will include creating simple sentence structures\, some basic grammar\, and build up to writing a simple paragraph.  \nFree. No registration required. \nADA Accommodation Requests
URL:https://events.splitbunch.com/event/esl-writing-club-16/
CATEGORIES:San Jose King Library
END:VEVENT
BEGIN:VEVENT
DTSTART;TZID=America/Los_Angeles:20251122T160000
DTEND;TZID=America/Los_Angeles:20251122T170000
DTSTAMP:20260421T024715
CREATED:20251122T235124Z
LAST-MODIFIED:20251123T005148Z
UID:19977-1763827200-1763830800@events.splitbunch.com
SUMMARY:茶 Tea Hour @ Calabazas Library
DESCRIPTION:Explore the world of Chinese tea at our Tea Culture Salon. Discover diverse tea regions\, types\, and brewing techniques. Experience the unique flavors and essence of Chinese tea culture. Join Ms. Lisa on a journey to uncover the mysteries hidden within a simple leaf. The event will occur on the last Saturday of each month at 4:00 p.m. \n歡迎到茶文化沙龙探索中国茶的世界。 探索不同的茶产区、类型和冲泡技术。 和Lisa老师一起 体验中国茶文化的独特风味和精髓。 加入我们的旅程，揭开隐藏在一片不起眼的叶子中的秘密。每月最後一個週六下午 4:00 舉行活動.  \nFree.  No registration required. \n \nADA Accommodation Requests
URL:https://events.splitbunch.com/event/%e8%8c%b6-tea-hour-calabazas-library/
CATEGORIES:San Jose King Library
END:VEVENT
BEGIN:VEVENT
DTSTART;TZID=America/Los_Angeles:20251122T160000
DTEND;TZID=America/Los_Angeles:20251122T170000
DTSTAMP:20260421T024715
CREATED:20251122T235123Z
LAST-MODIFIED:20251123T005148Z
UID:19975-1763827200-1763830800@events.splitbunch.com
SUMMARY:Music and Movement in Vietnamese and English / Múa Hát Song Ngữ Anh-Việt
DESCRIPTION:Bilingual Music and Movement in English and Vietnamese is designed to accommodate a mix of ages and invites the entire family to participate in early literacy activities through songs\, rhymes\, finger plays\, and movement activities both in English and Vietnamese. Music and Movement is a fun and interactive experience for the whole family that promotes the joys of learning for all ages. This program is geared for children of all ages and their parents/caregivers!  \nStay for a fun craft starting at 5:30 PM after Music & Movement. \nOn the 4th Tuesday of each month\, a bilingual story will be read during this program. \nFree\, no registration is required. \nThis program is developed to align with the Early Education Quality Standards. \nADA Accommodation Requests \n\nMúa hát song ngữ bằng tiếng Anh và tiếng Việt được thiết kế để phù hợp với nhiều lứa tuổi. Chúng tôi mong muốn mời cả gia đình cùng tham gia vào các hoạt động này để cùng hát các bài đồng dao\, cùng vận động ngón tay và cùng nhảy múa vui vẻ. Âm nhạc và nhảy múa là một trải nghiệm thú vị và giúp cho cả gia đình tương tác tốt hơn\, thúc đẩy niềm vui học tập cho trẻ em ở mọi lứa tuổi. Mọi người đều được nhiệt liệt chào đón tại chương trình này.  \nChương trình làm thủ công sẽ bắt đầu vào 5:30 chiều\, sau phần múa hát song ngữ. \nKể chuyện song ngữ và múa hát cùng với làm thủ công vào thứ ba của tuần thứ tư trong tháng.  \nChương trình hoàn toàn miễn phí và không cần phải đăng ký trước. \nADA Yêu cầu Phương tiện để tham gia chương trình
URL:https://events.splitbunch.com/event/music-and-movement-in-vietnamese-and-english-mua-hat-song-ngu-anh-viet-11/
CATEGORIES:San Jose King Library
END:VEVENT
BEGIN:VEVENT
DTSTART;TZID=America/Los_Angeles:20251122T160000
DTEND;TZID=America/Los_Angeles:20251122T170000
DTSTAMP:20260421T024715
CREATED:20251122T235123Z
LAST-MODIFIED:20251123T005148Z
UID:19976-1763827200-1763830800@events.splitbunch.com
SUMMARY:Math = Fun (Math Olympiad)
DESCRIPTION:Want to grow in basic competitive math skills? Join us in Math = Fun and practice 4-5 elementary school and middle school Math Olympiad problems. See your math and problem-solving skills improve! For children 8-12 years old.  \nFree. Online registration required.  \nSessions are not related. Participants must sign up for every session they plan to attend. \nThis program meets weekly on Saturdays (8/9/2025 – 12/13/2025) from 4pm-5pm in the Santa Teresa Library Community Room. \nADA Accommodation Requests
URL:https://events.splitbunch.com/event/math-fun-math-olympiad-8/
CATEGORIES:San Jose King Library
END:VEVENT
BEGIN:VEVENT
DTSTART;TZID=America/Los_Angeles:20251122T160000
DTEND;TZID=America/Los_Angeles:20251122T170000
DTSTAMP:20260421T024715
CREATED:20251122T235122Z
LAST-MODIFIED:20251123T005147Z
UID:19973-1763827200-1763830800@events.splitbunch.com
SUMMARY:Reading Buddies
DESCRIPTION:Reading Buddies provides students in grades K-3 with an opportunity to improve their reading skills by working one-on-one with a volunteer. Reading Buddies creates a positive reading experience for beginning and developing readers and helps children build confidence as readers. Our volunteers will listen to children read and provide support in phonics\, sight words\, and comprehension. Students can bring their favorite book or choose from the available selection at the West Valley Branch Library. \nFree. Pre-registration not required. However\, reading sessions are available on a first come\, first served basis and the duration of reading sessions may be limited depending on the number of volunteers and/or participating students. \nADA Accommodation Requests
URL:https://events.splitbunch.com/event/reading-buddies-55/
CATEGORIES:San Jose King Library
END:VEVENT
BEGIN:VEVENT
DTSTART;TZID=America/Los_Angeles:20251122T160000
DTEND;TZID=America/Los_Angeles:20251122T170000
DTSTAMP:20260421T024715
CREATED:20251122T235122Z
LAST-MODIFIED:20251123T005148Z
UID:19974-1763827200-1763830800@events.splitbunch.com
SUMMARY:Let's Make Slime!
DESCRIPTION:Join us for an easy and fun little experiment in making slime! A great way to learn how mixing different materials can create something different and new! \nFree\, but supplies are limited. First come\, first served. \nADA Accommodation Requests
URL:https://events.splitbunch.com/event/lets-make-slime/
CATEGORIES:San Jose King Library
END:VEVENT
BEGIN:VEVENT
DTSTART;TZID=America/Los_Angeles:20251122T153000
DTEND;TZID=America/Los_Angeles:20251122T163000
DTSTAMP:20260421T024715
CREATED:20251123T075149Z
LAST-MODIFIED:20251123T075149Z
UID:20069-1763825400-1763829000@events.splitbunch.com
SUMMARY:Girls Who Code
DESCRIPTION:Date: Saturday\, November 22\, 2025 Time: 3:30pm – 4:30pm  Location:  Technology Lab   \nThe Los Gatos Library has partnered with @GirlsWhoCode to create a club meant for people ages 12-18 to learn to code and change the world! \n"What will I Learn? \nOur middle and high school Clubs encourage you to impact the community in a positive way through code.  In order to build the skills you need to make an impact\, you will learn how to code from our fun online tutorials and activities that will help you build animations\, games\, apps\, and other things that you dream up!  We have tutorials in Python\, HTML/CSS\, JavaScript\, and Java." \nEmail: signup@gwc-losgatos.org to register.
URL:https://events.splitbunch.com/event/girls-who-code-77/
CATEGORIES:Los Gatos Public Library
END:VEVENT
BEGIN:VEVENT
DTSTART;TZID=America/Los_Angeles:20251122T153000
DTEND;TZID=America/Los_Angeles:20251122T163000
DTSTAMP:20260421T024715
CREATED:20251123T065136Z
LAST-MODIFIED:20251123T065136Z
UID:20064-1763825400-1763829000@events.splitbunch.com
SUMMARY:Girls Who Code
DESCRIPTION:Date: Saturday\, November 22\, 2025 Time: 3:30pm – 4:30pm  Location:  Technology Lab   \nThe Los Gatos Library has partnered with @GirlsWhoCode to create a club meant for people ages 12-18 to learn to code and change the world! \n"What will I Learn? \nOur middle and high school Clubs encourage you to impact the community in a positive way through code.  In order to build the skills you need to make an impact\, you will learn how to code from our fun online tutorials and activities that will help you build animations\, games\, apps\, and other things that you dream up!  We have tutorials in Python\, HTML/CSS\, JavaScript\, and Java." \nEmail: signup@gwc-losgatos.org to register.
URL:https://events.splitbunch.com/event/girls-who-code-76/
CATEGORIES:Los Gatos Public Library
END:VEVENT
BEGIN:VEVENT
DTSTART;TZID=America/Los_Angeles:20251122T153000
DTEND;TZID=America/Los_Angeles:20251122T163000
DTSTAMP:20260421T024715
CREATED:20251123T055152Z
LAST-MODIFIED:20251123T055152Z
UID:20063-1763825400-1763829000@events.splitbunch.com
SUMMARY:Girls Who Code
DESCRIPTION:Date: Saturday\, November 22\, 2025 Time: 3:30pm – 4:30pm  Location:  Technology Lab   \nThe Los Gatos Library has partnered with @GirlsWhoCode to create a club meant for people ages 12-18 to learn to code and change the world! \n"What will I Learn? \nOur middle and high school Clubs encourage you to impact the community in a positive way through code.  In order to build the skills you need to make an impact\, you will learn how to code from our fun online tutorials and activities that will help you build animations\, games\, apps\, and other things that you dream up!  We have tutorials in Python\, HTML/CSS\, JavaScript\, and Java." \nEmail: signup@gwc-losgatos.org to register.
URL:https://events.splitbunch.com/event/girls-who-code-75/
CATEGORIES:Los Gatos Public Library
END:VEVENT
END:VCALENDAR