BEGIN:VCALENDAR
VERSION:2.0
PRODID:-//SplitBunch Events - ECPv6.15.13//NONSGML v1.0//EN
CALSCALE:GREGORIAN
METHOD:PUBLISH
X-WR-CALNAME:SplitBunch Events
X-ORIGINAL-URL:https://events.splitbunch.com
X-WR-CALDESC:Events for SplitBunch Events
REFRESH-INTERVAL;VALUE=DURATION:PT1H
X-Robots-Tag:noindex
X-PUBLISHED-TTL:PT1H
BEGIN:VTIMEZONE
TZID:America/Los_Angeles
BEGIN:DAYLIGHT
TZOFFSETFROM:-0800
TZOFFSETTO:-0700
TZNAME:PDT
DTSTART:20240310T100000
END:DAYLIGHT
BEGIN:STANDARD
TZOFFSETFROM:-0700
TZOFFSETTO:-0800
TZNAME:PST
DTSTART:20241103T090000
END:STANDARD
BEGIN:DAYLIGHT
TZOFFSETFROM:-0800
TZOFFSETTO:-0700
TZNAME:PDT
DTSTART:20250309T100000
END:DAYLIGHT
BEGIN:STANDARD
TZOFFSETFROM:-0700
TZOFFSETTO:-0800
TZNAME:PST
DTSTART:20251102T090000
END:STANDARD
BEGIN:DAYLIGHT
TZOFFSETFROM:-0800
TZOFFSETTO:-0700
TZNAME:PDT
DTSTART:20260308T100000
END:DAYLIGHT
BEGIN:STANDARD
TZOFFSETFROM:-0700
TZOFFSETTO:-0800
TZNAME:PST
DTSTART:20261101T090000
END:STANDARD
END:VTIMEZONE
BEGIN:VEVENT
DTSTART;TZID=America/Los_Angeles:20251122T110000
DTEND;TZID=America/Los_Angeles:20251122T120000
DTSTAMP:20260421T153541
CREATED:20251122T195122Z
LAST-MODIFIED:20251122T195122Z
UID:19879-1763809200-1763812800@events.splitbunch.com
SUMMARY:LEGO Club
DESCRIPTION:Get ready to build\, create\, and let your imagination soar at LEGO® Club! With LEGO® and Duplo® bricks\, families can drop in and bring their wildest ideas to life. Whether you’re constructing towers\, spaceships\, or entire worlds\, the possibilities are endless. Make lasting memories every Saturday and leave feeling like everything is awesome! \nNOTE: Recommended for children 5 and older. Small LEGO® pieces can be choking hazards for younger children. \nNo registration required. \nADA Accommodation Requests
URL:https://events.splitbunch.com/event/lego-club-29/
CATEGORIES:San Jose King Library
END:VEVENT
BEGIN:VEVENT
DTSTART;TZID=America/Los_Angeles:20251122T110000
DTEND;TZID=America/Los_Angeles:20251122T120000
DTSTAMP:20260421T153541
CREATED:20251122T195119Z
LAST-MODIFIED:20251122T195119Z
UID:19876-1763809200-1763812800@events.splitbunch.com
SUMMARY:Easy Tech Seniors
DESCRIPTION:Learn new skills in a relaxed and interactive group setting! EasyTech Seniors is led by Malhar\, a local high school student with a passion for helping senior citizens embrace technology to enrich their daily lives. \nFor the best experience we recommend bringing your own mobile device\, but you can also follow the demonstration on the projector screen and take notes. \n2025 Topics: \n\nNov 22nd – Google Translate – \nIn this month’s class\, our volunteer Malhar will demonstrate how to use Google Translate\, a helpful app for travel\, communication and learning. Use your phone to have conversations in other languages\, translate text\, lookup phrases and more. If time allows\, we will also go over Google Lens and other related tools. \n\nDec 13th – Medisafe app\n\n2026 Topics: \n\nJan 24th – Library apps for reading eBooks\nFeb 28th – Using Zoom\nMar 28th – Using ChatGPT to summarize long documents\, receipts\, etc. and to help answer questions\nApril 25th – Managing contracts effectively and setting reminders\nMay 23rd – TBD\nJune 27th – TBD\n\nFree. Class limited to 10 attendees. Registration Recommended. Walk-Ins welcome if space is available. \nADA Accommodation Requests
URL:https://events.splitbunch.com/event/easy-tech-seniors/
CATEGORIES:San Jose King Library
END:VEVENT
BEGIN:VEVENT
DTSTART;TZID=America/Los_Angeles:20251122T110000
DTEND;TZID=America/Los_Angeles:20251122T120000
DTSTAMP:20260421T153541
CREATED:20251122T195118Z
LAST-MODIFIED:20251122T195118Z
UID:19875-1763809200-1763812800@events.splitbunch.com
SUMMARY:OneinMath: Math Program for K-3rd
DESCRIPTION:Join us for a  free math program for Kindergarten to 3rd grade students to learn basic Arithmetic including addition\, subtraction\, multiplication and division from one digit to four digit numbers. It is taught by trained high school students. Focus is to build confidence and love for Math in young students. \nThis program is suitable for children K-3rd grade. \nFree.  \nADA Accommodation Requests
URL:https://events.splitbunch.com/event/oneinmath-math-program-for-k-3rd-4/
CATEGORIES:San Jose King Library
END:VEVENT
BEGIN:VEVENT
DTSTART;TZID=America/Los_Angeles:20251122T110000
DTEND;TZID=America/Los_Angeles:20251122T120000
DTSTAMP:20260421T153541
CREATED:20251122T185127Z
LAST-MODIFIED:20251122T195118Z
UID:19868-1763809200-1763812800@events.splitbunch.com
SUMMARY:Wee Love Science: Leaf Rubbings
DESCRIPTION:Embark on an exciting leaf exploration journey at the library\, where children delve into the diverse shapes\, colors\, and textures of autumn leaves. With simple materials\, children can learn more about the parts of a leaf with colorful creations to take home. \nADA Accommodation Requests
URL:https://events.splitbunch.com/event/wee-love-science-leaf-rubbings/
CATEGORIES:San Jose King Library
END:VEVENT
BEGIN:VEVENT
DTSTART;TZID=America/Los_Angeles:20251122T110000
DTEND;TZID=America/Los_Angeles:20251122T120000
DTSTAMP:20260421T153541
CREATED:20251122T185126Z
LAST-MODIFIED:20251122T195117Z
UID:19867-1763809200-1763812800@events.splitbunch.com
SUMMARY:Citizenship Interview Prep Workshop (Virtual)
DESCRIPTION:In this workshop\, a volunteer facilitator will act as an interviewer and conduct mock interviews with prospective citizens. These interviews imitate the actual ones that take place at a USCIS office\, with the volunteer asking questions about the information found on the N-400 form.  \nThis program does not cover the government and history portion of the Naturalization test. \n \nADA Accommodation Requests
URL:https://events.splitbunch.com/event/citizenship-interview-prep-workshop-virtual-2/
CATEGORIES:San Jose King Library
END:VEVENT
BEGIN:VEVENT
DTSTART;TZID=America/Los_Angeles:20251122T110000
DTEND;TZID=America/Los_Angeles:20251122T113000
DTSTAMP:20260421T153541
CREATED:20251123T075120Z
LAST-MODIFIED:20251123T075120Z
UID:20068-1763809200-1763811000@events.splitbunch.com
SUMMARY:Western Ballet Presents the Nutcracker
DESCRIPTION:Date: Saturday\, November 22\, 2025 Time: 11:00 am – 11:30 am  Location:  1st Floor Program Room   \nWestern Ballet’s The Nutcracker is a holiday tradition filled with delight. Join us for a short performance and a chance to meet the dancers up close.
URL:https://events.splitbunch.com/event/western-ballet-presents-the-nutcracker-14/
CATEGORIES:Mountain View Public Library
END:VEVENT
BEGIN:VEVENT
DTSTART;TZID=America/Los_Angeles:20251122T110000
DTEND;TZID=America/Los_Angeles:20251122T113000
DTSTAMP:20260421T153541
CREATED:20251123T065155Z
LAST-MODIFIED:20251123T065155Z
UID:20067-1763809200-1763811000@events.splitbunch.com
SUMMARY:Western Ballet Presents the Nutcracker
DESCRIPTION:Date: Saturday\, November 22\, 2025 Time: 11:00 am – 11:30 am  Location:  1st Floor Program Room   \nWestern Ballet’s The Nutcracker is a holiday tradition filled with delight. Join us for a short performance and a chance to meet the dancers up close.
URL:https://events.splitbunch.com/event/western-ballet-presents-the-nutcracker-13/
CATEGORIES:Mountain View Public Library
END:VEVENT
BEGIN:VEVENT
DTSTART;TZID=America/Los_Angeles:20251122T110000
DTEND;TZID=America/Los_Angeles:20251122T113000
DTSTAMP:20260421T153541
CREATED:20251123T055127Z
LAST-MODIFIED:20251123T055127Z
UID:20060-1763809200-1763811000@events.splitbunch.com
SUMMARY:Western Ballet Presents the Nutcracker
DESCRIPTION:Date: Saturday\, November 22\, 2025 Time: 11:00 am – 11:30 am  Location:  1st Floor Program Room   \nWestern Ballet’s The Nutcracker is a holiday tradition filled with delight. Join us for a short performance and a chance to meet the dancers up close.
URL:https://events.splitbunch.com/event/western-ballet-presents-the-nutcracker-12/
CATEGORIES:Mountain View Public Library
END:VEVENT
BEGIN:VEVENT
DTSTART;TZID=America/Los_Angeles:20251122T110000
DTEND;TZID=America/Los_Angeles:20251122T113000
DTSTAMP:20260421T153541
CREATED:20251123T045155Z
LAST-MODIFIED:20251123T045155Z
UID:20057-1763809200-1763811000@events.splitbunch.com
SUMMARY:Western Ballet Presents the Nutcracker
DESCRIPTION:Date: Saturday\, November 22\, 2025 Time: 11:00 am – 11:30 am  Location:  1st Floor Program Room   \nWestern Ballet’s The Nutcracker is a holiday tradition filled with delight. Join us for a short performance and a chance to meet the dancers up close.
URL:https://events.splitbunch.com/event/western-ballet-presents-the-nutcracker-11/
CATEGORIES:Mountain View Public Library
END:VEVENT
BEGIN:VEVENT
DTSTART;TZID=America/Los_Angeles:20251122T110000
DTEND;TZID=America/Los_Angeles:20251122T113000
DTSTAMP:20260421T153541
CREATED:20251123T035201Z
LAST-MODIFIED:20251123T035201Z
UID:20055-1763809200-1763811000@events.splitbunch.com
SUMMARY:Western Ballet Presents the Nutcracker
DESCRIPTION:Date: Saturday\, November 22\, 2025 Time: 11:00 am – 11:30 am  Location:  1st Floor Program Room   \nWestern Ballet’s The Nutcracker is a holiday tradition filled with delight. Join us for a short performance and a chance to meet the dancers up close.
URL:https://events.splitbunch.com/event/western-ballet-presents-the-nutcracker-10/
CATEGORIES:Mountain View Public Library
END:VEVENT
BEGIN:VEVENT
DTSTART;TZID=America/Los_Angeles:20251122T110000
DTEND;TZID=America/Los_Angeles:20251122T113000
DTSTAMP:20260421T153541
CREATED:20251123T025132Z
LAST-MODIFIED:20251123T025132Z
UID:20033-1763809200-1763811000@events.splitbunch.com
SUMMARY:Western Ballet Presents the Nutcracker
DESCRIPTION:Date: Saturday\, November 22\, 2025 Time: 11:00 am – 11:30 am  Location:  1st Floor Program Room   \nWestern Ballet’s The Nutcracker is a holiday tradition filled with delight. Join us for a short performance and a chance to meet the dancers up close.
URL:https://events.splitbunch.com/event/western-ballet-presents-the-nutcracker-9/
CATEGORIES:Mountain View Public Library
END:VEVENT
BEGIN:VEVENT
DTSTART;TZID=America/Los_Angeles:20251122T110000
DTEND;TZID=America/Los_Angeles:20251122T113000
DTSTAMP:20260421T153541
CREATED:20251123T015147Z
LAST-MODIFIED:20251123T015147Z
UID:20029-1763809200-1763811000@events.splitbunch.com
SUMMARY:Western Ballet Presents the Nutcracker
DESCRIPTION:Date: Saturday\, November 22\, 2025 Time: 11:00 am – 11:30 am  Location:  1st Floor Program Room   \nWestern Ballet’s The Nutcracker is a holiday tradition filled with delight. Join us for a short performance and a chance to meet the dancers up close.
URL:https://events.splitbunch.com/event/western-ballet-presents-the-nutcracker-8/
CATEGORIES:Mountain View Public Library
END:VEVENT
BEGIN:VEVENT
DTSTART;TZID=America/Los_Angeles:20251122T110000
DTEND;TZID=America/Los_Angeles:20251122T113000
DTSTAMP:20260421T153541
CREATED:20251123T005207Z
LAST-MODIFIED:20251123T005207Z
UID:20003-1763809200-1763811000@events.splitbunch.com
SUMMARY:Western Ballet Presents the Nutcracker
DESCRIPTION:Date: Saturday\, November 22\, 2025 Time: 11:00 am – 11:30 am  Location:  1st Floor Program Room   \nWestern Ballet’s The Nutcracker is a holiday tradition filled with delight. Join us for a short performance and a chance to meet the dancers up close.
URL:https://events.splitbunch.com/event/western-ballet-presents-the-nutcracker-7/
CATEGORIES:Mountain View Public Library
END:VEVENT
BEGIN:VEVENT
DTSTART;TZID=America/Los_Angeles:20251122T110000
DTEND;TZID=America/Los_Angeles:20251122T113000
DTSTAMP:20260421T153541
CREATED:20251122T235158Z
LAST-MODIFIED:20251122T235158Z
UID:19980-1763809200-1763811000@events.splitbunch.com
SUMMARY:Western Ballet Presents the Nutcracker
DESCRIPTION:Date: Saturday\, November 22\, 2025 Time: 11:00 am – 11:30 am  Location:  1st Floor Program Room   \nWestern Ballet’s The Nutcracker is a holiday tradition filled with delight. Join us for a short performance and a chance to meet the dancers up close.
URL:https://events.splitbunch.com/event/western-ballet-presents-the-nutcracker-6/
CATEGORIES:Mountain View Public Library
END:VEVENT
BEGIN:VEVENT
DTSTART;TZID=America/Los_Angeles:20251122T110000
DTEND;TZID=America/Los_Angeles:20251122T113000
DTSTAMP:20260421T153541
CREATED:20251122T225155Z
LAST-MODIFIED:20251122T225155Z
UID:19957-1763809200-1763811000@events.splitbunch.com
SUMMARY:Western Ballet Presents the Nutcracker
DESCRIPTION:Date: Saturday\, November 22\, 2025 Time: 11:00 am – 11:30 am  Location:  1st Floor Program Room   \nWestern Ballet’s The Nutcracker is a holiday tradition filled with delight. Join us for a short performance and a chance to meet the dancers up close.
URL:https://events.splitbunch.com/event/western-ballet-presents-the-nutcracker-5/
CATEGORIES:Mountain View Public Library
END:VEVENT
BEGIN:VEVENT
DTSTART;TZID=America/Los_Angeles:20251122T110000
DTEND;TZID=America/Los_Angeles:20251122T113000
DTSTAMP:20260421T153541
CREATED:20251122T215149Z
LAST-MODIFIED:20251122T215149Z
UID:19919-1763809200-1763811000@events.splitbunch.com
SUMMARY:Western Ballet Presents the Nutcracker
DESCRIPTION:Date: Saturday\, November 22\, 2025 Time: 11:00 am – 11:30 am  Location:  1st Floor Program Room   \nWestern Ballet’s The Nutcracker is a holiday tradition filled with delight. Join us for a short performance and a chance to meet the dancers up close.
URL:https://events.splitbunch.com/event/western-ballet-presents-the-nutcracker-4/
CATEGORIES:Mountain View Public Library
END:VEVENT
BEGIN:VEVENT
DTSTART;TZID=America/Los_Angeles:20251122T110000
DTEND;TZID=America/Los_Angeles:20251122T113000
DTSTAMP:20260421T153541
CREATED:20251122T205107Z
LAST-MODIFIED:20251122T205107Z
UID:19893-1763809200-1763811000@events.splitbunch.com
SUMMARY:Western Ballet Presents the Nutcracker
DESCRIPTION:Date: Saturday\, November 22\, 2025 Time: 11:00 am – 11:30 am  Location:  1st Floor Program Room   \nWestern Ballet’s The Nutcracker is a holiday tradition filled with delight. Join us for a short performance and a chance to meet the dancers up close.
URL:https://events.splitbunch.com/event/western-ballet-presents-the-nutcracker-3/
CATEGORIES:Mountain View Public Library
END:VEVENT
BEGIN:VEVENT
DTSTART;TZID=America/Los_Angeles:20251122T110000
DTEND;TZID=America/Los_Angeles:20251122T113000
DTSTAMP:20260421T153541
CREATED:20251122T195218Z
LAST-MODIFIED:20251122T195218Z
UID:19889-1763809200-1763811000@events.splitbunch.com
SUMMARY:Western Ballet Presents the Nutcracker
DESCRIPTION:Date: Saturday\, November 22\, 2025 Time: 11:00 am – 11:30 am  Location:  1st Floor Program Room   \nWestern Ballet’s The Nutcracker is a holiday tradition filled with delight. Join us for a short performance and a chance to meet the dancers up close.
URL:https://events.splitbunch.com/event/western-ballet-presents-the-nutcracker-2/
CATEGORIES:Mountain View Public Library
END:VEVENT
BEGIN:VEVENT
DTSTART;TZID=America/Los_Angeles:20251122T110000
DTEND;TZID=America/Los_Angeles:20251122T113000
DTSTAMP:20260421T153541
CREATED:20251122T085226Z
LAST-MODIFIED:20251122T185126Z
UID:19838-1763809200-1763811000@events.splitbunch.com
SUMMARY:Art of Living Meditation
DESCRIPTION:Why wait to find greater peace in your life? Join volunteers from the Art of Living Foundation every Sat. morning at 11:00 AM for a relaxing meditation session. Sessions will include simple yoga stretches that can be done sitting on a chair\, calming breathing techniques (pranayama)\, and a guided meditation. Art of Living volunteers will be available after the meditation to answer questions. Beginners are welcome. \nADA Accommodation Requests
URL:https://events.splitbunch.com/event/art-of-living-meditation-2/
CATEGORIES:San Jose King Library
END:VEVENT
BEGIN:VEVENT
DTSTART;TZID=America/Los_Angeles:20251122T110000
DTEND;TZID=America/Los_Angeles:20251122T113000
DTSTAMP:20260421T153541
CREATED:20251121T195119Z
LAST-MODIFIED:20251122T185113Z
UID:19683-1763809200-1763811000@events.splitbunch.com
SUMMARY:Family Storytime
DESCRIPTION:Join us for fun stories\, fingerplays\, action rhymes and songs! Please park strollers in the Children’s room. \nFor accessibility accommodations (ex. ASL)\, please fill out the online form at sccld.org/accessibility \n7+days prior to the event. If you need assistance with the form\, speak with a staff member at your \nlocal library\, call (408) 540-3945\, or email us at ask@sccl.org.
URL:https://events.splitbunch.com/event/family-storytime-105/
CATEGORIES:Saratoga Library
END:VEVENT
BEGIN:VEVENT
DTSTART;TZID=America/Los_Angeles:20251122T110000
DTEND;TZID=America/Los_Angeles:20251122T113000
DTSTAMP:20260421T153541
CREATED:20251121T045129Z
LAST-MODIFIED:20251122T185112Z
UID:19607-1763809200-1763811000@events.splitbunch.com
SUMMARY:Family Storytime
DESCRIPTION:Join us on Saturday mornings for Family Storytime. This thirty-minute story time features lots of movement\, singing\, and action. Early literacy focus is on picture books\, flannel board stories and fingerplays and an early introduction to group dynamics and socialization.  \nFor accessibility accommodations (ex. ASL)\, please fill out the online form at sccld.org/accessibility 7+days prior to the event. If you need assistance with the form\, speak with a staff member at your local library\, call (408) 540-3945\, or email us at ask@sccl.org.
URL:https://events.splitbunch.com/event/family-storytime-104/
CATEGORIES:Milpitas Library
END:VEVENT
BEGIN:VEVENT
DTSTART;TZID=America/Los_Angeles:20251122T110000
DTEND;TZID=America/Los_Angeles:20251122T113000
DTSTAMP:20260421T153541
CREATED:20251115T225153Z
LAST-MODIFIED:20251122T185147Z
UID:18064-1763809200-1763811000@events.splitbunch.com
SUMMARY:Family Storytime: Celebrate Thanksgiving!
DESCRIPTION:Join Librarian Alicia on Saturdays at 11:00 AM for Family Storytime at Mitchell Park Library. Come sing\, rhyme\, and read stories with us! While this storytime will be geared towards those older than 2 years\, all ages are welcome! \n\nMake sure to follow us on YouTube for more stories\, songs and rhymes\, including a playlist of all of our favorite songs to sing!
URL:https://events.splitbunch.com/event/family-storytime-celebrate-thanksgiving/
CATEGORIES:Palo Alto City Library
END:VEVENT
BEGIN:VEVENT
DTSTART;TZID=America/Los_Angeles:20251122T110000
DTEND;TZID=America/Los_Angeles:20251122T113000
DTSTAMP:20260421T153541
CREATED:20251022T075210Z
LAST-MODIFIED:20251122T185205Z
UID:10808-1763809200-1763811000@events.splitbunch.com
SUMMARY:Western Ballet Presents the Nutcracker
DESCRIPTION:Date: Saturday\, November 22\, 2025 Time: 11:00 am – 11:30 am  Location:  1st Floor Program Room   \nWestern Ballet’s The Nutcracker is a holiday tradition filled with delight. Join us for a short performance and a chance to meet the dancers up close.
URL:https://events.splitbunch.com/event/western-ballet-presents-the-nutcracker/
CATEGORIES:Mountain View Public Library
END:VEVENT
BEGIN:VEVENT
DTSTART;TZID=America/Los_Angeles:20251122T103000
DTEND;TZID=America/Los_Angeles:20251122T133000
DTSTAMP:20260421T153541
CREATED:20251122T015216Z
LAST-MODIFIED:20251122T205203Z
UID:19773-1763807400-1763818200@events.splitbunch.com
SUMMARY:Hillview - Overfelt Adult Education ESL Class
DESCRIPTION:Learn basic reading\, writing\, speaking\, and listening skills for free! \nThis class meets in-person at the Hillview Branch Library and is led by a certified English instructor in collaboration with Overfelt Adult Education Center at no cost. \nStarts: August 9\, 2025Ends: May 15\, 2026Meets: SaturdaysTime: 10:30 AM – 1:30 PMInstructor: Annalisa Hernandez \nFree. For more information:  \n\nCall Overfelt Adult Education Center at (408) 254-8100\nVisit Overfelt Adult Education Center at 1901 Cunningham Ave\, San Jose\, CA 95122 \nOr complete this form online to register\n\nADA Accommodation Request
URL:https://events.splitbunch.com/event/hillview-overfelt-adult-education-esl-class-8/
CATEGORIES:San Jose King Library
END:VEVENT
BEGIN:VEVENT
DTSTART;TZID=America/Los_Angeles:20251122T103000
DTEND;TZID=America/Los_Angeles:20251122T130000
DTSTAMP:20260421T153541
CREATED:20251122T085225Z
LAST-MODIFIED:20251122T205204Z
UID:19837-1763807400-1763816400@events.splitbunch.com
SUMMARY:The Princeton Review: SAT Practice Test
DESCRIPTION:Getting ready for your SAT test in December? Get some practice before the exam! \nTake the digital SAT practice test at the Almaden Branch library on The Princeton Review’s award-winning platform! You’ll have the opportunity to familiarize yourself with the format and content you’ll see on the actual test and receive a comprehensive\, personalized score report that will help you identify areas of strength and weakness and evaluate your overall performance. Teens are welcome to register for this free in-person digital SAT test and instantly receive your score.  \nRegistration is required!  Participants will receive instructions to access the online practice test site at least 24 hours before the test date.  \nADA Accommodation Requests \nSponsored by: Princeton Review
URL:https://events.splitbunch.com/event/the-princeton-review-sat-practice-test/
CATEGORIES:San Jose King Library
END:VEVENT
BEGIN:VEVENT
DTSTART;TZID=America/Los_Angeles:20251122T103000
DTEND;TZID=America/Los_Angeles:20251122T123000
DTSTAMP:20260421T153541
CREATED:20251121T045128Z
LAST-MODIFIED:20251122T195148Z
UID:19605-1763807400-1763814600@events.splitbunch.com
SUMMARY:Dino Day [Dino Fiesta]
DESCRIPTION:Celebrate DINO-vember at the Gilroy Library on Dino-Day! ✧🦕𖦹⋆｡°🦖🦴 \nInviting all families to join us in celebrating all things DINOSAUR! We will have a dino-storytime\, dino games\, dino costume crafts\, fossil digging\, dino eggs\, dino painting\, dino dance\, and a volcano eruption. Creativity\, discovery\, movement\, and community will be celebrated in a fantastic dinosaur fashion. See below for the timeline of activities: \n10:30 AM – Dino Storytime \n11:00 AM – All DINO activities begin \n12:10 PM – Dinosaur Stomp Dance  \n12:20 PM – Volcano Eruption \n\n¡Celebra DINO-viembre en la Biblioteca de Gilroy en Dino-Fiesta! ✧🦕𖦹⋆｡°🦖🦴 \n¡Invitamos a familias a unirse a nosotros para celebrar todo lo relacionado con los DINOSAURIOS! Tendremos una hora de cuentos con dinosaurios\, juegos de dinosaurios\, manualidades con disfraces de dinosaurios\, excavación de fósiles\, huevos de dinosaurio\, pintura de dinosaurios\, baile de dinosaurios y una erupción volcánica. Celebraremos la creatividad\, el descubrimiento\, el movimiento y la comunidad al estilo de los dinosaurios.  \n10:30 a. m. – Hora de cuentos de dinosaurios11:00 a. m. – Comienzan todas las actividades con dinosaurios12:10 p. m. – Baile de pisotones de dinosaurios12:20 p. m. – Erupción volcánica
URL:https://events.splitbunch.com/event/dino-day-dino-fiesta/
CATEGORIES:Gilroy Library
END:VEVENT
BEGIN:VEVENT
DTSTART;TZID=America/Los_Angeles:20251122T103000
DTEND;TZID=America/Los_Angeles:20251122T120000
DTSTAMP:20260421T153541
CREATED:20251122T025125Z
LAST-MODIFIED:20251122T195116Z
UID:19803-1763807400-1763812800@events.splitbunch.com
SUMMARY:Community Yoga and Heartfulness Meditation
DESCRIPTION:Experience the soothing calm of yoga and meditation\, as presented  by our partner\, The Heartfulness Institute each Saturday.  Yoga is taught by certified instructors and meditation is taught by a Heartfulness certified instructor.  \nYoga may be either chair or regular yoga. \nThe program structure is 75 minutes as described below: \n5 min Meet & greet35 min Yoga and Pranayama (different styles like hatha or arkaya yoga)5 min posture change break25 min Heartfulness Relaxation & Meditation (experience\, hands-on) \nThis program is geared to enrich the lives of adults and seniors. \nPlease note that all NEW participants will need to complete the Exercise Waiver in order to be able to participate.  The Exercise Waiver must be completed before your first day of participation.  Exercise Waivers will be provided at each meeting. \n \nADA Accommodation Requests
URL:https://events.splitbunch.com/event/community-yoga-and-heartfulness-meditation-3/
CATEGORIES:San Jose King Library
END:VEVENT
BEGIN:VEVENT
DTSTART;TZID=America/Los_Angeles:20251122T103000
DTEND;TZID=America/Los_Angeles:20251122T120000
DTSTAMP:20260421T153541
CREATED:20251122T015218Z
LAST-MODIFIED:20251122T195116Z
UID:19776-1763807400-1763812800@events.splitbunch.com
SUMMARY:Meditation for Adults
DESCRIPTION:Come join our meditation program to help relax your body and mind\, and improve your overall health and well-being.  \nADA Accommodation Requests
URL:https://events.splitbunch.com/event/meditation-for-adults-8/
CATEGORIES:San Jose King Library
END:VEVENT
BEGIN:VEVENT
DTSTART;TZID=America/Los_Angeles:20251122T103000
DTEND;TZID=America/Los_Angeles:20251122T120000
DTSTAMP:20260421T153541
CREATED:20251122T015217Z
LAST-MODIFIED:20251122T195116Z
UID:19774-1763807400-1763812800@events.splitbunch.com
SUMMARY:Adult Crafting MakerSpace
DESCRIPTION:Stop by the library and get crafty!  \nWe will have various art and craft supplies\, like markers\, paper\, scissors\, glues\, vinyl\, fabric\, yarn\, etc.\, available to use to create whatever you like. Make something for a friend or for yourself. Better yet\, bring a friend! You can also learn about and try out our crafting equipment\, such as:  \n\n2 Sewing Machines\nCricut Explore Air 2\nCricut Maker\nCricut Easy Press\n\nDon’t know what to make? No problem! We’ll have some suggestions for projects to try out. \nBe creative\, de-stress\, and have fun! \nFree. No registration. \nThis program is generously sponsored by the Friends of the Vineland Branch Library. \nADA Accommodation Requests
URL:https://events.splitbunch.com/event/adult-crafting-makerspace-3/
CATEGORIES:San Jose King Library
END:VEVENT
BEGIN:VEVENT
DTSTART;TZID=America/Los_Angeles:20251122T103000
DTEND;TZID=America/Los_Angeles:20251122T114500
DTSTAMP:20260421T153541
CREATED:20251122T015217Z
LAST-MODIFIED:20251122T185124Z
UID:19775-1763807400-1763811900@events.splitbunch.com
SUMMARY:Music and Movement
DESCRIPTION:Music and Movement is designed to accommodate a mix of ages and invites the entire family to participate in early literacy activities through songs\, rhymes\, finger plays\, and movement activities. Music and Movement is a fun and interactive experience for the whole family that promotes the joys of learning for all ages. This program is geared for children of all ages and their parents/caregivers!  \nFree\, 50 person maximum. Story Time tickets required. Another event\, Music and Movement B will start at 11:15 for those that weren’t able to make it inside for this event. \nSeating for Storytime is available on a first-come\, first-served basis. A limited number of tickets will be distributed at the Information Desk 30 minutes prior to the start of Storytime. \n\nThis program is developed to align with the Early Education Quality Standards. \nADA Accommodations Requests
URL:https://events.splitbunch.com/event/music-and-movement-16/
CATEGORIES:San Jose King Library
END:VEVENT
END:VCALENDAR